Workbook

Sheet Planilha Orçamentária
B2: PREFEITURA MUNICIPAL DE SÃO ROQUE DO CANAÃ
B8: PLANILHA ORÇAMENTÁRIA
B9: OBRA: Reforma Unidade de Saúde Ethevaldo Francisco Roldi
B10: LOCAL: Rua Olivio Perini- n: 107, Cinco Casinhas - São Roque do Canaã | G10: BDI: | H10: MATERIAL | I10: GERAL | J10: DATA
B11: REFERÊNCIAS (PLANILHA): DER/ES EDIFICAÇÕES – NOVEMBRO/2023, Sem Desoneração: Encargos Sociais: 157,27% | H11: 0.1557 | I11: 0.3325 | J11: FEVEREIRO/2024
B12: REFERÊNCIAS (COMPOSIÇÕES): DER/ES EDIFICAÇÕES; SINAPI; ORSE; SCO RIO – NOVEMBRO/2023, Sem Desoneração: Encargos Sociais de acordo com cada órgão referencial | L12: 0.2229
B13: ITEM | C13: CÓDIGO | D13: REF. | E13: DESCRIÇÃO | F13: UND | G13: QUANT. | H13: UNIT. S/ BDI | I13: UNIT. C/ BDI | J13: TOTAL
B14: 1 | E14: INSTALAÇÃO DO CANTEIRO DE OBRAS
B15: 1.1 | C15: 20305 | D15: =VLOOKUP(C15,'SERVIÇOS SINAPI-DER NOV-2023'!$A$2:$E$890400,2,0) -> DER/ES | E15: =VLOOKUP(C15,'SERVIÇOS SINAPI-DER NOV-2023'!$A$2:$E$890400,3,0) -> Placa de obra nas dimensões de 2.0 x 4.0 m, padrão DER | F15: =VLOOKUP(C15,'SERVIÇOS SINAPI-DER NOV-2023'!$A$2:$E$890400,4,0) -> m2 | G15: =VLOOKUP(C15,'Memória de Cálculo'!B11:G531,6,0) -> 8 | H15: =VLOOKUP(C15,'SERVIÇOS SINAPI-DER NOV-2023'!$A$2:$E$890400,5,0) -> 329.94 | I15: =H15*(1+$L$12) -> 403.48363 | J15: =G15*I15 -> 3227.869 | L15: =C15 -> 20305 | M15: =B15 -> 1.1 | N15: =F15 -> m2 | O15: =E15 -> Placa de obra nas dimensões de 2.0 x 4.0 m, padrão DER
B16: 1.2 | C16: 20702 | D16: =VLOOKUP(C16,'SERVIÇOS SINAPI-DER NOV-2023'!$A$2:$E$890400,2,0) -> DER/ES | E16: =VLOOKUP(C16,'SERVIÇOS SINAPI-DER NOV-2023'!$A$2:$E$890400,3,0) -> Barracão para almoxarifado área de 10.90m2, de chapa de compensado de 12mm e pontalete 8x8cm, piso cimentado e cobertura de telhas de fibrocimento de 6mm, incl. ponto de luz, conf. projeto (1 utilização) | F16: =VLOOKUP(C16,'SERVIÇOS SINAPI-DER NOV-2023'!$A$2:$E$890400,4,0) -> m2 | G16: =VLOOKUP(C16,'Memória de Cálculo'!B12:G532,6,0) -> 10.9 | H16: =VLOOKUP(C16,'SERVIÇOS SINAPI-DER NOV-2023'!$A$2:$E$890400,5,0) -> 611.26 | I16: =H16*(1+$L$12) -> 747.50985 | J16: =G16*I16 -> 8147.8574 | L16: =C16 -> 20702 | M16: =B16 -> 1.2 | N16: =F16 -> m2 | O16: =E16 -> Barracão para almoxarifado área de 10.90m2, de chapa de compensado de 12mm e pontalete 8x8cm, piso cimentado e cobertura de telhas de fibrocimento de 6mm, incl. ponto de luz, conf. projeto (1 utilização)
B17: Total do item | J17: =SUM(J15:J16) -> 11375.726 | L17: =C17 -> 0 | M17: =B17 -> Total do item | N17: =F17 -> 0 | O17: =E17 -> 0
B19: 2 | E19: SERVIÇOS PRELIMINARES | L19: =C19 -> 0 | M19: =B19 -> 2 | N19: =F19 -> 0 | O19: =E19 -> SERVIÇOS PRELIMINARES
B20: 2.1 | C20: 10209 | D20: =VLOOKUP(C20,'SERVIÇOS SINAPI-DER NOV-2023'!$A$2:$E$890400,2,0) -> DER/ES | E20: =VLOOKUP(C20,'SERVIÇOS SINAPI-DER NOV-2023'!$A$2:$E$890400,3,0) -> Demolição de alvenaria | F20: =VLOOKUP(C20,'SERVIÇOS SINAPI-DER NOV-2023'!$A$2:$E$890400,4,0) -> m3 | G20: =VLOOKUP(C20,'Memória de Cálculo'!B16:G536,6,0) -> 18.91 | H20: =VLOOKUP(C20,'SERVIÇOS SINAPI-DER NOV-2023'!$A$2:$E$890400,5,0) -> 57.46 | I20: =H20*(1+$L$12) -> 70.267834 | J20: =G20*I20 -> 1328.7647 | L20: =C20 -> 10209 | M20: =B20 -> 2.1 | N20: =F20 -> m3 | O20: =E20 -> Demolição de alvenaria
B21: 2.2 | C21: 10246 | D21: =VLOOKUP(C21,'SERVIÇOS SINAPI-DER NOV-2023'!$A$2:$E$890400,2,0) -> DER/ES | E21: =VLOOKUP(C21,'SERVIÇOS SINAPI-DER NOV-2023'!$A$2:$E$890400,3,0) -> Lixamento de parede com pintura antiga PVA para recebimento de nova camada de tinta | F21: =VLOOKUP(C21,'SERVIÇOS SINAPI-DER NOV-2023'!$A$2:$E$890400,4,0) -> m2 | G21: =VLOOKUP(C21,'Memória de Cálculo'!B17:G538,6,0) -> 463.58 | H21: =VLOOKUP(C21,'SERVIÇOS SINAPI-DER NOV-2023'!$A$2:$E$890400,5,0) -> 3.61 | I21: =H21*(1+$L$12) -> 4.414669 | J21: =G21*I21 -> 2046.5523 | L21: =C21 -> 10246 | M21: =B21 -> 2.2 | N21: =F21 -> m2 | O21: =E21 -> Lixamento de parede com pintura antiga PVA para recebimento de nova camada de tinta
B22: 2.3 | C22: 10225 | D22: =VLOOKUP(C22,'SERVIÇOS SINAPI-DER NOV-2023'!$A$2:$E$890400,2,0) -> DER/ES | E22: =VLOOKUP(C22,'SERVIÇOS SINAPI-DER NOV-2023'!$A$2:$E$890400,3,0) -> Retirada de bancada de pia | F22: =VLOOKUP(C22,'SERVIÇOS SINAPI-DER NOV-2023'!$A$2:$E$890400,4,0) -> m2 | G22: =VLOOKUP(C22,'Memória de Cálculo'!B17:G539,6,0) -> 8.88 | H22: =VLOOKUP(C22,'SERVIÇOS SINAPI-DER NOV-2023'!$A$2:$E$890400,5,0) -> 23.77 | I22: =H22*(1+$L$12) -> 29.068333 | J22: =G22*I22 -> 258.1268 | L22: =C22 -> 10225 | M22: =B22 -> 2.3 | N22: =F22 -> m2 | O22: =E22 -> Retirada de bancada de pia
B23: 2.4 | C23: 10214 | D23: =VLOOKUP(C23,'SERVIÇOS SINAPI-DER NOV-2023'!$A$2:$E$890400,2,0) -> DER/ES | E23: =VLOOKUP(C23,'SERVIÇOS SINAPI-DER NOV-2023'!$A$2:$E$890400,3,0) -> Retirada de portas e janelas de madeira, inclusive batentes | F23: =VLOOKUP(C23,'SERVIÇOS SINAPI-DER NOV-2023'!$A$2:$E$890400,4,0) -> m2 | G23: =VLOOKUP(C23,'Memória de Cálculo'!B18:G540,6,0) -> 15.96 | H23: =VLOOKUP(C23,'SERVIÇOS SINAPI-DER NOV-2023'!$A$2:$E$890400,5,0) -> 15.32 | I23: =H23*(1+$L$12) -> 18.734828 | J23: =G23*I23 -> 299.00785 | L23: =C23 -> 10214 | M23: =B23 -> 2.4 | N23: =F23 -> m2 | O23: =E23 -> Retirada de portas e janelas de madeira, inclusive batentes
B24: 2.5 | C24: 10208 | D24: =VLOOKUP(C24,'SERVIÇOS SINAPI-DER NOV-2023'!$A$2:$E$890400,2,0) -> DER/ES | E24: =VLOOKUP(C24,'SERVIÇOS SINAPI-DER NOV-2023'!$A$2:$E$890400,3,0) -> Retirada de revestimento antigo em reboco | F24: =VLOOKUP(C24,'SERVIÇOS SINAPI-DER NOV-2023'!$A$2:$E$890400,4,0) -> m2 | G24: =VLOOKUP(C24,'Memória de Cálculo'!B20:G543,6,0) -> 63.43 | H24: =VLOOKUP(C24,'SERVIÇOS SINAPI-DER NOV-2023'!$A$2:$E$890400,5,0) -> 9.58 | I24: =H24*(1+$L$12) -> 11.715382 | J24: =G24*I24 -> 743.10668 | L24: =C24 -> 10208 | M24: =B24 -> 2.5 | N24: =F24 -> m2 | O24: =E24 -> Retirada de revestimento antigo em reboco
B25: 2.6 | C25: 10259 | D25: =VLOOKUP(C25,'SERVIÇOS SINAPI-DER NOV-2023'!$A$2:$E$890400,2,0) -> DER/ES | E25: =VLOOKUP(C25,'SERVIÇOS SINAPI-DER NOV-2023'!$A$2:$E$890400,3,0) -> Retirada de rodapé de madeira ou cerâmica | F25: =VLOOKUP(C25,'SERVIÇOS SINAPI-DER NOV-2023'!$A$2:$E$890400,4,0) -> m | G25: =VLOOKUP(C25,'Memória de Cálculo'!B22:G545,6,0) -> 252.38 | H25: =VLOOKUP(C25,'SERVIÇOS SINAPI-DER NOV-2023'!$A$2:$E$890400,5,0) -> 2.23 | I25: =H25*(1+$L$12) -> 2.727067 | J25: =G25*I25 -> 688.25717 | L25: =C25 -> 10259 | M25: =B25 -> 2.6 | N25: =F25 -> m | O25: =E25 -> Retirada de rodapé de madeira ou cerâmica
B26: 2.7 | C26: 10215 | D26: =VLOOKUP(C26,'SERVIÇOS SINAPI-DER NOV-2023'!$A$2:$E$890400,2,0) -> DER/ES | E26: =VLOOKUP(C26,'SERVIÇOS SINAPI-DER NOV-2023'!$A$2:$E$890400,3,0) -> Retirada de esquadrias metálicas | F26: =VLOOKUP(C26,'SERVIÇOS SINAPI-DER NOV-2023'!$A$2:$E$890400,4,0) -> m2 | G26: =VLOOKUP(C26,'Memória de Cálculo'!B23:G546,6,0) -> 7.8 | H26: =VLOOKUP(C26,'SERVIÇOS SINAPI-DER NOV-2023'!$A$2:$E$890400,5,0) -> 9.58 | I26: =H26*(1+$L$12) -> 11.715382 | J26: =G26*I26 -> 91.37998 | L26: =C26 -> 10215 | M26: =B26 -> 2.7 | N26: =F26 -> m2 | O26: =E26 -> Retirada de esquadrias metálicas
B27: 2.8 | C27: 10323 | D27: =VLOOKUP(C27,'SERVIÇOS SINAPI-DER NOV-2023'!$A$2:$E$890400,2,0) -> DER/ES | E27: =VLOOKUP(C27,'SERVIÇOS SINAPI-DER NOV-2023'!$A$2:$E$890400,3,0) -> Retirada de torneiras e registros | F27: =VLOOKUP(C27,'SERVIÇOS SINAPI-DER NOV-2023'!$A$2:$E$890400,4,0) -> und | G27: =VLOOKUP(C27,'Memória de Cálculo'!B24:G547,6,0) -> 1 | H27: =VLOOKUP(C27,'SERVIÇOS SINAPI-DER NOV-2023'!$A$2:$E$890400,5,0) -> 10.48 | I27: =H27*(1+$L$12) -> 12.815992 | J27: =G27*I27 -> 12.815992 | L27: =C27 -> 10323 | M27: =B27 -> 2.8 | N27: =F27 -> und | O27: =E27 -> Retirada de torneiras e registros
B28: 2.9 | C28: 10271 | D28: =VLOOKUP(C28,'SERVIÇOS SINAPI-DER NOV-2023'!$A$2:$E$890400,2,0) -> DER/ES | E28: =VLOOKUP(C28,'SERVIÇOS SINAPI-DER NOV-2023'!$A$2:$E$890400,3,0) -> Retirada de caixas/quadros elétricos | F28: =VLOOKUP(C28,'SERVIÇOS SINAPI-DER NOV-2023'!$A$2:$E$890400,4,0) -> und | G28: =VLOOKUP(C28,'Memória de Cálculo'!B25:G548,6,0) -> 2 | H28: =VLOOKUP(C28,'SERVIÇOS SINAPI-DER NOV-2023'!$A$2:$E$890400,5,0) -> 14.23 | I28: =H28*(1+$L$12) -> 17.401867 | J28: =G28*I28 -> 34.803734 | L28: =C28 -> 10271 | M28: =B28 -> 2.9 | N28: =F28 -> und | O28: =E28 -> Retirada de caixas/quadros elétricos
B29: 2.10 | C29: 10240 | D29: =VLOOKUP(C29,'SERVIÇOS SINAPI-DER NOV-2023'!$A$2:$E$890400,2,0) -> DER/ES | E29: =VLOOKUP(C29,'SERVIÇOS SINAPI-DER NOV-2023'!$A$2:$E$890400,3,0) -> Retirada de pontos elétricos (luminárias, interruptores e tomadas) | F29: =VLOOKUP(C29,'SERVIÇOS SINAPI-DER NOV-2023'!$A$2:$E$890400,4,0) -> und | G29: =VLOOKUP(C29,'Memória de Cálculo'!B26:G549,6,0) -> 1 | H29: =VLOOKUP(C29,'SERVIÇOS SINAPI-DER NOV-2023'!$A$2:$E$890400,5,0) -> 10.48 | I29: =H29*(1+$L$12) -> 12.815992 | J29: =G29*I29 -> 12.815992 | L29: =C29 -> 10240 | M29: =B29 -> 2.10 | N29: =F29 -> und | O29: =E29 -> Retirada de pontos elétricos (luminárias, interruptores e tomadas)
B30: 2.11 | C30: 10264 | D30: =VLOOKUP(C30,'SERVIÇOS SINAPI-DER NOV-2023'!$A$2:$E$890400,2,0) -> DER/ES | E30: =VLOOKUP(C30,'SERVIÇOS SINAPI-DER NOV-2023'!$A$2:$E$890400,3,0) -> Demolição de piso granilite | F30: =VLOOKUP(C30,'SERVIÇOS SINAPI-DER NOV-2023'!$A$2:$E$890400,4,0) -> m2 | G30: =VLOOKUP(C30,'Memória de Cálculo'!B23:G546,6,0) -> 319.3 | H30: =VLOOKUP(C30,'SERVIÇOS SINAPI-DER NOV-2023'!$A$2:$E$890400,5,0) -> 26.59 | I30: =H30*(1+$L$12) -> 32.516911 | J30: =G30*I30 -> 10382.65 | L30: =C30 -> 10264 | M30: =B30 -> 2.11 | N30: =F30 -> m2 | O30: =E30 -> Demolição de piso granilite
B31: 2.12 | C31: 142202 | D31: =VLOOKUP(C31,'SERVIÇOS SINAPI-DER NOV-2023'!$A$2:$E$890400,2,0) -> DER/ES | E31: =VLOOKUP(C31,'SERVIÇOS SINAPI-DER NOV-2023'!$A$2:$E$890400,3,0) -> Abertura e fechamento de rasgos em alvenaria, para passagem de tubulações, diâm. 11/4" a 2" | F31: =VLOOKUP(C31,'SERVIÇOS SINAPI-DER NOV-2023'!$A$2:$E$890400,4,0) -> m | G31: =VLOOKUP(C31,'Memória de Cálculo'!B24:G547,6,0) -> 7.6 | H31: =VLOOKUP(C31,'SERVIÇOS SINAPI-DER NOV-2023'!$A$2:$E$890400,5,0) -> 18.34 | I31: =H31*(1+$L$12) -> 22.427986 | J31: =G31*I31 -> 170.45269 | L31: =C31 -> 142202 | M31: =B31 -> 2.12 | N31: =F31 -> m | O31: =E31 -> Abertura e fechamento de rasgos em alvenaria, para passagem de tubulações, diâm. 11/4" a 2"
B32: 2.13 | C32: 10238 | D32: =VLOOKUP(C32,'SERVIÇOS SINAPI-DER NOV-2023'!$A$2:$E$890400,2,0) -> DER/ES | E32: =VLOOKUP(C32,'SERVIÇOS SINAPI-DER NOV-2023'!$A$2:$E$890400,3,0) -> Apicoamento de superfície com revestimento em argamassa | F32: =VLOOKUP(C32,'SERVIÇOS SINAPI-DER NOV-2023'!$A$2:$E$890400,4,0) -> m2 | G32: =VLOOKUP(C32,'Memória de Cálculo'!B25:G548,6,0) -> 36.85 | H32: =VLOOKUP(C32,'SERVIÇOS SINAPI-DER NOV-2023'!$A$2:$E$890400,5,0) -> 9.58 | I32: =H32*(1+$L$12) -> 11.715382 | J32: =G32*I32 -> 431.71183 | L32: =C32 -> 10238 | M32: =B32 -> 2.13 | N32: =F32 -> m2 | O32: =E32 -> Apicoamento de superfície com revestimento em argamassa
B33: 2.14 | C33: COMP-01 | E33: Remoção de vidro temperado fixado em perfil u. | F33: m2 | G33: =VLOOKUP(C33,'Memória de Cálculo'!B22:G549,6,0) -> 5.52 | H33: ='COMP-01'!J17 -> 12.644 | I33: =H33*(1+$L$12) -> 15.462348 | J33: =G33*I33 -> 85.352159 | L33: =C33 -> COMP-01 | M33: =B33 -> 2.14 | N33: =F33 -> m2 | O33: =E33 -> Remoção de vidro temperado fixado em perfil u.
B34: 2.15 | C34: COMP-02 | E34: Remoção de telhas, de fibrocimento, metálica e cerâmica, de forma manual, sem reaproveitamento | F34: m2 | G34: =VLOOKUP(C34,'Memória de Cálculo'!B23:G550,6,0) -> 182.62 | H34: ='COMP-02'!J17 -> 2.758 | I34: =H34*(1+$L$12) -> 3.3727582 | J34: =G34*I34 -> 615.9331 | L34: =C34 -> COMP-02 | M34: =B34 -> 2.15 | N34: =F34 -> m2 | O34: =E34 -> Remoção de telhas, de fibrocimento, metálica e cerâmica, de forma manual, sem reaproveitamento
B35: 2.16 | C35: COMP-03 | E35: Lixamento de madeira para aplicação de fundo ou pintura | F35: m2 | G35: =VLOOKUP(C35,'Memória de Cálculo'!B24:G551,6,0) -> 73.07 | H35: ='COMP-03'!J19 -> 1.86 | I35: =H35*(1+$L$12) -> 2.274594 | J35: =G35*I35 -> 166.20458 | L35: =C35 -> COMP-03 | M35: =B35 -> 2.16 | N35: =F35 -> m2 | O35: =E35 -> Lixamento de madeira para aplicação de fundo ou pintura
B36: 2.17 | C36: COMP-04 | E36: Remoção de forro de gesso, de forma manual, sem reaproveitamento | F36: m2 | G36: =VLOOKUP(C36,'Memória de Cálculo'!B24:G551,6,0) -> 369.11 | H36: ='COMP-04'!J17 -> 2.46 | I36: =H36*(1+$L$12) -> 3.008334 | J36: =G36*I36 -> 1110.4062 | L36: =C36 -> COMP-04 | M36: =B36 -> 2.17 | N36: =F36 -> m2 | O36: =E36 -> Remoção de forro de gesso, de forma manual, sem reaproveitamento
B37: Total do item | J37: =SUM(J20:J36) -> 18478.341 | L37: =C37 -> 0 | M37: =B37 -> Total do item | N37: =F37 -> 0 | O37: =E37 -> 0
L38: =C38 -> 0 | M38: =B38 -> 0 | N38: =F38 -> 0 | O38: =E38 -> 0
B39: 3 | E39: PAREDES E PAINÉIS | L39: =C39 -> 0 | M39: =B39 -> 3 | N39: =F39 -> 0 | O39: =E39 -> PAREDES E PAINÉIS
B40: 3.1 | C40: 50606 | D40: =VLOOKUP(C40,'SERVIÇOS SINAPI-DER NOV-2023'!$A$2:$E$890400,2,0) -> DER/ES | E40: =VLOOKUP(C40,'SERVIÇOS SINAPI-DER NOV-2023'!$A$2:$E$890400,3,0) -> Alvenaria de blocos cerâmicos 10 furos 10x20x20cm, assentados c/argamassa de cimento, cal hidratada CH1 e areia traço 1:0,5:8, esp. das juntas 12mm e esp. das paredes s/revestimento, 10cm (bloco comprado na fábrica, posto obra) | F40: =VLOOKUP(C40,'SERVIÇOS SINAPI-DER NOV-2023'!$A$2:$E$890400,4,0) -> m2 | G40: =VLOOKUP(C40,'Memória de Cálculo'!B29:G559,6,0) -> 46.94 | H40: =VLOOKUP(C40,'SERVIÇOS SINAPI-DER NOV-2023'!$A$2:$E$890400,5,0) -> 65.63 | I40: =H40*(1+$L$12) -> 80.258927 | J40: =G40*I40 -> 3767.354 | L40: =C40 -> 50606 | M40: =B40 -> 3.1 | N40: =F40 -> m2 | O40: =E40 -> Alvenaria de blocos cerâmicos 10 furos 10x20x20cm, assentados c/argamassa de cimento, cal hidratada CH1 e areia traço 1:0,5:8, esp. das juntas 12mm e esp. das paredes s/revestimento, 10cm (bloco comprado na fábrica, posto obra)
B41: 3.2 | C41: 50301 | D41: =VLOOKUP(C41,'SERVIÇOS SINAPI-DER NOV-2023'!$A$2:$E$890400,2,0) -> DER/ES | E41: =VLOOKUP(C41,'SERVIÇOS SINAPI-DER NOV-2023'!$A$2:$E$890400,3,0) -> Verga/contraverga reta de concreto armado 10 x 5 cm, Fck = 15 MPa, inclusive forma, armação e desforma | F41: =VLOOKUP(C41,'SERVIÇOS SINAPI-DER NOV-2023'!$A$2:$E$890400,4,0) -> m | G41: =VLOOKUP(C41,'Memória de Cálculo'!B30:G560,6,0) -> 7.6 | H41: =VLOOKUP(C41,'SERVIÇOS SINAPI-DER NOV-2023'!$A$2:$E$890400,5,0) -> 9.33 | I41: =H41*(1+$L$12) -> 11.409657 | J41: =G41*I41 -> 86.713393 | L41: =C41 -> 50301 | M41: =B41 -> 3.2 | N41: =F41 -> m | O41: =E41 -> Verga/contraverga reta de concreto armado 10 x 5 cm, Fck = 15 MPa, inclusive forma, armação e desforma
B42: 3.3 | C42: COMP-05 | E42: Parede com placas de gesso acartonado (DRYWALL), para uso interno, com duas faces simples e estrutura metálica com guias duplas, com vãos. | F42: m2 | G42: =VLOOKUP(C42,'Memória de Cálculo'!B31:G561,6,0) -> 28.05 | H42: ='COMP-05'!J28 -> 165.14 | I42: =H42*(1+$H$11) -> 190.8523 | J42: =G42*I42 -> 5353.407 | L42: =C42 -> COMP-05 | M42: =B42 -> 3.3 | N42: =F42 -> m2 | O42: =E42 -> Parede com placas de gesso acartonado (DRYWALL), para uso interno, com duas faces simples e estrutura metálica com guias duplas, com vãos.
B43: Total do item | J43: =SUM(J40:J42) -> 9207.4744 | L43: =C43 -> 0 | M43: =B43 -> Total do item | N43: =F43 -> 0 | O43: =E43 -> 0
L44: =C44 -> 0 | M44: =B44 -> 0 | N44: =F44 -> 0 | O44: =E44 -> 0
B45: 4 | E45: ESQUADRIAS DE MADEIRA | L45: =C45 -> 0 | M45: =B45 -> 4 | N45: =F45 -> 0 | O45: =E45 -> ESQUADRIAS DE MADEIRA
B46: 4.1 | C46: 60103 | D46: =VLOOKUP(C46,'SERVIÇOS SINAPI-DER NOV-2023'!$A$2:$E$890400,2,0) -> DER/ES | E46: =VLOOKUP(C46,'SERVIÇOS SINAPI-DER NOV-2023'!$A$2:$E$890400,3,0) -> Marco de madeira de lei de 1ª (Peroba, Ipê, Angelim Pedra ou equivalente) com 15x3 cm de batente, nas dimensões de 0.80 x 2.10 m | F46: =VLOOKUP(C46,'SERVIÇOS SINAPI-DER NOV-2023'!$A$2:$E$890400,4,0) -> und | G46: =VLOOKUP(C46,'Memória de Cálculo'!B29:G566,6,0) -> 5 | H46: =VLOOKUP(C46,'SERVIÇOS SINAPI-DER NOV-2023'!$A$2:$E$890400,5,0) -> 400.35 | I46: =H46*(1+$L$12) -> 489.58801 | J46: =G46*I46 -> 2447.9401 | L46: =C46 -> 60103 | M46: =B46 -> 4.1 | N46: =F46 -> und | O46: =E46 -> Marco de madeira de lei de 1ª (Peroba, Ipê, Angelim Pedra ou equivalente) com 15x3 cm de batente, nas dimensões de 0.80 x 2.10 m
B47: 4.2 | C47: COMP-06 | E47: Recolocação de porta em madeira de lei tipo angelim pedra ou equiv.c/enchimento em madeira 1a.qualidade esp. 30mm p/ pintura, inclusive alizares, dobradiças e fechadura externa em latão cromado LaFonte ou equiv., exclusive marco e porta, nas dim.: 0.80 x 2.10 m | F47: und. | G47: =VLOOKUP(C47,'Memória de Cálculo'!B38:G569,6,0) -> 5 | H47: ='COMP-06'!J23 -> 906.641 | I47: =H47*(1+$L$12) -> 1108.7313 | J47: =G47*I47 -> 5543.6564 | L47: =C47 -> COMP-06 | M47: =B47 -> 4.2 | N47: =F47 -> und. | O47: =E47 -> Recolocação de porta em madeira de lei tipo angelim pedra ou equiv.c/enchimento em madeira 1a.qualidade esp. 30mm p/ pintura, inclusive alizares, dobradiças e fechadura externa em latão cromado LaFonte ou equiv., exclusive marco e porta, nas dim.: 0.80 x 2.10 m
...

Sheet Memória de Cálculo
B2: PREFEITURA MUNICIPAL DE SÃO ROQUE DO CANAÃ
B8: MEMÓRIA DE CÁLCULO
B9: OBRA: Reforma Unidade de Saúde Ethevaldo Francisco Roldi
B10: LOCAL: Rua Olivio Perini- n: 107, Cinco Casinhas - São Roque do Canaã
B11: CÓDIGO | C11: REF | D11: ITEM | E11: DESCRIÇÃO | F11: UND | G11: QUANT.
B12: 1 | E12: =VLOOKUP(B12,'Planilha Orçamentária'!$B$14:$J$133,4,0) -> INSTALAÇÃO DO CANTEIRO DE OBRAS
B13: 20305 | C13: DER/ES | D13: 1.1 | E13: Placa de obra nas dimensões de 2.0 x 4.0 m, padrão DER | F13: m² | G13: =SUM(F14) -> 8
D14: Dimensões da placa de obra: 2,00m x 4,00m=8,00m² | F14: 8
B15: 20702 | C15: DER/ES | D15: =VLOOKUP(B15,'Planilha Orçamentária'!$L$1:$T$126,2,0) -> 1.2 | E15: =VLOOKUP(B15,'Planilha Orçamentária'!$L$1:$T$126,4,0) -> Barracão para almoxarifado área de 10.90m2, de chapa de compensado de 12mm e pontalete 8x8cm, piso cimentado e cobertura de telhas de fibrocimento de 6mm, incl. ponto de luz, conf. projeto (1 utilização) | F15: =VLOOKUP(B15,'Planilha Orçamentária'!$L$1:$T$126,3,0) -> m2 | G15: =SUM(F16) -> 10.9
D16: Dimensões do barracão: 2,50m x 4,36m = 10,90m² | F16: 10.9
B18: 2 | E18: =VLOOKUP(B18,'Planilha Orçamentária'!$B$14:$J$133,4,0) -> SERVIÇOS PRELIMINARES
B19: 10209 | C19: DER/ES | D19: =VLOOKUP(B19,'Planilha Orçamentária'!$L$1:$T$126,2,0) -> 2.1 | E19: =VLOOKUP(B19,'Planilha Orçamentária'!$L$1:$T$126,4,0) -> Demolição de alvenaria | F19: =VLOOKUP(B19,'Planilha Orçamentária'!$L$1:$T$126,3,0) -> m3 | G19: =SUM(F20:F28) -> 18.91
D20: Sala de aplicação de medicamentos: área das portas (porta de 1,20 m x 2,10 m acrescidos 0,10 m cada lado): (1,40 m x 2,20 m) = 3,08 m² x 0,15m (espessura da parede) = 0,46 m³ | F20: 0.46
D21: Armazenamento: comprimento da parede: 2,75m x 2,80 m (pé direito) = 7,70 m² x 0,15 m (espessura da parede) = 1,15 m³ | F21: 1.15
D22: Vacina: comprimento da parede: 3,50 m x 2,80 m (pé direito) = 9,80 m² x 0,15 m (espessura da parede) = 1,47 m³ | F22: 1.47
D23: Distribuição de medicamentos: comprimento das paredes: (8,13m + 2,70m + 5,60m) x 2,80m = 46,00 m² x 0,15 m (espessura da parede) = 6,90 m³ | F23: 6.9
D24: Sala de triagem: comprimento da parede: 2,40m x 2,80m (pé direito) = 6,72m² x 0,15m (espessura da parede) = 1,00 m³ | F24: 1
D25: Arquivo geral: ((3,60 m + 0,59 m + 0,59 m + 7,36 m) x 2,80 m (pé direito) – (1,20 m x 2,10 m) – (1,50 m x 1,20 m x 2 janelas)) = 27,87 m² x 0,15 m (espessura da parede) = 4,18 m³ | F25: 4.18
D26: Recepção: ((9,00 m (comprimento do balcão) x 1,20 m (altura balcão)) – (0,60 m x 1,20 m x 2 portas)) = 9,36 m² x 0,15 m (espessura) = 1,40 m³ | F26: 1.4
D27: Recepção e inspeção: Abertura da nova porta (porta de 0,80 m x 2,10 m acrescidos 0,10 m cada lado) = (1,00 m x 2,20 m) = 2,20 m² x 0,15m (espessura da parede) = 0,33 m³ | F27: 0.33
D28: Sala de raio-x (parede que divide as salas de medicação/aplicação de medicamentos): 3,40 m (comprimento da parede) x 2,80 m (pé direito) + (0,40 m x 2,10 m) (aumento da porta) = 9,52 m² – (0,80 m x 2,10 m (porta existente) x 0,15m (espessura da parede) = 2,02 m³ | F28: 2.02
B29: 10246 | C29: DER/ES | D29: =VLOOKUP(B29,'Planilha Orçamentária'!$L$1:$T$126,2,0) -> 2.2 | E29: =VLOOKUP(B29,'Planilha Orçamentária'!$L$1:$T$126,4,0) -> Lixamento de parede com pintura antiga PVA para recebimento de nova camada de tinta | F29: =VLOOKUP(B29,'Planilha Orçamentária'!$L$1:$T$126,3,0) -> m2 | G29: =SUM(F30:F43) -> 463.58
D30: Seguindo o ROTEIRO PARA PROCEDIMENTOS DE LEVANTAMENTOS DE SERVIÇOS DE OBRAS CIVIS PARA ORÇAMENTOS SISTEMA LABOR/ITUFES – IOPES, vãos com área inferior ou igual a 2m2 não são descontados
D31: Sala de raio-x: (3,40 m + 3,40 m + 6,90 m + 6,90 m) x 2,45 m – (1,50 m x 1,20 m) (janela fechada) = 48,67 m² | F31: 48.67
D32: Sala de aplicação de medicamentos: (3,40 m + 3,40 m + 4,00 m) x 2,45 m = 26,46 m² | F32: 26.46
D33: Sala de triagem: (4,10 m + 4,10 m + 2,65 m + 2,65 m – (2,25 m + 1,90 m)(paredes novas) ) x 2,45 m - 3,52 m² (porta) = 19,38 m² | F33: 19.38
D34: Armazenamento: (2,35 m + 0,60 m + 4,95 m + 9,65 m - (0,60 m + 2,34 m)(paredes novas) ) x 2,45 m – ((3,12 m x 1,10 m + 2,00 m²) x 2 janelas) – (2,22 m x 1,10 m + 2,00 m²) = 32,48 m² | F34: 32.48
D35: Recepção/espera: (4,00 m + 1,00 m + 8,00 m + 13,90 m + 8,00 m + 0,70 m + 4,00 m + 3,85 m + 2,00 m + 1,15 m + 5,75 m + 1,75 m + 4,15 m + 3,00 – 2,40 m (parede nova)) x 2,45 m – (3,00 m x 2,30 m +2,00 m²) – (2,40 m x 2,30 m + 2,00 m²) – (3,85 m x 2,30 m + 2,00 m²) – (3,00 m x 2,30 m + 2,00 m²) = 124,00 m² | F35: 124
D36: Direção PA: (3,85 m + 3,85 m + 1,85 m + 1,85 m) x 2,45 m = 27,93 m² | F36: 27.93
D37: Copa: (2,70 m + 2,70 m + 2,00 m + 2,00 m) x 2,45 m = 23,03 m² | F37: 23.03
D38: Repouso médico/enferm.: (2,65 m + 2,65 m + 2,50 m + 2,50 m) x 2,45 m = 25,23 m² | F38: 25.23 | J38: 384.47
D39: WC repouso médico/enferm = (1,20 m + 1,20 m + 2,50 m + 2,50 m) x 2,45 m = 18,13 m² | F39: 18.13
D40: Arquivo Geral: (8,15 m + 3,60 m) (paredes) x 2,45 m = 28,78 m² | F40: 28.78
D41: Distribuição de medicamentos: (4,45 m + 4,35 m + 6,65 m) x 2,45 m = 37,85 m² | F41: 37.85
D42: Armazenamento: (2,25 m + 0,40 m + 3,80 m) x 2,45 m = 15,80 m² | F42: 35.35
D43: Recepção e inspeção: (3,35 m + 3,30 m) x 2,45 m = 16,29 m² | F43: 16.29
B44: 10225 | C44: DER/ES | D44: =VLOOKUP(B44,'Planilha Orçamentária'!$L$1:$T$126,2,0) -> 2.3 | E44: =VLOOKUP(B44,'Planilha Orçamentária'!$L$1:$T$126,4,0) -> Retirada de bancada de pia | F44: =VLOOKUP(B44,'Planilha Orçamentária'!$L$1:$T$126,3,0) -> m2 | G44: =SUM(F45:F47) -> 8.88
D45: Armazenamento/recepção/inspeção: área da bancada: 5,70m x 0,5m = 2,85m² | F45: 2.85
D46: Vacina: área da bancada: 1,50m x 0,60m = 0,90 m² | F46: 0.9
D47: Sala de raio-x: (1,50 m x 0,53 m) + (0,60 m x 1,18 m) + (3,82 m x 0,60 m) + (2,22 m x 0,60 m) = 5,13 m² | F47: 5.13
...

Sheet Cronograma
B2: CRONOGRAMA FÍSICO-FINANCEIRO
B3: OBRA: Reforma Unidade de Saúde Ethevaldo Francisco Roldi
B4: LOCAL: Rua Olivio Perini- n: 107, Cinco Casinhas - São Roque do Canaã
B5: DATA: FEVEREIRO/2024
I6: PRAZO DE EXECUÇÃO | M6: TOTAIS
B7: ITEM | C7: DESCRIÇÃO | D7: UNID | F7: 1ºMÊS | G7: 2ºMÊS | H7: 2ºMÊS | I7: 1ºMÊS | J7: 2ºMÊS | K7: 3ºMÊS | L7: 4ºMÊS | M7: FÍSICO | N7: FINANCEIRO
B9: 1 | C9: =VLOOKUP(B9,'Planilha Orçamentária'!$B$14:$J$133,4,0) -> INSTALAÇÃO DO CANTEIRO DE OBRAS | D9: R$ | E9: ='Planilha Orçamentária'!J17 -> 11375.726 | I9: =$E$9*I10 -> 11375.726 | M9: =SUM(I10:L10) -> 1 | N9: =SUM(I9:L9) -> 11375.726
D10: VB | E10: 1 | I10: 1
B11: 2 | C11: =VLOOKUP(B11,'Planilha Orçamentária'!$B$14:$J$133,4,0) -> SERVIÇOS PRELIMINARES | D11: R$ | E11: ='Planilha Orçamentária'!J37 -> 18478.341 | I11: =$E$11*I12 -> 12934.839 | J11: =$E$11*J12 -> 5543.5024 | M11: =SUM(I12:L12) -> 1 | N11: =SUM(I11:L11) -> 18478.341
D12: VB | E12: 1 | I12: 0.7 | J12: 0.3
B13: 3 | C13: =VLOOKUP(B13,'Planilha Orçamentária'!$B$14:$J$133,4,0) -> PAREDES E PAINÉIS | D13: R$ | E13: ='Planilha Orçamentária'!J43 -> 9207.4744 | I13: =E13*I14 -> 5524.4846 | J13: =E13*J14 -> 3682.9898 | M13: =SUM(I14:L14) -> 1 | N13: =SUM(I13:L13) -> 9207.4744
D14: VB | E14: 1 | I14: 0.6 | J14: 0.4
B15: 4 | C15: =VLOOKUP(B15,'Planilha Orçamentária'!$B$14:$J$133,4,0) -> ESQUADRIAS DE MADEIRA | D15: R$ | E15: ='Planilha Orçamentária'!J50 -> 16013.593 | I15: =I16*$E$15 -> 4804.078 | J15: =J16*$E$15 -> 6405.4373 | K15: =K16*$E$15 -> 4804.078 | M15: =SUM(I16:L16) -> 1 | N15: =SUM(I15:L15) -> 16013.593
D16: VB | E16: 1 | I16: 0.3 | J16: 0.4 | K16: 0.3
B17: 5 | C17: =VLOOKUP(B17,'Planilha Orçamentária'!$B$14:$J$133,4,0) -> VIDROS | D17: R$ | E17: ='Planilha Orçamentária'!J54 -> 3127.0219 | L17: =$E$17*L18 -> 3127.0219 | M17: =SUM(I18:L18) -> 1 | N17: =SUM(I17:L17) -> 3127.0219
D18: VB | E18: 1 | L18: 1
B19: 6 | C19: =VLOOKUP(B19,'Planilha Orçamentária'!$B$14:$J$133,4,0) -> REVESTIMENTOS | D19: R$ | E19: ='Planilha Orçamentária'!J62 -> 21046.771 | J19: =J20*$E$19 -> 4209.3542 | K19: =K20*$E$19 -> 8418.7083 | L19: =L20*$E$19 -> 8418.7083 | M19: =SUM(I20:L20) -> 1 | N19: =SUM(I19:L19) -> 21046.771
D20: VB | E20: 1 | J20: 0.2 | K20: 0.4 | L20: 0.4
B21: 7 | C21: =VLOOKUP(B21,'Planilha Orçamentária'!$B$14:$J$133,4,0) -> PISO | D21: R$ | E21: ='Planilha Orçamentária'!J68 -> 147788.64 | K21: =$E$21*K22 -> 59115.456 | L21: =$E$21*L22 -> 88673.184 | M21: =SUM(I22:L22) -> 1 | N21: =SUM(I21:L21) -> 147788.64
D22: VB | E22: 1 | K22: 0.4 | L22: 0.6
B23: 8 | C23: =VLOOKUP(B23,'Planilha Orçamentária'!$B$14:$J$133,4,0) -> INSTALAÇÕES HIDRO SANITÁRIAS | D23: R$ | E23: ='Planilha Orçamentária'!J80 -> 11448.86 | J23: =$E$23*J24 -> 5724.4301 | K23: =$E$23*K24 -> 5724.4301 | M23: =SUM(I24:L24) -> 1 | N23: =SUM(I23:L23) -> 11448.86
D24: VB | E24: 1 | J24: 0.5 | K24: 0.5
B25: 9 | C25: =VLOOKUP(B25,'Planilha Orçamentária'!$B$14:$J$133,4,0) -> INSTALAÇÕES ELÉTRICAS | D25: R$ | E25: ='Planilha Orçamentária'!J98 -> 22585.745 | K25: =$E$25*K26 -> 9034.298 | L25: =$E$25*L26 -> 13551.447 | M25: =SUM(I26:L26) -> 1 | N25: =SUM(I25:L25) -> 22585.745
D26: VB | E26: 1 | K26: 0.4 | L26: 0.6
B27: 10 | C27: =VLOOKUP(B27,'Planilha Orçamentária'!$B$14:$J$133,4,0) -> PINTURA | D27: R$ | E27: ='Planilha Orçamentária'!J107 -> 39672.294 | K27: =$E$27*K28 -> 11901.688 | L27: =$E$27*L28 -> 27770.606 | M27: =SUM(I28:L28) -> 1 | N27: =SUM(I27:L27) -> 39672.294
D28: VB | E28: 1 | K28: 0.3 | L28: 0.7
B29: 11 | C29: =VLOOKUP(B29,'Planilha Orçamentária'!$B$14:$J$133,4,0) -> TETOS E FORROS | D29: R$ | E29: ='Planilha Orçamentária'!J111 -> 22749.534 | J29: =$E$29*J30 -> 6824.8603 | K29: =$E$29*K30 -> 15924.674 | M29: =SUM(I30:L30) -> 1 | N29: =SUM(I29:L29) -> 22749.534
D30: VB | E30: 1 | J30: 0.3 | K30: 0.7
B31: 12 | C31: =VLOOKUP(B31,'Planilha Orçamentária'!$B$14:$J$133,4,0) -> REDE DE LÓGICA | D31: R$ | E31: ='Planilha Orçamentária'!J118 -> 2289.4522 | L31: =$E$31*L32 -> 2289.4522 | M31: =SUM(I32:L32) -> 1 | N31: =SUM(I31:L31) -> 2289.4522
D32: VB | E32: 1 | L32: 1
B33: 13 | C33: =VLOOKUP(B33,'Planilha Orçamentária'!$B$14:$J$133,4,0) -> SERVIÇOS COMPLEMENTARES | D33: R$ | E33: ='Planilha Orçamentária'!J127 -> 45643.208 | L33: =$E$33*L34 -> 45643.208 | M33: =SUM(I34:L34) -> 1 | N33: =SUM(I33:L33) -> 45643.208
D34: VB | E34: 1 | L34: 1
B35: 14 | C35: =VLOOKUP(B35,'Planilha Orçamentária'!$B$14:$J$133,4,0) -> ADMINISTRAÇÃO LOCAL | D35: R$ | E35: ='Planilha Orçamentária'!J131 -> 17740.904 | I35: =$E$35*I36 -> 1516.1968 | J35: =$E$35*J36 -> 1435.4091 | K35: =$E$35*K36 -> 5508.8053 | L35: =$E$35*L36 -> 9280.4925 | M35: =SUM(I36:L36) -> 1 | N35: =SUM(I35:L35) -> 17740.904
D36: VB | E36: 1 | I36: 0.085463337 | J36: 0.080909583 | K36: 0.31051436 | L36: 0.52311272
C37: TOTAL | E37: =E9+E11+E13+E15+E17+E19+E21+E23+E25+E27+E29+E31+E33+E35 -> 389167.57 | N37: =SUM(N9:N36) -> 389167.57
C39: SOMAS MENSAIS | I39: =SUM(I9,I11,I13,I15,I17,I19,I21,I23,I25,I27,I29,I31,I33,I35) -> 36155.325 | J39: =SUM(J9,J11,J13,J15,J17,J19,J21,J23,J25,J27,J29,J31,J33,J35) -> 33825.983 | K39: =SUM(K9,K11,K13,K15,K17,K19,K21,K23,K25,K27,K29,K31,K33,K35) -> 120432.14 | L39: =SUM(L9,L11,L13,L15,L17,L19,L21,L23,L25,L27,L29,L31,L33,L35) -> 198754.12
C40: PERCENTUAL MENSAL | I40: =I39/$N$37 -> 0.09290426 | J40: =J39/$N$37 -> 0.086918813 | K40: =K39/$N$37 -> 0.30946088 | L40: =L39/$N$37 -> 0.51071605
C41: SOMA ACUMULADA | I41: =SUM(F39:I39) -> 36155.325 | J41: =SUM(F39:J39) -> 69981.308 | K41: =SUM(G39:K39) -> 190413.45 | L41: =SUM(H39:L39) -> 389167.57
C42: PERC. ACUMULADO | I42: =I41/$N$37 -> 0.09290426 | J42: =J41/$N$37 -> 0.17982307 | K42: =K41/$N$37 -> 0.48928395 | L42: =L41/$N$37 -> 1
E47: ____________________________________________________________________
...

Sheet COMP-01
B2: COMPOSIÇÃO DE PREÇO UNITÁRIO 01
B3: SERVIÇO: | D3: =VLOOKUP(B5,'Planilha Orçamentária'!$L$15:$T$126,4,0) -> Remoção de vidro temperado fixado em perfil u.
B4: BASE: DER-ES e SINAPI DATA: NOVEMBRO-2023 | H4: Unidade | J4: =VLOOKUP(B5,'Planilha Orçamentária'!$L$15:$T$126,3,0) -> m2
B5: COMP-01 | H5: Item | J5: =VLOOKUP(B5,'Planilha Orçamentária'!$L$15:$T$126,2,0) -> 2.14
B6: CÓD. | C6: ÓRGÃO | D6: MÃO DE OBRA | E6: UNIDADE | F6: QUANTIDADE | H6: SALÁRIO HORA | J6: CUSTO HORÁRIO
B7: 10146 | C7: =VLOOKUP(B7,'INSUMOS SINAPI-DER SET-2023_2'!$A$1:$E$6493,2,0) -> DER/ES | D7: =VLOOKUP(B7,'INSUMOS SINAPI-DER SET-2023_2'!$A$1:$E$6493,3,0) -> Servente (auxiliar de obras - sinduscon) | E7: =VLOOKUP(B7,'INSUMOS SINAPI-DER SET-2023_2'!$A$1:$E$6493,4,0) -> H | F7: 0.338 | H7: =VLOOKUP(B7,'INSUMOS SINAPI-DER SET-2023_2'!$A$1:$E$6493,5,0)*2.5727 -> 16.876912 | J7: =TRUNC(F7*H7,3) -> 5.704
B8: 10489 | C8: =VLOOKUP(B8,'INSUMOS SINAPI-DER SET-2023_2'!$A$1:$E$6493,2,0) -> SINAPI | D8: =VLOOKUP(B8,'INSUMOS SINAPI-DER SET-2023_2'!$A$1:$E$6493,3,0) -> Vidraceiro (horista) | E8: =VLOOKUP(B8,'INSUMOS SINAPI-DER SET-2023_2'!$A$1:$E$6493,4,0) -> H | F8: 0.348 | H8: =VLOOKUP(B8,'INSUMOS SINAPI-DER SET-2023_2'!$A$1:$E$6493,5,0)/2.1566*2.5727 -> 19.946 | J8: =TRUNC(F8*H8,2) -> 6.94
B9: SUBTOTAL | D9: (LABOR) | J9: =SUM(J7:J8) -> 12.644
B10: MÃO DE OBRA (A) | J10: =SUM(J7:J8) -> 12.644
B11: MATERIAIS ( B ) | J11: 0
B12: EQUIPAMENTOS ( C ) | J12: 0
B13: PRODUÇÃO DA EQUIPE ( D ) | J13: 1
G14: CUSTO HORÁRIO TOTAL (A+C) | J14: =J10+J12 -> 12.644
B15: CUSTO UNITÁRIO DA EXECUÇÃO [(A/D) + (C/D)] = ( E ) | J15: =(J10/J13)+(J12/J13) -> 12.644
G16: CUSTO DIRETO TOTAL (B+E) | J16: =J11+J15 -> 12.644
B17: ( H ) TOTAL | J17: =J16 -> 12.644
B20: Observações:
B21: 1. Preços unitários, códigos e descrição da mão de obra são compatíveis com a TABELA CUSTOS LABOR/CT-UFES PADRÃO DER NOVEMBRO/2023(LS=157,27; BDI=0%) e SINAPI
B22: 2. Os coeficientes utilizados para mão-de-obra são os mesmos da composição do serviço 102192 (Remoção de vidro temperado fixado em perfil u.) do SINAPI.
B23: 3. No item de mão de obra "VIDRACEIRO" foi retirado a Lei Social do SINAPI (115,66%) e aplicado a Lei Social da TABELA CUSTOS REFERENCIAIS LABOR/CT- UFES PADRÃO DER-ES NOVEMBRO/2023 (157,27%).

Sheet COMP-02
B2: COMPOSIÇÃO DE PREÇO UNITÁRIO 02
B3: SERVIÇO: | D3: =VLOOKUP(B5,'Planilha Orçamentária'!$L$15:$T$126,4,0) -> Remoção de telhas, de fibrocimento, metálica e cerâmica, de forma manual, sem reaproveitamento
B4: BASE: DER-ES e SINAPI DATA: NOVEMBRO-2023 | H4: Unidade | J4: =VLOOKUP(B5,'Planilha Orçamentária'!$L$15:$T$126,3,0) -> m2
B5: COMP-02 | H5: Item | J5: =VLOOKUP(B5,'Planilha Orçamentária'!$L$15:$T$126,2,0) -> 2.15
B6: CÓD. | C6: ÓRGÃO | D6: MÃO DE OBRA | E6: UNIDADE | F6: QUANTIDADE | H6: SALÁRIO HORA | J6: CUSTO HORÁRIO
B7: 10146 | C7: =VLOOKUP(B7,'INSUMOS SINAPI-DER SET-2023_2'!$A$1:$E$6493,2,0) -> DER/ES | D7: =VLOOKUP(B7,'INSUMOS SINAPI-DER SET-2023_2'!$A$1:$E$6493,3,0) -> Servente (auxiliar de obras - sinduscon) | E7: =VLOOKUP(B7,'INSUMOS SINAPI-DER SET-2023_2'!$A$1:$E$6493,4,0) -> H | F7: 0.0971 | H7: =VLOOKUP(B7,'INSUMOS SINAPI-DER SET-2023_2'!$A$1:$E$6493,5,0)*2.5727 -> 16.876912 | J7: =TRUNC(F7*H7,3) -> 1.638
B8: 10150 | C8: =VLOOKUP(B8,'INSUMOS SINAPI-DER SET-2023_2'!$A$1:$E$6493,2,0) -> DER/ES | D8: =VLOOKUP(B8,'INSUMOS SINAPI-DER SET-2023_2'!$A$1:$E$6493,3,0) -> Telhadista (oficial - sinduscon) | E8: =VLOOKUP(B8,'INSUMOS SINAPI-DER SET-2023_2'!$A$1:$E$6493,4,0) -> H | F8: 0.0494 | H8: =VLOOKUP(B8,'INSUMOS SINAPI-DER SET-2023_2'!$A$1:$E$6493,5,0)*2.5727 -> 22.742668 | J8: =TRUNC(F8*H8,2) -> 1.12
B9: SUBTOTAL | D9: (LABOR) | J9: =SUM(J7:J8) -> 2.758
B10: MÃO DE OBRA (A) | J10: =SUM(J7:J8) -> 2.758
B11: MATERIAIS ( B ) | J11: 0
B12: EQUIPAMENTOS ( C ) | J12: 0
B13: PRODUÇÃO DA EQUIPE ( D ) | J13: 1
G14: CUSTO HORÁRIO TOTAL (A+C) | J14: =J10+J12 -> 2.758
B15: CUSTO UNITÁRIO DA EXECUÇÃO [(A/D) + (C/D)] = ( E ) | J15: =(J10/J13)+(J12/J13) -> 2.758
G16: CUSTO DIRETO TOTAL (B+E) | J16: =J11+J15 -> 2.758
B17: ( H ) TOTAL | J17: =J16 -> 2.758
B20: Observações:
B21: 1. Preços unitários, códigos e descrição da mão de obra são compatíveis com a TABELA CUSTOS LABOR/CT-UFES PADRÃO DER NOVEMBRO/2023(LS=157,27; BDI=0%)
B22: 2. Os coeficientes utilizados para mão-de-obra são os mesmos da composição do serviço 97647 (Remoção de telhas, de fibrocimento, metálica e cerâmica, de forma manual, sem reaproveitamento) do SINAPI.

Sheet COMP-03
B2: COMPOSIÇÃO DE PREÇO UNITÁRIO 03
B3: SERVIÇO: | D3: =VLOOKUP(B5,'Planilha Orçamentária'!$L$15:$T$126,4,0) -> Lixamento de madeira para aplicação de fundo ou pintura
B4: BASE: DER-ES e SINAPI DATA: NOVEMBRO-2023 | H4: Unidade | J4: =VLOOKUP(B5,'Planilha Orçamentária'!$L$15:$T$126,3,0) -> m2
B5: COMP-03 | H5: Item | J5: =VLOOKUP(B5,'Planilha Orçamentária'!$L$15:$T$126,2,0) -> 2.16
B6: CÓD. | C6: ÓRGÃO | D6: MÃO DE OBRA | E6: UNIDADE | F6: QUANTIDADE | H6: SALÁRIO HORA | J6: CUSTO HORÁRIO
B7: 10140 | C7: =VLOOKUP(B7,'INSUMOS SINAPI-DER SET-2023_2'!$A$1:$E$6493,2,0) -> DER/ES | D7: =VLOOKUP(B7,'INSUMOS SINAPI-DER SET-2023_2'!$A$1:$E$6493,3,0) -> Pintor (oficial - sinduscon) | E7: =VLOOKUP(B7,'INSUMOS SINAPI-DER SET-2023_2'!$A$1:$E$6493,4,0) -> H | F7: 0.0541 | H7: =VLOOKUP(B7,'INSUMOS SINAPI-DER SET-2023_2'!$A$1:$E$6493,5,0)*2.5727 -> 22.742668 | J7: =TRUNC(F7*H7,3) -> 1.23
B8: SUBTOTAL | D8: (LABOR) | J8: =SUM(J7:J7) -> 1.23
B9: CÓD. | C9: ÓRGÃO | D9: MATERIAL | E9: UNIDADE | F9: QUANTIDADE | H9: SALÁRIO HORA | J9: CUSTO HORÁRIO
B10: 3767 | C10: =VLOOKUP(B10,'INSUMOS SINAPI-DER SET-2023_2'!$A$1:$E$6493,2,0) -> SINAPI | D10: =VLOOKUP(B10,'INSUMOS SINAPI-DER SET-2023_2'!$A$1:$E$6493,3,0) -> Lixa em folha para parede ou madeira, numero 120, cor vermelha | E10: =VLOOKUP(B10,'INSUMOS SINAPI-DER SET-2023_2'!$A$1:$E$6493,4,0) -> UN | F10: 0.4 | H10: =VLOOKUP(B10,'INSUMOS SINAPI-DER SET-2023_2'!$A$1:$E$6493,5,0) -> 1,59 | J10: =TRUNC(F10*H10,2) -> 0.63
B11: SUBTOTAL: | J11: =SUM(J10:J10) -> 0.63
B12: MÃO DE OBRA (A) | J12: =SUM(J7:J7) -> 1.23
B13: MATERIAIS ( B ) | J13: =SUM(J10:J10) -> 0.63
B14: EQUIPAMENTOS ( C ) | J14: 0
B15: PRODUÇÃO DA EQUIPE ( D ) | J15: 1
G16: CUSTO HORÁRIO TOTAL (A+C) | J16: =J12+J14 -> 1.23
B17: CUSTO UNITÁRIO DA EXECUÇÃO [(A/D) + (C/D)] = ( E ) | J17: =(J12/J15)+(J14/J15) -> 1.23
G18: CUSTO DIRETO TOTAL (B+E) | J18: =J13+J17 -> 1.86
B19: ( H ) TOTAL | J19: =J18 -> 1.86
B22: Observações:
B23: 1. Preços unitários, códigos e descrição da mão de obra são compatíveis com a TABELA CUSTOS LABOR/CT-UFES PADRÃO DER NOVEMBRO/2023(LS=157,27; BDI=0%)
B24: 2. Preços unitários, códigos e descrição dos materiais são compatíveis com o SINAPI - SISTEMA NACIONAL DE PESQUISA DE CUSTOS E ÍNDICES DA CONSTRUÇÃO CIVIL 1 NOVEMBRO/2023 por não serem catalogados na TABELA CUSTOS LABOR/CT-UFES PADRÃO DER NOVEMBRO/2023
B25: 3. Os coeficientes utilizados para mão-de-obra e material são os mesmos da composição do serviço 102193 (Lixamento de madeira para aplicação de fundo ou pintura. Af_01/2021) do SINAPI.

Sheet COMP-04
B2: COMPOSIÇÃO DE PREÇO UNITÁRIO 04
B3: SERVIÇO: | D3: =VLOOKUP(B5,'Planilha Orçamentária'!$L$15:$T$126,4,0) -> Remoção de forro de gesso, de forma manual, sem reaproveitamento
B4: BASE: DER-ES e SINAPI DATA: NOVEMBRO-2023 | H4: Unidade | J4: =VLOOKUP(B5,'Planilha Orçamentária'!$L$15:$T$126,3,0) -> m2
B5: COMP-04 | H5: Item | J5: =VLOOKUP(B5,'Planilha Orçamentária'!$L$15:$T$126,2,0) -> 2.17
B6: CÓD. | C6: ÓRGÃO | D6: MÃO DE OBRA | E6: UNIDADE | F6: QUANTIDADE | H6: SALÁRIO HORA | J6: CUSTO HORÁRIO
B7: 88269 | C7: =VLOOKUP(B7,'SERVIÇOS SINAPI-DER NOV-2023'!$A$1:$E$8960,2,0) -> SINAPI | D7: =VLOOKUP(B7,'SERVIÇOS SINAPI-DER NOV-2023'!$A$1:$E$8960,3,0) -> Gesseiro com encargos complementares | E7: =VLOOKUP(B7,'SERVIÇOS SINAPI-DER NOV-2023'!$A$1:$E$8960,4,0) -> H | F7: 0.0336 | H7: =VLOOKUP(B7,'SERVIÇOS SINAPI-DER NOV-2023'!$A$1:$E$8960,5,0)/2.1566*2.5727 -> 25.695983 | J7: =TRUNC(F7*H7,2) -> 0.86
B8: 10146 | C8: =VLOOKUP(B8,'INSUMOS SINAPI-DER SET-2023_2'!$A$1:$E$6493,2,0) -> DER/ES | D8: =VLOOKUP(B8,'INSUMOS SINAPI-DER SET-2023_2'!$A$1:$E$6493,3,0) -> Servente (auxiliar de obras - sinduscon) | E8: =VLOOKUP(B8,'INSUMOS SINAPI-DER SET-2023_2'!$A$1:$E$6493,4,0) -> H | F8: 0.0951 | H8: =VLOOKUP(B8,'INSUMOS SINAPI-DER SET-2023_2'!$A$1:$E$6493,5,0)*2.5727 -> 16.876912 | J8: =TRUNC(F8*H8,2) -> 1.6
B9: SUBTOTAL | D9: (LABOR) | J9: =SUM(J7:J8) -> 2.46
B10: SUBTOTAL: | J10: =J9 -> 2.46
B11: MÃO DE OBRA (A) | J11: =SUM(J7:J8) -> 2.46
B12: MATERIAIS ( B ) | J12: 0
B13: EQUIPAMENTOS ( C ) | J13: 0
B14: PRODUÇÃO DA EQUIPE ( D ) | J14: 1
G15: CUSTO HORÁRIO TOTAL (A+C) | J15: =J11+J13 -> 2.46
B16: CUSTO UNITÁRIO DA EXECUÇÃO [(A/D) + (C/D)] = ( E ) | J16: =(J11/J14)+(J13/J14) -> 2.46
G17: CUSTO DIRETO TOTAL (B+E) | J17: =J12+J16 -> 2.46
B18: ( H ) TOTAL | J18: =J17 -> 2.46
B21: Observações:
B22: 1. Preços unitários, códigos e descrição da mão de obra são compatíveis com a TABELA CUSTOS LABOR/CT-UFES PADRÃO DER NOVEMBRO/2023(LS=157,27; BDI=0%) e SINAPI
B23: 2. Os coeficientes utilizados para mão-de-obra são os mesmos da composição do serviço 97641 (Remoção de forro de gesso, de forma manual, sem reaproveitamento. Af_09/2023) do SINAPI.
B24: 3. No item de mão de obra "GESSEIRO" foi retirado a Lei Social do SINAPI (115,66%) e aplicado a Lei Social da TABELA CUSTOS REFERENCIAIS LABOR/CT- UFES PADRÃO DER-ES NOVEMBRO/2023 (157,27%).

Sheet COMP-05
B2: COMPOSIÇÃO DE PREÇO UNITÁRIO 05
B3: SERVIÇO: | D3: =VLOOKUP(B5,'Planilha Orçamentária'!$L$15:$T$126,4,0) -> Parede com placas de gesso acartonado (DRYWALL), para uso interno, com duas faces simples e estrutura metálica com guias duplas, com vãos.
B4: BASE: DER-ES e SINAPI DATA: NOVEMBRO-2023 | H4: Unidade | J4: =VLOOKUP(B5,'Planilha Orçamentária'!$L$15:$T$126,3,0) -> m2
B5: COMP-05 | H5: Item | J5: =VLOOKUP(B5,'Planilha Orçamentária'!$L$15:$T$126,2,0) -> 3.3
B6: CÓD. | C6: ÓRGÃO | D6: MÃO DE OBRA | E6: UNIDADE | F6: QUANTIDADE | H6: SALÁRIO HORA | J6: CUSTO HORÁRIO
B7: 10278 | C7: =VLOOKUP(B7,'INSUMOS SINAPI-DER SET-2023_2'!$A$1:$E$6493,2,0) -> DER/ES | D7: =VLOOKUP(B7,'INSUMOS SINAPI-DER SET-2023_2'!$A$1:$E$6493,3,0) -> Montador de estrutura - sintraconst | E7: =VLOOKUP(B7,'INSUMOS SINAPI-DER SET-2023_2'!$A$1:$E$6493,4,0) -> H | F7: 0.8356 | H7: =VLOOKUP(B7,'INSUMOS SINAPI-DER SET-2023_2'!$A$1:$E$6493,5,0)*2.5727 -> 34.011094 | J7: =TRUNC(F7*H7,2) -> 28.41
B8: 10146 | C8: =VLOOKUP(B8,'INSUMOS SINAPI-DER SET-2023_2'!$A$1:$E$6493,2,0) -> DER/ES | D8: =VLOOKUP(B8,'INSUMOS SINAPI-DER SET-2023_2'!$A$1:$E$6493,3,0) -> Servente (auxiliar de obras - sinduscon) | E8: =VLOOKUP(B8,'INSUMOS SINAPI-DER SET-2023_2'!$A$1:$E$6493,4,0) -> H | F8: 0.2089 | H8: =VLOOKUP(B8,'INSUMOS SINAPI-DER SET-2023_2'!$A$1:$E$6493,5,0)*2.5727 -> 16.876912 | J8: =TRUNC(F8*H8,2) -> 3.52
B9: SUBTOTAL | D9: (LABOR) | J9: =SUM(J7:J8) -> 31.93
B10: CÓD. | C10: ÓRGÃO | D10: MATERIAL | E10: UNIDADE | F10: QUANTIDADE | H10: SALÁRIO HORA | J10: CUSTO HORÁRIO
B11: 37586 | C11: =VLOOKUP(B11,'INSUMOS SINAPI-DER SET-2023_2'!$A$1:$E$6493,2,0) -> SINAPI | D11: =VLOOKUP(B11,'INSUMOS SINAPI-DER SET-2023_2'!$A$1:$E$6493,3,0) -> Pino de aco com arruela conica, diametro arruela = *23* mm e comp haste = *27* mm (acao indireta) | E11: =VLOOKUP(B11,'INSUMOS SINAPI-DER SET-2023_2'!$A$1:$E$6493,4,0) -> CENTO | F11: 0.581 | H11: =VLOOKUP(B11,'INSUMOS SINAPI-DER SET-2023_2'!$A$1:$E$6493,5,0) -> 45,05 | J11: =TRUNC(F11*H11,2) -> 26.17
B12: 39413 | C12: =VLOOKUP(B12,'INSUMOS SINAPI-DER SET-2023_2'!$A$1:$E$6493,2,0) -> SINAPI | D12: =VLOOKUP(B12,'INSUMOS SINAPI-DER SET-2023_2'!$A$1:$E$6493,3,0) -> Placa / chapa de gesso acartonado, standard (st), cor branca, e = 12,5 mm, 1200 x 2400 mm (l x c) | E12: =VLOOKUP(B12,'INSUMOS SINAPI-DER SET-2023_2'!$A$1:$E$6493,4,0) -> M2 | F12: 2.106 | H12: =VLOOKUP(B12,'INSUMOS SINAPI-DER SET-2023_2'!$A$1:$E$6493,5,0) -> 20,28 | J12: =TRUNC(F12*H12,2) -> 42.7
B13: 39419 | C13: =VLOOKUP(B13,'INSUMOS SINAPI-DER SET-2023_2'!$A$1:$E$6493,2,0) -> SINAPI | D13: =VLOOKUP(B13,'INSUMOS SINAPI-DER SET-2023_2'!$A$1:$E$6493,3,0) -> Perfil guia, formato u, em aco zincado, para estrutura parede drywall, e = 0,5 mm, 70 x 3000 mm (l x c) | E13: =VLOOKUP(B13,'INSUMOS SINAPI-DER SET-2023_2'!$A$1:$E$6493,4,0) -> M | F13: 1.8187 | H13: =VLOOKUP(B13,'INSUMOS SINAPI-DER SET-2023_2'!$A$1:$E$6493,5,0) -> 6,32 | J13: =TRUNC(F13*H13,2) -> 11.49
B14: 39422 | C14: =VLOOKUP(B14,'INSUMOS SINAPI-DER SET-2023_2'!$A$1:$E$6493,2,0) -> SINAPI | D14: =VLOOKUP(B14,'INSUMOS SINAPI-DER SET-2023_2'!$A$1:$E$6493,3,0) -> Perfil montante, formato c, em aco zincado, para estrutura parede drywall, e = 0,5 mm, 70 x 3000 mm (l x c) | E14: =VLOOKUP(B14,'INSUMOS SINAPI-DER SET-2023_2'!$A$1:$E$6493,4,0) -> M | F14: 5.7999 | H14: =VLOOKUP(B14,'INSUMOS SINAPI-DER SET-2023_2'!$A$1:$E$6493,5,0) -> 7,17 | J14: =TRUNC(F14*H14,2) -> 41.58
B15: 39431 | C15: =VLOOKUP(B15,'INSUMOS SINAPI-DER SET-2023_2'!$A$1:$E$6493,2,0) -> SINAPI | D15: =VLOOKUP(B15,'INSUMOS SINAPI-DER SET-2023_2'!$A$1:$E$6493,3,0) -> Fita de papel microperfurado, 50 x 150 mm, para tratamento de juntas de chapa de gesso para drywall | E15: =VLOOKUP(B15,'INSUMOS SINAPI-DER SET-2023_2'!$A$1:$E$6493,4,0) -> M | F15: 2.5027 | H15: =VLOOKUP(B15,'INSUMOS SINAPI-DER SET-2023_2'!$A$1:$E$6493,5,0) -> 0,31 | J15: =TRUNC(F15*H15,2) -> 0.77
B16: 39432 | C16: =VLOOKUP(B16,'INSUMOS SINAPI-DER SET-2023_2'!$A$1:$E$6493,2,0) -> SINAPI | D16: =VLOOKUP(B16,'INSUMOS SINAPI-DER SET-2023_2'!$A$1:$E$6493,3,0) -> Fita de papel reforcada com lamina de metal para reforco de cantos de chapa de gesso para drywall | E16: =VLOOKUP(B16,'INSUMOS SINAPI-DER SET-2023_2'!$A$1:$E$6493,4,0) -> M | F16: 1.5851 | H16: =VLOOKUP(B16,'INSUMOS SINAPI-DER SET-2023_2'!$A$1:$E$6493,5,0) -> 2,81 | J16: =TRUNC(F16*H16,2) -> 4.45
B17: 39434 | C17: =VLOOKUP(B17,'INSUMOS SINAPI-DER SET-2023_2'!$A$1:$E$6493,2,0) -> SINAPI | D17: =VLOOKUP(B17,'INSUMOS SINAPI-DER SET-2023_2'!$A$1:$E$6493,3,0) -> Massa de rejunte em po para drywall, a base de gesso, secagem rapida, para tratamento de juntas de chapa de gesso (necessita adicao de agua) | E17: =VLOOKUP(B17,'INSUMOS SINAPI-DER SET-2023_2'!$A$1:$E$6493,4,0) -> KG | F17: 1.0327 | H17: =VLOOKUP(B17,'INSUMOS SINAPI-DER SET-2023_2'!$A$1:$E$6493,5,0) -> 3,51 | J17: =TRUNC(F17*H17,2) -> 3.62
B18: 39435 | C18: =VLOOKUP(B18,'INSUMOS SINAPI-DER SET-2023_2'!$A$1:$E$6493,2,0) -> SINAPI | D18: =VLOOKUP(B18,'INSUMOS SINAPI-DER SET-2023_2'!$A$1:$E$6493,3,0) -> Parafuso dry wall, em aco fosfatizado, cabeca trombeta e ponta agulha (ta), comprimento 25 mm | E18: =VLOOKUP(B18,'INSUMOS SINAPI-DER SET-2023_2'!$A$1:$E$6493,4,0) -> UN | F18: 20.0077 | H18: =VLOOKUP(B18,'INSUMOS SINAPI-DER SET-2023_2'!$A$1:$E$6493,5,0) -> 0,11 | J18: =TRUNC(F18*H18,2) -> 2.2
B19: 39443 | C19: =VLOOKUP(B19,'INSUMOS SINAPI-DER SET-2023_2'!$A$1:$E$6493,2,0) -> SINAPI | D19: =VLOOKUP(B19,'INSUMOS SINAPI-DER SET-2023_2'!$A$1:$E$6493,3,0) -> Parafuso dry wall, em aco zincado, cabeca lentilha e ponta broca (lb), largura 4,2 mm, comprimento 13 mm | E19: =VLOOKUP(B19,'INSUMOS SINAPI-DER SET-2023_2'!$A$1:$E$6493,4,0) -> UN | F19: 0.9149 | H19: =VLOOKUP(B19,'INSUMOS SINAPI-DER SET-2023_2'!$A$1:$E$6493,5,0) -> 0,26 | J19: =TRUNC(F19*H19,2) -> 0.23
B20: SUBTOTAL: | J20: =SUM(J11:J19) -> 133.21
B21: MÃO DE OBRA (A) | J21: =SUM(J7:J8) -> 31.93
B22: MATERIAIS ( B ) | J22: =SUM(J11:J19) -> 133.21
B23: EQUIPAMENTOS ( C ) | J23: 0
B24: PRODUÇÃO DA EQUIPE ( D ) | J24: 1
G25: CUSTO HORÁRIO TOTAL (A+C) | J25: =J21+J23 -> 31.93
B26: CUSTO UNITÁRIO DA EXECUÇÃO [(A/D) + (C/D)] = ( E ) | J26: =(J21/J24)+(J23/J24) -> 31.93
G27: CUSTO DIRETO TOTAL (B+E) | J27: =J22+J26 -> 165.14
B28: ( H ) TOTAL | J28: =J27 -> 165.14
B31: Observações:
B32: 1. Preços unitários, códigos e descrição da mão de obra são compatíveis com a TABELA CUSTOS LABOR/CT-UFES PADRÃO DER NOVEMBRO/2023(LS=157,27; BDI=0%)
B33: 2. Preços unitários, códigos e descrição dos materiais são compatíveis com o SINAPI - SISTEMA NACIONAL DE PESQUISA DE CUSTOS E ÍNDICES DA CONSTRUÇÃO CIVIL 1 NOVEMBRO/2023
B34: 3. Os coeficientes utilizados para mão-de-obra e material são os mesmos da composição do serviço 96361 (Parede com placas de gesso acartonado (DRYWALL), para uso interno, com duas faces simples e estrutura metálica com guias duplas, com vãos.) do SINAPI.

Sheet COMP-06
B2: COMPOSIÇÃO DE PREÇO UNITÁRIO 06
B3: SERVIÇO: | D3: =VLOOKUP(B5,'Planilha Orçamentária'!$L$15:$T$126,4,0) -> Recolocação de porta em madeira de lei tipo angelim pedra ou equiv.c/enchimento em madeira 1a.qualidade esp. 30mm p/ pintura, inclusive alizares, dobradiças e fechadura externa em latão cromado LaFonte ou equiv., exclusive marco e porta, nas dim.: 0.80 x 2.10 m
B4: BASE: DER-ES e SINAPI DATA: NOVEMBRO-2023 | H4: Unidade | J4: =VLOOKUP(B5,'Planilha Orçamentária'!$L$15:$T$126,3,0) -> und.
B5: COMP-06 | H5: Item | J5: =VLOOKUP(B5,'Planilha Orçamentária'!$L$15:$T$126,2,0) -> 4.2
B6: CÓD. | C6: ÓRGÃO | D6: MÃO DE OBRA | E6: UNIDADE | F6: QUANTIDADE | H6: SALÁRIO HORA | J6: CUSTO HORÁRIO
B7: 10101 | C7: =VLOOKUP(B7,'INSUMOS SINAPI-DER SET-2023_2'!$A$1:$E$6493,2,0) -> DER/ES | D7: =VLOOKUP(B7,'INSUMOS SINAPI-DER SET-2023_2'!$A$1:$E$6493,3,0) -> Ajudante (ajudante pratico - sinduscon) | E7: =VLOOKUP(B7,'INSUMOS SINAPI-DER SET-2023_2'!$A$1:$E$6493,4,0) -> H | F7: 3.75 | H7: =VLOOKUP(B7,'INSUMOS SINAPI-DER SET-2023_2'!$A$1:$E$6493,5,0)*2.5727 -> 19.192342 | J7: =TRUNC(F7*H7,3) -> 71.971
B8: 10111 | C8: =VLOOKUP(B8,'INSUMOS SINAPI-DER SET-2023_2'!$A$1:$E$6493,2,0) -> DER/ES | D8: =VLOOKUP(B8,'INSUMOS SINAPI-DER SET-2023_2'!$A$1:$E$6493,3,0) -> Carpinteiro (oficial - sinduscon) | E8: =VLOOKUP(B8,'INSUMOS SINAPI-DER SET-2023_2'!$A$1:$E$6493,4,0) -> H | F8: 3.75 | H8: =VLOOKUP(B8,'INSUMOS SINAPI-DER SET-2023_2'!$A$1:$E$6493,5,0)*2.5727 -> 22.742668 | J8: =TRUNC(F8*H8,2) -> 85.28
B9: SUBTOTAL | J9: =SUM(J7:J8) -> 157.251
B10: CÓD. | C10: ÓRGÃO | D10: MATERIAIS | E10: UNIDADE | F10: QUANTIDADE | H10: CUSTO UNITÁRIO | J10: CUSTO
B11: 30496 | C11: =VLOOKUP(B11,'INSUMOS SINAPI-DER SET-2023_2'!$A$1:$E$6493,2,0) -> DER/ES | D11: =VLOOKUP(B11,'INSUMOS SINAPI-DER SET-2023_2'!$A$1:$E$6493,3,0) -> Alizar / guarnicao em mad de lei 5x2.5cm | E11: =VLOOKUP(B11,'INSUMOS SINAPI-DER SET-2023_2'!$A$1:$E$6493,4,0) -> M | F11: 11 | H11: =VLOOKUP(B11,'INSUMOS SINAPI-DER SET-2023_2'!$A$1:$E$6493,5,0) -> 24.27 | J11: =TRUNC(F11*H11,2) -> 266.97
B12: 31601 | C12: =VLOOKUP(B12,'INSUMOS SINAPI-DER SET-2023_2'!$A$1:$E$6493,2,0) -> DER/ES | D12: =VLOOKUP(B12,'INSUMOS SINAPI-DER SET-2023_2'!$A$1:$E$6493,3,0) -> Dobradica em latao cromado 3 x 2.1/2" c/ parafuso | E12: =VLOOKUP(B12,'INSUMOS SINAPI-DER SET-2023_2'!$A$1:$E$6493,4,0) -> UN | F12: 3 | H12: =VLOOKUP(B12,'INSUMOS SINAPI-DER SET-2023_2'!$A$1:$E$6493,5,0) -> 36.57 | J12: =TRUNC(F12*H12,2) -> 109.71
B13: 31508 | C13: =VLOOKUP(B13,'INSUMOS SINAPI-DER SET-2023_2'!$A$1:$E$6493,2,0) -> DER/ES | D13: =VLOOKUP(B13,'INSUMOS SINAPI-DER SET-2023_2'!$A$1:$E$6493,3,0) -> Fechadura completa porta externa | E13: =VLOOKUP(B13,'INSUMOS SINAPI-DER SET-2023_2'!$A$1:$E$6493,4,0) -> UN | F13: 1 | H13: =VLOOKUP(B13,'INSUMOS SINAPI-DER SET-2023_2'!$A$1:$E$6493,5,0) -> 372.71 | J13: =TRUNC(F13*H13,2) -> 372.71
B14: 26560 | C14: =VLOOKUP(B14,'INSUMOS SINAPI-DER SET-2023_2'!$A$1:$E$6493,2,0) -> DER/ES | D14: =VLOOKUP(B14,'INSUMOS SINAPI-DER SET-2023_2'!$A$1:$E$6493,3,0) -> Prego - preco medio das bitolas | E14: =VLOOKUP(B14,'INSUMOS SINAPI-DER SET-2023_2'!$A$1:$E$6493,4,0) -> KG | F14: 0.2 | H14: =VLOOKUP(B14,'INSUMOS SINAPI-DER SET-2023_2'!$A$1:$E$6493,5,0) -> 17.58 | J14: =TRUNC(F14*H14,2) -> 3.51
I15: SUBTOTAL | J15: =SUM(J11:J13) -> 749.39
B16: MÃO DE OBRA (A) | J16: =SUM(J7:J8) -> 157.251
B17: MATERIAIS ( B ) | J17: =SUM(J11:J13) -> 749.39
B18: EQUIPAMENTOS ( C ) | J18: 0
B19: PRODUÇÃO DA EQUIPE ( D ) | J19: 1
G20: CUSTO HORÁRIO TOTAL (A+C) | J20: =J16+J18 -> 157.251
B21: CUSTO UNITÁRIO DA EXECUÇÃO [(A/D) + (C/D)] = ( E ) | J21: =(J16/J19)+(J18/J19) -> 157.251
G22: CUSTO DIRETO TOTAL (B+E) | J22: =J17+J21 -> 906.641
B23: ( H ) TOTAL | J23: =J22 -> 906.641
B26: Observações:
B27: 1. Preços unitários, códigos e descrição dos insumos e mão de obra são compatíveis com a TABELA CUSTOS LABOR/CT-UFES PADRÃO DER NOVEMBRO/2023(LS=157,27; BDI=0%)
B28: 2. Os coeficientes utilizados para mão-de-obra e para insumos são os mesmos da composição do serviço 061303,TABELA CUSTOS LABOR/CT-UFES PADRÃO DER NOVEMBRO/2023(LS=157,27; BDI=0%)

Sheet COMP-07
B2: COMPOSIÇÃO DE PREÇO UNITÁRIO 07
B3: SERVIÇO: | D3: =VLOOKUP(B5,'Planilha Orçamentária'!$L$15:$T$126,4,0) -> Porta radiológica em mad/mad de lei, p/pintura, dim: 0,92x2,12m, laminado de chumbo embutido, e=2mm, dobradiças reforçadas, fechadura autoblocante, marca Arouca, ref.: 108449/40-Z-ZCE ou similar, maçaneta tipo alavanca, inclusive batentes de madeira.
B4: BASE: DER- ES, SINAPI e ORSE – DATA : NOVEMBRO-2023 | H4: Unidade | J4: =VLOOKUP(B5,'Planilha Orçamentária'!$L$15:$T$126,3,0) -> und.
B5: COMP-07 | H5: Item | J5: =VLOOKUP(B5,'Planilha Orçamentária'!$L$15:$T$126,2,0) -> 4.3
B6: CÓD. | C6: ÓRGÃO | D6: MÃO DE OBRA | E6: UNIDADE | F6: QUANTIDADE | H6: SALÁRIO HORA | J6: CUSTO HORÁRIO
B7: 1213 | C7: =VLOOKUP(B7,'INSUMOS SINAPI-DER SET-2023_2'!$A$1:$E$6493,2,0) -> SINAPI | D7: =VLOOKUP(B7,'INSUMOS SINAPI-DER SET-2023_2'!$A$1:$E$6493,3,0) -> Carpinteiro de formas (horista) | E7: =VLOOKUP(B7,'INSUMOS SINAPI-DER SET-2023_2'!$A$1:$E$6493,4,0) -> H | F7: 3.9 | H7: =VLOOKUP(B7,'INSUMOS SINAPI-DER SET-2023_2'!$A$1:$E$6493,5,0)/2.1566*2.5727 -> 26.888926 | J7: =TRUNC(F7*H7,2) -> 104.86
B8: 10146 | C8: =VLOOKUP(B8,'INSUMOS SINAPI-DER SET-2023_2'!$A$1:$E$6493,2,0) -> DER/ES | D8: =VLOOKUP(B8,'INSUMOS SINAPI-DER SET-2023_2'!$A$1:$E$6493,3,0) -> Servente (auxiliar de obras - sinduscon) | E8: =VLOOKUP(B8,'INSUMOS SINAPI-DER SET-2023_2'!$A$1:$E$6493,4,0) -> H | F8: 3.9 | H8: =VLOOKUP(B8,'INSUMOS SINAPI-DER SET-2023_2'!$A$1:$E$6493,5,0)*2.5727 -> 16.876912 | J8: =TRUNC(F8*H8,2) -> 65.81
B9: SUBTOTAL | D9: (LABOR) | J9: =SUM(J7:J8) -> 170.67
B10: CÓD. | C10: ÓRGÃO | D10: MATERIAIS | E10: UNIDADE | F10: CONSUMO | H10: CUSTO UNITÁRIO | J10: CUSTO
B11: 12919 | C11: ORSE | D11: PORTA RADIOLÓGICA EM MAD/MAD DE LEI P/PINTURA, DIM: 0,92X2,12M, LAMINADO DE CHUMBO EMBUTIDO, E=2MM, DOBRADIÇAS REFORÇADAS ANELADAS DE 3 1/2" X 3", FECHADURA TAMBOR AUTOBLOCANTE, MARCA AROUCA, REF.: 108449/40-Z-ZCE OU SIMILAR, MAÇANETA TIPO ALAVANC | E11: UNIDADE | F11: 1 | H11: 6371.04 | J11: =TRUNC(F11*H11,2) -> 6371.04
I12: SUBTOTAL | J12: =SUM(J11:J11) -> 6371.04
B13: MÃO DE OBRA (A) | J13: =SUM(J7:J8) -> 170.67
B14: MATERIAIS ( B ) | J14: =SUM(J11:J11) -> 6371.04
B15: EQUIPAMENTOS ( C ) | J15: 0
B16: PRODUÇÃO DA EQUIPE ( D ) | J16: 1
G17: CUSTO HORÁRIO TOTAL (A+C) | J17: =J13+J15 -> 170.67
B18: CUSTO UNITÁRIO DA EXECUÇÃO [(A/D) + (C/D)] = ( E ) | J18: =(J13/J16)+(J15/J16) -> 170.67
G19: CUSTO DIRETO TOTAL (B+E) | J19: =J14+J18 -> 6541.71
B20: ( H ) TOTAL | J20: =J19 -> 6541.71
B24: Observações:
B25: 1. Preços unitários, códigos e descrição mão de obra são compatíveis com a TABELA CUSTOS LABOR/CT-UFES PADRÃO DER NOVEMBRO/2023(LS=157,27; BDI=0%) e SINAPI
B26: 2. No item de mão de obra "CARPINTEIRO DE FORMAS" foi retirado a Lei Social do SINAPI (115,66%) e aplicado a Lei Social da TABELA CUSTOS REFERENCIAIS LABOR/CT- UFES PADRÃO DER-ES NOVEMBRO/2023 (157,27%).
B27: 3. Os coeficientes utilizados para mão-de-obra e material são os mesmos da composição do serviço 12082 "Porta radiológica em mad/mad de lei, p/pintura, dim: 0,92x2,12m, laminado de chumbo embutido, e=2mm, dobradiças reforçadas, fechadura autoblocante, marca Arouca, ref.: 108449/40-Z-ZCE ou similar, maçaneta tipo alavanca, inclusive batentes de madeira" do Orçamento de Obras do Sergipe - ORSE, sendo o preço unitário da mão de obra retirado da TABELA CUSTOS REFERENCIAIS LABOR/CT- UFES PADRÃO DER-ES NOVEMBRO/2023.
B28: 4. Os materiais, que não foram catalogados na TABELA CUSTOS REFERENCIAIS LABOR/CT- UFES PADRÃO DER-ES NOVEMBRO/2023, foram retirados do Orçamento de Obras do Sergipe – ORSE

Sheet COMP-08
B2: COMPOSIÇÃO DE PREÇO UNITÁRIO 08
B3: SERVIÇO: | D3: =VLOOKUP(B5,'Planilha Orçamentária'!$L$15:$T$126,4,0) -> Recolocação de Porta de madeira compensada lisa para pintura, 120x210x3,5cm, 2 folhas , incluso aduela 2a, alizar 2a e dobradiças, exclusive porta.
B4: BASE: DER-ES e SINAPI DATA: NOVEMBRO-2023 | H4: Unidade | J4: =VLOOKUP(B5,'Planilha Orçamentária'!$L$15:$T$126,3,0) -> und.
B5: COMP-08 | H5: Item | J5: =VLOOKUP(B5,'Planilha Orçamentária'!$L$15:$T$126,2,0) -> 4.4
B6: CÓD. | C6: ÓRGÃO | D6: MÃO DE OBRA | E6: UNIDADE | F6: QUANTIDADE | H6: SALÁRIO HORA | J6: CUSTO HORÁRIO
B7: 10111 | C7: =VLOOKUP(B7,'INSUMOS SINAPI-DER SET-2023_2'!$A$1:$E$6493,2,0) -> DER/ES | D7: =VLOOKUP(B7,'INSUMOS SINAPI-DER SET-2023_2'!$A$1:$E$6493,3,0) -> Carpinteiro (oficial - sinduscon) | E7: =VLOOKUP(B7,'INSUMOS SINAPI-DER SET-2023_2'!$A$1:$E$6493,4,0) -> H | F7: 3.458 | H7: =VLOOKUP(B7,'INSUMOS SINAPI-DER SET-2023_2'!$A$1:$E$6493,5,0)*2.5727 -> 22.742668 | J7: =TRUNC(F7*H7,2) -> 78.64
B8: 10139 | C8: =VLOOKUP(B8,'INSUMOS SINAPI-DER SET-2023_2'!$A$1:$E$6493,2,0) -> DER/ES | D8: =VLOOKUP(B8,'INSUMOS SINAPI-DER SET-2023_2'!$A$1:$E$6493,3,0) -> Pedreiro (oficial - sinduscon) | E8: =VLOOKUP(B8,'INSUMOS SINAPI-DER SET-2023_2'!$A$1:$E$6493,4,0) -> H | F8: 1.389 | H8: =VLOOKUP(B8,'INSUMOS SINAPI-DER SET-2023_2'!$A$1:$E$6493,5,0)*2.5727 -> 22.742668 | J8: =TRUNC(F8*H8,2) -> 31.58
B9: 10146 | C9: =VLOOKUP(B9,'INSUMOS SINAPI-DER SET-2023_2'!$A$1:$E$6493,2,0) -> DER/ES | D9: =VLOOKUP(B9,'INSUMOS SINAPI-DER SET-2023_2'!$A$1:$E$6493,3,0) -> Servente (auxiliar de obras - sinduscon) | E9: =VLOOKUP(B9,'INSUMOS SINAPI-DER SET-2023_2'!$A$1:$E$6493,4,0) -> H | F9: 2.424 | H9: =VLOOKUP(B9,'INSUMOS SINAPI-DER SET-2023_2'!$A$1:$E$6493,5,0)*2.5727 -> 16.876912 | J9: =TRUNC(F9*H9,2) -> 40.9
B10: SUBTOTAL | D10: (LABOR) | J10: =SUM(J7:J9) -> 151.12
B11: CÓD. | C11: ÓRGÃO | D11: MATERIAIS | E11: UNIDADE | F11: QUANTIDADE | H11: CUSTO UNITÁRIO | J11: CUSTO
B12: 184 | C12: =VLOOKUP(B12,'INSUMOS SINAPI-DER SET-2023_2'!$A$1:$E$6493,2,0) -> SINAPI | D12: =VLOOKUP(B12,'INSUMOS SINAPI-DER SET-2023_2'!$A$1:$E$6493,3,0) -> Batente / portal / aduela / marco em madeira macica com rebaixo, e = *3* cm, l = *14* cm, para portas de giro de *60 cm a 120* cm x *210* cm, pinus / eucalipto / virola ou equivalente da regiao (nao inclui alizares) | E12: =VLOOKUP(B12,'INSUMOS SINAPI-DER SET-2023_2'!$A$1:$E$6493,4,0) -> JG | F12: 1 | H12: =VLOOKUP(B12,'INSUMOS SINAPI-DER SET-2023_2'!$A$1:$E$6493,5,0) -> 120,77 | J12: =TRUNC(F12*H12,2) -> 120.77
B13: 2433 | C13: =VLOOKUP(B13,'INSUMOS SINAPI-DER SET-2023_2'!$A$1:$E$6493,2,0) -> SINAPI | D13: =VLOOKUP(B13,'INSUMOS SINAPI-DER SET-2023_2'!$A$1:$E$6493,3,0) -> Dobradica em aco/ferro, 3" x 2 1/2", e= 1,2 a 1,8 mm, sem anel, cromado ou zincado, tampa chata, com parafusos | E13: =VLOOKUP(B13,'INSUMOS SINAPI-DER SET-2023_2'!$A$1:$E$6493,4,0) -> UN | F13: 6 | H13: =VLOOKUP(B13,'INSUMOS SINAPI-DER SET-2023_2'!$A$1:$E$6493,5,0) -> 6,42 | J13: =TRUNC(F13*H13,2) -> 38.52
B14: 11055 | C14: =VLOOKUP(B14,'INSUMOS SINAPI-DER SET-2023_2'!$A$1:$E$6493,2,0) -> SINAPI | D14: =VLOOKUP(B14,'INSUMOS SINAPI-DER SET-2023_2'!$A$1:$E$6493,3,0) -> Parafuso rosca soberba zincado cabeca chata fenda simples 3,5 x 25 mm (1 ") | E14: =VLOOKUP(B14,'INSUMOS SINAPI-DER SET-2023_2'!$A$1:$E$6493,4,0) -> UN | F14: 39.6 | H14: =VLOOKUP(B14,'INSUMOS SINAPI-DER SET-2023_2'!$A$1:$E$6493,5,0) -> 0,09 | J14: =TRUNC(F14*H14,2) -> 3.56
B15: 20017 | C15: =VLOOKUP(B15,'INSUMOS SINAPI-DER SET-2023_2'!$A$1:$E$6493,2,0) -> SINAPI | D15: =VLOOKUP(B15,'INSUMOS SINAPI-DER SET-2023_2'!$A$1:$E$6493,3,0) -> Guarnicao / alizar / vista lisa em madeira macica, para porta , e = *1* cm, l = *5* cm, cedrinho / angelim comercial / tauri/ curupixa / peroba / cumaru ou equivalente da regiao | E15: =VLOOKUP(B15,'INSUMOS SINAPI-DER SET-2023_2'!$A$1:$E$6493,4,0) -> M | F15: 6.3 | H15: =VLOOKUP(B15,'INSUMOS SINAPI-DER SET-2023_2'!$A$1:$E$6493,5,0) -> 7,09 | J15: =TRUNC(F15*H15,2) -> 44.66
B16: 20247 | C16: =VLOOKUP(B16,'INSUMOS SINAPI-DER SET-2023_2'!$A$1:$E$6493,2,0) -> SINAPI | D16: =VLOOKUP(B16,'INSUMOS SINAPI-DER SET-2023_2'!$A$1:$E$6493,3,0) -> Prego de aco polido com cabeca 15 x 15 (1 1/4 x 13) | E16: =VLOOKUP(B16,'INSUMOS SINAPI-DER SET-2023_2'!$A$1:$E$6493,4,0) -> KG | F16: 0.0315 | H16: =VLOOKUP(B16,'INSUMOS SINAPI-DER SET-2023_2'!$A$1:$E$6493,5,0) -> 22,17 | J16: =TRUNC(F16*H16,2) -> 0.69
B17: 39027 | C17: =VLOOKUP(B17,'INSUMOS SINAPI-DER SET-2023_2'!$A$1:$E$6493,2,0) -> SINAPI | D17: =VLOOKUP(B17,'INSUMOS SINAPI-DER SET-2023_2'!$A$1:$E$6493,3,0) -> Prego de aco polido com cabeca 19 x 36 (3 1/4 x 9) | E17: =VLOOKUP(B17,'INSUMOS SINAPI-DER SET-2023_2'!$A$1:$E$6493,4,0) -> KG | F17: 0.225 | H17: =VLOOKUP(B17,'INSUMOS SINAPI-DER SET-2023_2'!$A$1:$E$6493,5,0) -> 20,00 | J17: =TRUNC(F17*H17,2) -> 4.5
B18: COMP. 6.7.1 (88627) | D18: ARGAMASSA TRAÇO 1:0,5:4,5 (EM VOLUME DE CIMENTO, CAL E AREIA MÉDIA ÚMIDA)PARA ASSENTAMENTO DE ALVENARIA, PREPARO MANUAL. AF_08/2019 | E18: m³ | F18: 0.025 | H18: =J54 -> 550.45 | J18: =TRUNC(F18*H18,2) -> 13.76
I19: SUBTOTAL | J19: =SUM(J12:J18) -> 226.46
B20: MÃO DE OBRA (A) | J20: =SUM(J7:J9) -> 151.12
B21: MATERIAIS ( B ) | J21: =SUM(J12:J18) -> 226.46
B22: EQUIPAMENTOS ( C ) | J22: 0
B23: PRODUÇÃO DA EQUIPE ( D ) | J23: 1
G24: CUSTO HORÁRIO TOTAL (A+C) | J24: =J20+J22 -> 151.12
B25: CUSTO UNITÁRIO DA EXECUÇÃO [(A/D) + (C/D)] = ( E ) | J25: =(J20/J23)+(J22/J23) -> 151.12
G26: CUSTO DIRETO TOTAL (B+E) | J26: =J21+J25 -> 377.58
B27: ( H ) TOTAL | J27: =J26 -> 377.58
B30: Observações:
B31: 1. Preços unitários, códigos e descrição da mão de obra são compatíveis com a TABELA CUSTOS LABOR/CT-UFES PADRÃO DER NOVEMBRO/2023(LS=157,27; BDI=0%)
B32: 2. Os coeficientes utilizados para mão-de-obra e para material são os mesmos da composição do serviço 100700, SINAPI - SISTEMA NACIONAL DE PESQUISA DE CUSTOS E ÍNDICES DA CONSTRUÇÃO CIVIL 1
B35: COMPOSIÇÃO DE PREÇO UNITÁRIO ITEM 88627
B36: SERVIÇO: | D36: Argamassa traço 1:0,5:4,5 (em volume de cimento, cal e areia média úmida)para assentamento de alvenaria, preparo manual. Af_08/2019
B37: BASE: DER-ES e SINAPI DATA: NOVEMBRO-2023 | E37: ESPECIFICAÇÃO: - | H37: UNIDADE: m³
B39: CÓD. | C39: ÓRGÃO | D39: MÃO DE OBRA | E39: UNIDADE | F39: QUANTIDADE | H39: SALÁRIO HORA | J39: CUSTO HORÁRIO
B40: 10146 | C40: =VLOOKUP(B40,'INSUMOS SINAPI-DER SET-2023_2'!$A$1:$E$6493,2,0) -> DER/ES | D40: =VLOOKUP(B40,'INSUMOS SINAPI-DER SET-2023_2'!$A$1:$E$6493,3,0) -> Servente (auxiliar de obras - sinduscon) | E40: =VLOOKUP(B40,'INSUMOS SINAPI-DER SET-2023_2'!$A$1:$E$6493,4,0) -> H | F40: 8.78 | H40: =VLOOKUP(B40,'INSUMOS SINAPI-DER SET-2023_2'!$A$1:$E$6493,5,0)*2.5727 -> 16.876912 | J40: =TRUNC(F40*H40,2) -> 148.17
B41: SUBTOTAL | D41: (LABOR) | J41: =SUM(J40:J40) -> 148.17
B42: CÓD. | C42: ÓRGÃO | D42: MATERIAIS | E42: UNIDADE | F42: QUANTIDADE | H42: CUSTO UNITÁRIO | J42: CUSTO
B43: 370 | C43: =VLOOKUP(B43,'INSUMOS SINAPI-DER SET-2023_2'!$A$1:$E$6493,2,0) -> SINAPI | D43: =VLOOKUP(B43,'INSUMOS SINAPI-DER SET-2023_2'!$A$1:$E$6493,3,0) -> Areia media - posto jazida/fornecedor (retirado na jazida, sem transporte) | E43: =VLOOKUP(B43,'INSUMOS SINAPI-DER SET-2023_2'!$A$1:$E$6493,4,0) -> M3 | F43: 1.13 | H43: =VLOOKUP(B43,'INSUMOS SINAPI-DER SET-2023_2'!$A$1:$E$6493,5,0) -> 75,84 | J43: =TRUNC(F43*H43,2) -> 85.69
