Workbook
Name Print_Area_0_0: 'Planilha Orçamentária'!$A$1:$K$713
Name Print_Area_0_0_0: 'Planilha Orçamentária'!$A$1:$O$713

Sheet Planilha Orçamentária
B2: PREFEITURA MUNICIPAL DE SÃO ROQUE DO CANAÃ
B8: PLANILHA ORÇAMENTÁRIA
B9: OBRA: CONSTRUÇÃO DE CRECHE MUNICIPAL - PROJETO PADRÃO FNDE TIPO I
B10: LOCAL: Bairro Francisco Torezani, s/n - São Roque do Canaã | G10: BDI: | H10: MATERIAL | I10: GERAL | J10: DATA
B11: REFERÊNCIAS (PLANILHA): SINAPI – JANEIRO/2025, Sem Desoneração | H11: 0.1557 | I11: 0.25 | J11: 23/05/2025
B12: REFERÊNCIAS (COMPOSIÇÕES): SINAPI – JANEIRO/2025, Sem Desoneração
B13: ITEM | C13: CÓDIGO | D13: REF. | E13: DESCRIÇÃO | F13: UND | G13: QUANT. | H13: UNIT. S/ BDI | I13: UNIT. C/ BDI | J13: TOTAL
B14: 1 | E14: SERVIÇOS PRELIMINARES
B15: 1.1 | C15: SINAPI | D15: 103689 | E15: Fornecimento e instalação de placa de obra com chapa galvanizada e estrutura de madeira. af_03/2022_ps | F15: m2 | G15: 6.48 | H15: 466.64 | I15: =ROUND(H15*(1+$I$11),2) -> 583.3 | J15: =ROUND(G15*I15,2) -> 3779.78 | L15: =J15+J16+J17+J18 -> 69763.57 | M15: =L15+L20 -> 109807.32
B16: 1.2 | C16: SINAPI | D16: 98459 | E16: Tapume com telha metálica. af_03/2024 | F16: m2 | G16: 501.6 | H16: 94.32 | I16: =ROUND(H16*(1+$I$11),2) -> 117.9 | J16: =ROUND(G16*I16,2) -> 59138.64
B17: 1.3 | C17: SINAPI | D17: 101509 | E17: Entrada de energia elétrica, aérea, trifásica, com caixa de embutir, cabo de 10 mm2 e disjuntor din 50a (não incluso o poste de concreto). af_07/2020 | F17: un | G17: 1 | H17: 2046.95 | I17: =ROUND(H17*(1+$I$11),2) -> 2558.69 | J17: =ROUND(G17*I17,2) -> 2558.69
B18: 1.4 | C18: Outros | D18: FNDE 03 | E18: Ligação provisória de água e esgoto | F18: un | G18: 1 | H18: 3429.17 | I18: =ROUND(H18*(1+$I$11),2) -> 4286.46 | J18: =ROUND(G18*I18,2) -> 4286.46
B19: 1.5 | C19: SINAPI | D19: 99059 | E19: Locação convencional de obra, utilizando gabarito de tábuas corridas pontaletadas a cada 2,00m - 2 utilizações. af_03/2024 | F19: m | G19: 254 | H19: 72.17 | I19: =ROUND(H19*(1+$I$11),2) -> 90.21 | J19: =ROUND(G19*I19,2) -> 22913.34
B20: 1.6 | C20: Outros | D20: FNDE 244 | E20: Administração local tipo 1 | F20: un | G20: 1 | H20: 384420 | I20: =ROUND(H20*(1+$I$11),2) -> 480525 | J20: =ROUND(G20*I20,2) -> 480525 | L20: =J20/12 -> 40043.75 | M20: =L20+M21+J19 -> 67610.717
B21: 1.7 | C21: Outros | D21: FNDE 231 | E21: Locacao de container 2,30 x 6,00 m, alt. 2,50 m, com 1 sanitario, para escritorio, completo, sem divisorias internas (nao inclui mobilizacao/desmobilizacao) | F21: mês | G21: 10 | H21: 1353.01 | I21: =ROUND(H21*(1+$I$11),2) -> 1691.26 | J21: =ROUND(G21*I21,2) -> 16912.6 | L21: =J21+J22+J23 -> 51189.9 | M21: =L21/11 -> 4653.6273
B22: 1.8 | C22: Outros | D22: FNDE 230 | E22: Locacao de container 2,30 x 6,00 m, alt. 2,50 m, para escritorio, sem divisorias internas e sem sanitario (nao inclui mobilizacao/desmobilizacao) | F22: mês | G22: 10 | H22: 1099.8 | I22: =ROUND(H22*(1+$I$11),2) -> 1374.75 | J22: =ROUND(G22*I22,2) -> 13747.5 | L22: =M21+L20 -> 44697.377
B23: 1.9 | C23: Outros | D23: FNDE 232 | E23: Locacao de container 2,30 x 6,00 m, alt. 2,50 m, para sanitario, com 4 bacias, 8 chuveiros,1 lavatorio e 1 mictorio (nao inclui mobilizacao/desmobilizacao) | F23: mês | G23: 10 | H23: 1642.38 | I23: =ROUND(H23*(1+$I$11),2) -> 2052.98 | J23: =ROUND(G23*I23,2) -> 20529.8
B24: Total do item | J24: =SUM(J15:J23) -> 624391.81
B26: 2 | E26: MOVIMENTAÇÃO DE TERRA PARA FUNDAÇÕES
B27: 2.1 | C27: SINAPI | D27: 98525 | E27: Limpeza mecanizada de camada vegetal, vegetação e pequenas árvores (diâmetro de tronco menor que 0,20 m), com trator de esteiras. af_03/2024 | F27: m2 | G27: 2925 | H27: 0.72 | I27: =ROUND(H27*(1+$I$11),2) -> 0.9 | J27: =ROUND(G27*I27,2) -> 2632.5
B28: 2.2 | C28: SINAPI | D28: 94304 | E28: Aterro mecanizado de vala com escavadeira hidráulica (capacidade da caçamba: 0,8 m³ / potência: 111 hp), largura até 2,5 m, profundidade até 1,5 m, com solo argilo-arenoso. af_08/2023 | F28: m3 | G28: 585 | H28: 78.37 | I28: =ROUND(H28*(1+$I$11),2) -> 97.96 | J28: =ROUND(G28*I28,2) -> 57306.6
B29: 2.3 | C29: SINAPI | D29: 96521 | E29: Escavação mecanizada para bloco de coroamento ou sapata com retroescavadeira (incluindo escavação para colocação de fôrmas). af_01/2024 | F29: m3 | G29: 457.05 | H29: 45.41 | I29: =ROUND(H29*(1+$I$11),2) -> 56.76 | J29: =ROUND(G29*I29,2) -> 25942.16
B30: 2.4 | C30: SINAPI | D30: 96525 | E30: Escavação mecanizada para viga baldrame ou sapata corrida com mini-escavadeira (incluindo escavação para colocação de fôrmas). af_01/2024 | F30: m3 | G30: 264.04 | H30: 60 | I30: =ROUND(H30*(1+$I$11),2) -> 75 | J30: =ROUND(G30*I30,2) -> 19803
B31: 2.5 | C31: SINAPI | D31: 101616 | E31: Preparo de fundo de vala com largura menor que 1,5 m (acerto do solo natural). af_08/2020 | F31: m2 | G31: 1317.99 | H31: 7.48 | I31: =ROUND(H31*(1+$I$11),2) -> 9.35 | J31: =ROUND(G31*I31,2) -> 12323.21
B32: 2.6 | C32: SINAPI | D32: 104740 | E32: Reaterro mecanizado de vala com retroescavadeira (capacidade da caçamba da retro: 0,26 m³/potência: 88 hp), largura 0,8 a 1,5 m, profundidade 1,5 a 3,0 m, com solo (sem substituição) de 1ª categoria e coMpactador de solos de percussão. af_08/2023 | F32: m3 | G32: 619.96 | H32: 31.53 | I32: =ROUND(H32*(1+$I$11),2) -> 39.41 | J32: =ROUND(G32*I32,2) -> 24432.62
B33: 2.7 | C33: SINAPI | D33: 104738 | E33: Aterro mecanizado de vala com minicarregadeira, com solo argilo-arenoso. af_08/2023 | F33: m3 | G33: 247.36 | H33: 83.4 | I33: =ROUND(H33*(1+$I$11),2) -> 104.25 | J33: =ROUND(G33*I33,2) -> 25787.28
B34: Total do item | J34: =SUM(J27:J33) -> 168227.37
B36: 3 | E36: FUNDAÇÕES
B37: 3.1 | C37: SINAPI | D37: 100896 | E37: Estaca escavada mecanicamente, sem fluido estabilizante, com 25cm de diâmetro, concreto lançado por caminhão betoneira (exclusive mobilização e desmobilização). af_01/2020_pa | F37: m | G37: 620 | H37: 70.55 | I37: =ROUND(H37*(1+$I$11),2) -> 88.19 | J37: =ROUND(G37*I37,2) -> 54677.8
B38: 3.2 | C38: SINAPI | D38: 100897 | E38: Estaca escavada mecanicamente, sem fluido estabilizante, com 40cm de diâmetro, concreto lançado por caminhão betoneira (exclusive mobilização e desmobilização). af_01/2020_pa | F38: m | G38: 205 | H38: 138.87 | I38: =ROUND(H38*(1+$I$11),2) -> 173.59 | J38: =ROUND(G38*I38,2) -> 35585.95
B39: 3.3 | C39: SINAPI | D39: 95601 | E39: Arrasamento mecanico de estaca de concreto armado, diametros de até 40 cm. af_05/2021 | F39: un | G39: 165 | H39: 20.42 | I39: =ROUND(H39*(1+$I$11),2) -> 25.53 | J39: =ROUND(G39*I39,2) -> 4212.45
B40: 3.4 | C40: SINAPI | D40: 96621 | E40: Lastro com material granular, aplicação em blocos de coroamento, espessura de *5 cm*. af_01/2024 | F40: m3 | G40: 1.37 | H40: 292.91 | I40: =ROUND(H40*(1+$I$11),2) -> 366.14 | J40: =ROUND(G40*I40,2) -> 501.61
B41: 3.5 | C41: SINAPI | D41: 96619 | E41: Lastro de concreto magro, aplicado em blocos de coroamento ou sapatas, espessura de 5 cm. af_01/2024 | F41: m2 | G41: 27.34 | H41: 41.11 | I41: =ROUND(H41*(1+$I$11),2) -> 51.39 | J41: =ROUND(G41*I41,2) -> 1405
B42: 3.6 | C42: SINAPI | D42: 96535 | E42: Fabricação, montagem e desmontagem de fôrma para sapata, em madeira serrada, e=25 mm, 4 utilizações. af_01/2024 | F42: m2 | G42: 20.39 | H42: 153.11 | I42: =ROUND(H42*(1+$I$11),2) -> 191.39 | J42: =ROUND(G42*I42,2) -> 3902.44
B43: 3.7 | C43: SINAPI | D43: 104918 | E43: Armação de sapata isolada, viga baldrame e sapata corrida utilizando aço CA-50 de 8 mm - montagem. af_01/2024 | F43: kg | G43: 762.7 | H43: 17.35 | I43: =ROUND(H43*(1+$I$11),2) -> 21.69 | J43: =ROUND(G43*I43,2) -> 16542.96
B44: 3.8 | C44: SINAPI | D44: 104919 | E44: Armação de sapata isolada, viga baldrame e sapata corrida utilizando aço CA-50 de 10 mm - montagem. af_01/2024 | F44: kg | G44: 62.54 | H44: 15.48 | I44: =ROUND(H44*(1+$I$11),2) -> 19.35 | J44: =ROUND(G44*I44,2) -> 1210.15
B45: 3.9 | C45: SINAPI | D45: 104916 | E45: Armação de sapata isolada, viga baldrame e sapata corrida utilizando aço CA-60 de 5 mm - montagem. af_01/2024 | F45: kg | G45: 16.11 | H45: 20.05 | I45: =ROUND(H45*(1+$I$11),2) -> 25.06 | J45: =ROUND(G45*I45,2) -> 403.72
B46: 3.10 | C46: SINAPI | D46: 96558 | E46: Concretagem de sapata, fck 30 Mpa, com uso de bomba - lançamento, adensamento e acabamento. af_01/2024 | F46: m3 | G46: 3.38 | H46: 884.22 | I46: =ROUND(H46*(1+$I$11),2) -> 1105.28 | J46: =ROUND(G46*I46,2) -> 3735.85
B47: 3.11 | C47: SINAPI | D47: 96621 | E47: Lastro com material granular, aplicação em blocos de coroamento, espessura de *5 cm*. af_01/2024 | F47: m3 | G47: 20.24 | H47: 292.91 | I47: =ROUND(H47*(1+$I$11),2) -> 366.14 | J47: =ROUND(G47*I47,2) -> 7410.67
B48: 3.12 | C48: SINAPI | D48: 96619 | E48: Lastro de concreto magro, aplicado em blocos de coroamento ou sapatas, espessura de 5 cm. af_01/2024 | F48: m2 | G48: 404.84 | H48: 41.11 | I48: =ROUND(H48*(1+$I$11),2) -> 51.39 | J48: =ROUND(G48*I48,2) -> 20804.73
...

Sheet Cronograma
B2: CRONOGRAMA FÍSICO-FINANCEIRO
B3: OBRA: CONSTRUÇÃO DE CRECHE MUNICIPAL - PROJETO PADRÃO FNDE TIPO I
B4: LOCAL: Bairro Francisco Torezani, s/n - São Roque do Canaã
B5: DATA: MAIO/2025
I6: PRAZO DE EXECUÇÃO | U6: TOTAIS
B7: ITEM | C7: DESCRIÇÃO | D7: UNID | F7: 1ºMÊS | G7: 2ºMÊS | H7: 3º MÊS | I7: 1ºMÊS | J7: 2ºMÊS | K7: 3ºMÊS | L7: 4ºMÊS | M7: 5ºMÊS | N7: 6ºMÊS | O7: 7ºMÊS | P7: 8ºMÊS | Q7: 9ºMÊS | R7: 10ºMÊS | S7: 11ºMÊS | T7: 12ºMÊS | U7: FÍSICO | V7: FINANCEIRO
B9: 1 | C9: =VLOOKUP(B9,'Planilha Orçamentária'!$B$14:$J$712,4,0) -> SERVIÇOS PRELIMINARES | D9: R$ | E9: ='Planilha Orçamentária'!J24 -> 624391.81 | I9: 109807.32 | J9: 67610.717 | K9: 44697.377 | L9: 44697.377 | M9: 44697.377 | N9: 44697.377 | O9: 44697.377 | P9: 44697.377 | Q9: 44697.377 | R9: 44697.377 | S9: 44697.377 | T9: 44697.377 | U9: =SUM(I10:T10) -> 1 | V9: =SUM(I9:T9) -> 624391.81
D10: VB | E10: =E9/$E$59 -> 0.10264685 | I10: =I9/$E$9 -> 0.17586284 | J10: =J9/$E$9 -> 0.10828252 | K10: =K9/$E$9 -> 0.071585464 | L10: =L9/$E$9 -> 0.071585464 | M10: =M9/$E$9 -> 0.071585464 | N10: =N9/$E$9 -> 0.071585464 | O10: =O9/$E$9 -> 0.071585464 | P10: =P9/$E$9 -> 0.071585464 | ... T10: =T9/$E$9 -> 0.071585464
B11: 2 | C11: =VLOOKUP(B11,'Planilha Orçamentária'!$B$14:$J$712,4,0) -> MOVIMENTAÇÃO DE TERRA PARA FUNDAÇÕES | D11: R$ | E11: ='Planilha Orçamentária'!J34 -> 168227.37 | I11: =I12*$E$11 -> 42056.842 | J11: =J12*$E$11 -> 126170.53 | U11: =SUM(I12:T12) -> 1 | V11: =SUM(I11:T11) -> 168227.37
D12: VB | E12: =E11/$E$59 -> 0.027655727 | I12: 0.25 | J12: 0.75
B13: 3 | C13: =VLOOKUP(B13,'Planilha Orçamentária'!$B$14:$J$712,4,0) -> FUNDAÇÕES | D13: R$ | E13: ='Planilha Orçamentária'!J57 -> 267647.71 | J13: =J14*$E$13 -> 26764.771 | K13: =K14*$E$13 -> 80294.313 | L13: =L14*$E$13 -> 160588.63 | U13: =SUM(I14:T14) -> 1 | V13: =SUM(I13:T13) -> 267647.71
D14: VB | E14: =E13/$E$59 -> 0.043999926 | J14: 0.1 | K14: 0.3 | L14: 0.6
B15: 4 | C15: =VLOOKUP(B15,'Planilha Orçamentária'!$B$14:$J$712,4,0) -> SUPERESTRUTURA | D15: R$ | E15: ='Planilha Orçamentária'!J98 -> 862935.79 | L15: =L16*$E$15 -> 86293.579 | M15: =M16*$E$15 -> 258880.74 | N15: =N16*$E$15 -> 258880.74 | O15: =O16*$E$15 -> 258880.74 | U15: =SUM(I16:T16) -> 1 | V15: =SUM(I15:T15) -> 862935.79
D16: VB | E16: =E15/$E$59 -> 0.14186227 | L16: 0.1 | M16: 0.3 | N16: 0.3 | O16: 0.3
B17: 5 | C17: =VLOOKUP(B17,'Planilha Orçamentária'!$B$14:$J$712,4,0) -> SISTEMA DE VEDAÇÃO VERTICAL | D17: R$ | E17: ='Planilha Orçamentária'!J114 -> 187875.92 | M17: =M18*$E$17 -> 28181.388 | N17: =N18*$E$17 -> 28181.388 | O17: =O18*$E$17 -> 56362.776 | P17: =P18*$E$17 -> 75150.368 | U17: =SUM(I18:T18) -> 1 | V17: =SUM(I17:T17) -> 187875.92
D18: VB | E18: =E17/$E$59 -> 0.030885849 | M18: 0.15 | N18: 0.15 | O18: 0.3 | P18: 0.4
B19: 6 | C19: =VLOOKUP(B19,'Planilha Orçamentária'!$B$14:$J$712,4,0) -> ESQUADRIAS | D19: R$ | E19: ='Planilha Orçamentária'!J166 -> 565718.98 | M19: =M20*$E$19 -> 56571.898 | N19: =N20*$E$19 -> 56571.898 | O19: =O20*$E$19 -> 169715.69 | P19: =P20*$E$19 -> 113143.8 | Q19: =Q20*$E$19 -> 84857.847 | R19: =R20*$E$19 -> 84857.847 | U19: =SUM(I20:T20) -> 1 | V19: =SUM(I19:T19) -> 565718.98
D20: VB | E20: =E19/$E$59 -> 0.093001332 | M20: 0.1 | N20: 0.1 | O20: 0.3 | P20: 0.2 | Q20: 0.15 | R20: 0.15
B21: 7 | C21: =VLOOKUP(B21,'Planilha Orçamentária'!$B$14:$J$712,4,0) -> SISTEMAS DE COBERTURA | D21: R$ | E21: ='Planilha Orçamentária'!J175 -> 466620.64 | M21: =M22*$E$21 -> 116655.16 | N21: =N22*$E$21 -> 163317.22 | O21: =O22*$E$21 -> 116655.16 | P21: =P22*$E$21 -> 69993.096 | U21: =SUM(I22:T22) -> 1 | V21: =SUM(I21:T21) -> 466620.64
D22: VB | E22: =E21/$E$59 -> 0.076710067 | M22: 0.25 | N22: 0.35 | O22: 0.25 | P22: 0.15
B23: 8 | C23: =VLOOKUP(B23,'Planilha Orçamentária'!$B$14:$J$712,4,0) -> IMPERMEABILIZAÇÃO | D23: R$ | E23: ='Planilha Orçamentária'!J183 -> 51849.88 | M23: =M24*$E$23 -> 51849.88 | U23: =SUM(I24:T24) -> 1 | V23: =SUM(I23:T23) -> 51849.88
D24: VB | E24: =E23/$E$59 -> 0.0085238574 | M24: 1
B25: 9 | C25: =VLOOKUP(B25,'Planilha Orçamentária'!$B$14:$J$712,4,0) -> REVESTIMENTOS INTERNO E EXTERNO | D25: R$ | E25: ='Planilha Orçamentária'!J200 -> 471228.21 | L25: =L26*$E$25 -> 47122.821 | M25: =M26*$E$25 -> 70684.231 | N25: =N26*$E$25 -> 70684.231 | O25: =O26*$E$25 -> 47122.821 | P25: =P26*$E$25 -> 70684.231 | Q25: =Q26*$E$25 -> 47122.821 | R25: =R26*$E$25 -> 70684.231 | S25: =S26*$E$25 -> 47122.821 | U25: =SUM(I26:T26) -> 1 | V25: =SUM(I25:T25) -> 471228.21
D26: VB | E26: =E25/$E$59 -> 0.077467528 | L26: 0.1 | M26: 0.15 | N26: 0.15 | O26: 0.1 | P26: 0.15 | Q26: 0.1 | R26: 0.15 | S26: 0.1
B27: 10 | C27: =VLOOKUP(B27,'Planilha Orçamentária'!$B$14:$J$712,4,0) -> SISTEMAS DE PISOS | D27: R$ | E27: ='Planilha Orçamentária'!J232 -> 591319.39 | L27: =L28*$E$27 -> 88697.908 | M27: =M28*$E$27 -> 88697.908 | N27: =N28*$E$27 -> 59131.939 | O27: =O28*$E$27 -> 118263.88 | P27: =P28*$E$27 -> 88697.908 | Q27: =Q28*$E$27 -> 59131.939 | R27: =R28*$E$27 -> 88697.908 | U27: =SUM(I28:T28) -> 1 | V27: =SUM(I27:T27) -> 591319.39
D28: VB | E28: =E27/$E$59 -> 0.097209909 | L28: 0.15 | M28: 0.15 | N28: 0.1 | O28: 0.2 | P28: 0.15 | Q28: 0.1 | R28: 0.15
B29: 11 | C29: =VLOOKUP(B29,'Planilha Orçamentária'!$B$14:$J$712,4,0) -> PINTURAS E ACABAMENTOS | D29: R$ | E29: ='Planilha Orçamentária'!J256 -> 192750.8 | Q29: =Q30*$E$29 -> 57825.24 | R29: =R30*$E$29 -> 48187.7 | S29: =S30*$E$29 -> 77100.32 | T29: =T30*$E$29 -> 9637.54 | U29: =SUM(I30:T30) -> 1 | V29: =SUM(I29:T29) -> 192750.8
D30: VB | E30: =E29/$E$59 -> 0.031687254 | Q30: 0.3 | R30: 0.25 | S30: 0.4 | T30: 0.05
B31: 12 | C31: =VLOOKUP(B31,'Planilha Orçamentária'!$B$14:$J$712,4,0) -> INSTALAÇÕES DE ÁGUA FRIA | D31: R$ | E31: ='Planilha Orçamentária'!J306 -> 200142.51 | N31: =N32*$E$31 -> 20014.251 | O31: =O32*$E$31 -> 40028.502 | P31: =P32*$E$31 -> 60042.753 | Q31: =Q32*$E$31 -> 40028.502 | R31: =R32*$E$31 -> 20014.251 | S31: =S32*$E$31 -> 20014.251 | U31: =SUM(I32:T32) -> 1 | V31: =SUM(I31:T31) -> 200142.51
D32: VB | E32: =E31/$E$59 -> 0.032902414 | N32: 0.1 | O32: 0.2 | P32: 0.3 | Q32: 0.2 | R32: 0.1 | S32: 0.1
B33: 13 | C33: =VLOOKUP(B33,'Planilha Orçamentária'!$B$14:$J$712,4,0) -> INSTALAÇÕES DE ÁGUAS PLUVIAIS | D33: R$ | E33: ='Planilha Orçamentária'!J328 -> 74723.64 | O33: =O34*$E$33 -> 14944.728 | P33: =P34*$E$33 -> 14944.728 | Q33: =Q34*$E$33 -> 22417.092 | R33: =R34*$E$33 -> 18680.91 | S33: =S34*$E$33 -> 3736.182 | U33: =SUM(I34:T34) -> 1 | V33: =SUM(I33:T33) -> 74723.64
D34: VB | E34: =E33/$E$59 -> 0.012284188 | O34: 0.2 | P34: 0.2 | Q34: 0.3 | R34: 0.25 | S34: 0.05
B35: 14 | C35: =VLOOKUP(B35,'Planilha Orçamentária'!$B$14:$J$712,4,0) -> INSTALAÇÕES DE ESGOTO SANITÁRIO | D35: R$ | E35: ='Planilha Orçamentária'!J377 -> 121253.5 | N35: =N36*$E$35 -> 24250.7 | O35: =O36*$E$35 -> 24250.7 | P35: =P36*$E$35 -> 24250.7 | Q35: =Q36*$E$35 -> 24250.7 | R35: =R36*$E$35 -> 24250.7 | U35: =SUM(I36:T36) -> 1 | V35: =SUM(I35:T35) -> 121253.5
D36: VB | E36: =E35/$E$59 -> 0.019933461 | N36: 0.2 | O36: 0.2 | P36: 0.2 | Q36: 0.2 | R36: 0.2
B37: 15 | C37: =VLOOKUP(B37,'Planilha Orçamentária'!$B$14:$J$712,4,0) -> LOUÇAS, ACESSÓRIOS E METAIS | D37: R$ | E37: ='Planilha Orçamentária'!J414 -> 100239.88 | P37: =P38*$E$37 -> 10023.988 | Q37: =Q38*$E$37 -> 20047.976 | R37: =R38*$E$37 -> 30071.964 | S37: =S38*$E$37 -> 40095.952 | U37: =SUM(I38:T38) -> 1 | V37: =SUM(I37:T37) -> 100239.88
D38: VB | E38: =E37/$E$59 -> 0.016478928 | P38: 0.1 | Q38: 0.2 | R38: 0.3 | S38: 0.4
B39: 16 | C39: =VLOOKUP(B39,'Planilha Orçamentária'!$B$14:$J$712,4,0) -> INSTALAÇÕES DE PROTEÇÃO CONTRA INCÊNDIO | D39: R$ | E39: ='Planilha Orçamentária'!J472 -> 86653.95 | N39: =N40*$E$39 -> 4332.6975 | O39: =O40*$E$39 -> 8665.395 | P39: =P40*$E$39 -> 8665.395 | Q39: =Q40*$E$39 -> 17330.79 | R39: =R40*$E$39 -> 25996.185 | S39: =S40*$E$39 -> 21663.487 | U39: =SUM(I40:T40) -> 1 | V39: =SUM(I39:T39) -> 86653.95
D40: VB | E40: =E39/$E$59 -> 0.01424547 | N40: 0.05 | O40: 0.1 | P40: 0.1 | Q40: 0.2 | R40: 0.3 | S40: 0.25
B41: 17 | C41: =VLOOKUP(B41,'Planilha Orçamentária'!$B$14:$J$712,4,0) -> INSTALAÇÕES ELÉTRICAS - 220v | D41: R$ | E41: ='Planilha Orçamentária'!J573 -> 329477.66 | L41: =L42*$E$41 -> 16473.883 | M41: =M42*$E$41 -> 32947.766 | N41: =N42*$E$41 -> 32947.766 | O41: =O42*$E$41 -> 65895.532 | P41: =P42*$E$41 -> 98843.298 | Q41: =Q42*$E$41 -> 82369.415 | U41: =SUM(I42:T42) -> 1 | V41: =SUM(I41:T41) -> 329477.66
D42: VB | E42: =E41/$E$59 -> 0.054164457 | L42: 0.05 | M42: 0.1 | N42: 0.1 | O42: 0.2 | P42: 0.3 | Q42: 0.25
...

Sheet BDI
B2: PREFEITURA MUNICIPAL DE SÃO ROQUE DO CANAÃ ESTADO DO ESPÍRITO SANTO SECRETARIA MUNICIPAL DE OBRAS E SERVIÇOS URBANOS – SETOR DE ENGENHARIA TAXA DE BDI PADRÃO APLICÁVEL
B4: OBRA: | C4: CONSTRUÇÃO DE CRECHE MUNICIPAL - PROJETO PADRÃO FNDE TIPO I
B5: LOCAL: | C5: Bairro Francisco Torezani, s/n - São Roque do Canaã | E5: DATA: MAIO/2025
B7: 1. Regime de Contribuição Previdenciária
C8: Sem Desoneração
B10: 2. Tipo de Intervenção
C11: Edificações
B13: 3. Incidências sobre o custo
C15: Administração Central - AC* | D15: 5.5 | E15: %
C16: Administração Local - AL* | D16: 0 | E16: %
C17: Riscos, Garantias e Seguros - R* | D17: 2.07 | E17: %
C18: Despesas e Encargos Financeiros - DF* | D18: 1.23 | E18: %
C20: Lucro - L* | D20: 8.3 | E20: %
B22: 4 – Incidências sobre o preço de venda
C24: Despesas Tributárias - DT | D24: =D25+D26+D27 -> 5.65 | E24: %
C25: ISS* | D25: 3 | E25: %
C26: COFINS* | D26: 2 | E26: %
C27: PIS* | D27: 0.65 | E27: %
B29: 5 – BDI | C29: ((1+(AC+S+R+G))(1+DF)(1+L))/(1 – I)) -1 = | D29: =((1+D15/100+D16/100+D17/100)*(1+D18/100)*(1+D20/100))/(1-D24/100)-1 -> 0.24993364
B32: 6 – BDI MATERIAL
C33: Valor obtido da Resolução TC Nº 366, de 22 de novembro de 2022 | D33: 0.1557
B35: ISS: De acordo com o Código Tributário do município de São Roque do Canaã, local onde a obra será executada, a alíquota do ISS é de 5% em relação à mão de obra do serviço. No entanto, segundo o art 91 § 8º da Lei Complementar 02/2022 da PMSRC, quando se tornar difícil a verificação do preço dos materiais aplicados à obra ou caso o contribuinte queira optar pelo regime presumido de dedução de materiais, sem a obrigatoriedade da comprovação, poderá ser optado a utilização da base de cálculo estimada do ISSQN no valor de 40% (quarenta por cento). Portanto o valor do ISS adotado é de 3,0% do custo total da obra.
