Workbook
Name Print_Area_0: CRONOGRAMA!$A$1:$AB$54
Name Print_Area_0: 'MEMO CALCULO '!$A$1:$H$1727
Name Print_Area_0_0: BDI!$A$1:$K$3
Name Print_Area_0_0: 'MEMO CALCULO '!$A$1:$H$1674
Name Print_Area_0_0_0: 'MEMO CALCULO '!$A$1:$H$1617
Name Print_Area_0_0_0_0: 'MEMO CALCULO '!$A$1:$H$1440

Sheet Planilha Orçamentária
A1: PREFEITURA MUNICIPAL DE SÃO ROQUE DO CANAÃ
A3: PLANILHA ORÇAMENTÁRIA | H3: DATA: Outubro/2025
A4: OBRA: Reforma e Ampliação da EMEIEF " Vale do Canaã"
A5: LOCAL:Rua João Guerini, n.º300, bairro Vila Verde, São Roque do Canaã/ES | H5: BDI Insumos | I5: 0.1557 | K5: =#REF!/I93 -> #REF!
A6: Referências: DER-Edificações e SINAPI – JUNHO/2025, Sem Desoneração - Leis Sociais: de acordo com cada referencial | H6: BDI Serviços | I6: 0.3136
A7: ITEM | B7: COD. | C7: REF. | D7: DESCRIÇÃO | E7: UNID. | F7: QUANT. | G7: UNIT. S/ BDI | H7: UNIT. C/ BDI | I7: VALOR CONTRATO INICIAL
A9: 1 | D9: INSTALAÇÃO DO CANTEIRO DE OBRAS
A10: 1.1 | B10: 20305 | C10: DER-ES | D10: =VLOOKUP(B10,'SERVIÇOS JUNHO-2025'!$A$1:$E$8877,3,0) -> Placa de obra nas dimensões de 2.0 x 4.0 m, padrão DER | E10: =VLOOKUP(B10,'SERVIÇOS JUNHO-2025'!$A$1:$E$8877,4,0) -> m2 | F10: =VLOOKUP(B10,'MEMO CALCULO '!$B:$G,6,0) -> 8 | G10: =VLOOKUP(B10,'SERVIÇOS JUNHO-2025'!$A$1:$E$8877,5,0) -> 294.79 | H10: =G10*(1+$I$6) -> 387.23614 | I10: =IFERROR((F10*H10),0) -> 3097.8892 | N10: =B10 -> 20305 | O10: =A10 -> 1.1 | P10: =D10 -> Placa de obra nas dimensões de 2.0 x 4.0 m, padrão DER | Q10: =E10 -> m2
A11: 1.2 | B11: 20801 | C11: DER-ES | D11: =VLOOKUP(B11,'SERVIÇOS JUNHO-2025'!$A$1:$E$8877,3,0) -> Barracão para escritório com sanitário área 14.50m2, de chapa de compens. 12mm e pontalete 8x8cm, piso cimentado e cobertura de telha de fibroc. 6mm, incl. ponto de luz e cx. de inspeção, conf. projeto (2 utilizações) | E11: =VLOOKUP(B11,'SERVIÇOS JUNHO-2025'!$A$1:$E$8877,4,0) -> m2 | F11: =VLOOKUP(B11,'MEMO CALCULO '!$B:$G,6,0) -> 14.5 | G11: =VLOOKUP(B11,'SERVIÇOS JUNHO-2025'!$A$1:$E$8877,5,0) -> 665.27 | H11: =G11*(1+$I$6) -> 873.89867 | I11: =IFERROR((F11*H11),0) -> 12671.531 | N11: =B11 -> 20801 | O11: =A11 -> 1.2 | P11: =D11 -> Barracão para escritório com sanitário área 14.50m2, de chapa de compens. 12mm e pontalete 8x8cm, piso cimentado e cobertura de telha de fibroc. 6mm, incl. ponto de luz e cx. de inspeção, conf. projeto (2 utilizações) | Q11: =E11 -> m2
A12: 1.3 | B12: 20803 | C12: DER-ES | D12: =VLOOKUP(B12,'SERVIÇOS JUNHO-2025'!$A$1:$E$8877,3,0) -> Barracão para depósito de cimento área de 10.90m2, de chapa de compensado 12mm e pontaletes 8x8cm, piso cimentado e cobertura de telhas de fibrocimento de 6mm, inclusive ponto de luz, conf. projeto (2 utilizações) | E12: =VLOOKUP(B12,'SERVIÇOS JUNHO-2025'!$A$1:$E$8877,4,0) -> m2 | F12: =VLOOKUP(B12,'MEMO CALCULO '!$B:$G,6,0) -> 10.9 | G12: =VLOOKUP(B12,'SERVIÇOS JUNHO-2025'!$A$1:$E$8877,5,0) -> 414.14 | H12: =G12*(1+$I$6) -> 544.0143 | I12: =IFERROR((F12*H12),0) -> 5929.7559 | N12: =B12 -> 20803 | O12: =A12 -> 1.3 | P12: =D12 -> Barracão para depósito de cimento área de 10.90m2, de chapa de compensado 12mm e pontaletes 8x8cm, piso cimentado e cobertura de telhas de fibrocimento de 6mm, inclusive ponto de luz, conf. projeto (2 utilizações) | Q12: =E12 -> m2
A13: 1.4 | B13: 20804 | C13: DER-ES | D13: =VLOOKUP(B13,'SERVIÇOS JUNHO-2025'!$A$1:$E$8877,3,0) -> Refeitório com paredes de chapa de compens. 12mm e pontaletes 8x8cm, piso ciment. e cobert. de telhas fibroc. 6mm, incl. ponto de luz e cx. de inspeção (cons. 1.21m2/func./turno), conf. projeto (2 utilização) | E13: =VLOOKUP(B13,'SERVIÇOS JUNHO-2025'!$A$1:$E$8877,4,0) -> m2 | F13: =VLOOKUP(B13,'MEMO CALCULO '!$B:$G,6,0) -> 14.5 | G13: =VLOOKUP(B13,'SERVIÇOS JUNHO-2025'!$A$1:$E$8877,5,0) -> 403.14 | H13: =G13*(1+$I$6) -> 529.5647 | I13: =IFERROR((F13*H13),0) -> 7678.6882 | N13: =B13 -> 20804 | O13: =A13 -> 1.4 | P13: =D13 -> Refeitório com paredes de chapa de compens. 12mm e pontaletes 8x8cm, piso ciment. e cobert. de telhas fibroc. 6mm, incl. ponto de luz e cx. de inspeção (cons. 1.21m2/func./turno), conf. projeto (2 utilização) | Q13: =E13 -> m2
A14: 1.5 | B14: 20809 | C14: DER-ES | D14: =VLOOKUP(B14,'SERVIÇOS JUNHO-2025'!$A$1:$E$8877,3,0) -> Galpão para corte e armação com área de 6.00m2, de peças de madeira 8x8cm e contraventamento de 5x7cm, cobertura de telhas de fibroc. de 6mm, inclusive ponto e cabo de alimentação da máquina, conf. projeto (2 utilizações) | E14: =VLOOKUP(B14,'SERVIÇOS JUNHO-2025'!$A$1:$E$8877,4,0) -> m2 | F14: =VLOOKUP(B14,'MEMO CALCULO '!$B:$G,6,0) -> 8 | G14: =VLOOKUP(B14,'SERVIÇOS JUNHO-2025'!$A$1:$E$8877,5,0) -> 213.27 | H14: =G14*(1+$I$6) -> 280.15147 | I14: =IFERROR((F14*H14),0) -> 2241.2118 | N14: =B14 -> 20809 | O14: =A14 -> 1.5 | P14: =D14 -> Galpão para corte e armação com área de 6.00m2, de peças de madeira 8x8cm e contraventamento de 5x7cm, cobertura de telhas de fibroc. de 6mm, inclusive ponto e cabo de alimentação da máquina, conf. projeto (2 utilizações) | Q14: =E14 -> m2
A15: 1.6 | B15: 20708 | C15: DER-ES | D15: =VLOOKUP(B15,'SERVIÇOS JUNHO-2025'!$A$1:$E$8877,3,0) -> Galpão para serraria e carpintaria área 12.00m2, em peça de madeira 8x8cm e contraventamento de 5x7cm, cobertura de telha de fibroc. de 6mm, inclusive ponto e cabo de alimentação da máquina, conf. projeto (1 utilização) | E15: =VLOOKUP(B15,'SERVIÇOS JUNHO-2025'!$A$1:$E$8877,4,0) -> m2 | F15: =VLOOKUP(B15,'MEMO CALCULO '!$B:$G,6,0) -> 12 | G15: =VLOOKUP(B15,'SERVIÇOS JUNHO-2025'!$A$1:$E$8877,5,0) -> 214.16 | H15: =G15*(1+$I$6) -> 281.32058 | I15: =IFERROR((F15*H15),0) -> 3375.8469 | N15: =B15 -> 20708 | O15: =A15 -> 1.6 | P15: =D15 -> Galpão para serraria e carpintaria área 12.00m2, em peça de madeira 8x8cm e contraventamento de 5x7cm, cobertura de telha de fibroc. de 6mm, inclusive ponto e cabo de alimentação da máquina, conf. projeto (1 utilização) | Q15: =E15 -> m2
H16: TOTAL DO ITEM | I16: =SUM(I10:I15) -> 34994.923 | N16: =B16 -> 0 | O16: =A16 -> 0 | P16: =D16 -> 0 | Q16: =E16 -> 0
A18: 2 | D18: SERVIÇOS PRELIMINARES | N18: =B18 -> 0 | O18: =A18 -> 2 | P18: =D18 -> SERVIÇOS PRELIMINARES | Q18: =E18 -> 0
A19: 2.1 | B19: 10202 | C19: DER-ES | D19: =VLOOKUP(B19,'SERVIÇOS JUNHO-2025'!$A$1:$E$8877,3,0) -> Demolição manual de revestimento cerâmico/porcelanato (pisos), exclusive lastro, sem reaproveitamento | E19: =VLOOKUP(B19,'SERVIÇOS JUNHO-2025'!$A$1:$E$8877,4,0) -> m2 | F19: =VLOOKUP(B19,'MEMO CALCULO '!$B:$G,6,0) -> 2336.51 | G19: =VLOOKUP(B19,'SERVIÇOS JUNHO-2025'!$A$1:$E$8877,5,0) -> 21.13 | H19: =G19*(1+$I$6) -> 27.756368 | I19: =IFERROR((F19*H19),0) -> 64853.031 | N19: =B19 -> 10202 | O19: =A19 -> 2.1 | P19: =D19 -> Demolição manual de revestimento cerâmico/porcelanato (pisos), exclusive lastro, sem reaproveitamento | Q19: =E19 -> m2
A20: 2.2 | B20: 10206 | C20: DER-ES | D20: =VLOOKUP(B20,'SERVIÇOS JUNHO-2025'!$A$1:$E$8877,3,0) -> Demolição manual de revestimento cerâmico/porcelanato (parede), exclusive emboço/reboco, sem reaproveitamento | E20: =VLOOKUP(B20,'SERVIÇOS JUNHO-2025'!$A$1:$E$8877,4,0) -> m2 | F20: =VLOOKUP(B20,'MEMO CALCULO '!$B:$G,6,0) -> 464.78 | G20: =VLOOKUP(B20,'SERVIÇOS JUNHO-2025'!$A$1:$E$8877,5,0) -> 23.54 | H20: =G20*(1+$I$6) -> 30.922144 | I20: =IFERROR((F20*H20),0) -> 14371.994 | N20: =B20 -> 10206 | O20: =A20 -> 2.2 | P20: =D20 -> Demolição manual de revestimento cerâmico/porcelanato (parede), exclusive emboço/reboco, sem reaproveitamento | Q20: =E20 -> m2
A21: 2.3 | B21: 10209 | C21: DER-ES | D21: =VLOOKUP(B21,'SERVIÇOS JUNHO-2025'!$A$1:$E$8877,3,0) -> Demolição manual de alvenaria de bloco furado (cerâmico), sem reaproveitamento | E21: =VLOOKUP(B21,'SERVIÇOS JUNHO-2025'!$A$1:$E$8877,4,0) -> m3 | F21: =VLOOKUP(B21,'MEMO CALCULO '!$B:$G,6,0) -> 19.06 | G21: =VLOOKUP(B21,'SERVIÇOS JUNHO-2025'!$A$1:$E$8877,5,0) -> 59.61 | H21: =G21*(1+$I$6) -> 78.303696 | I21: =IFERROR((F21*H21),0) -> 1492.4684 | N21: =B21 -> 10209 | O21: =A21 -> 2.3 | P21: =D21 -> Demolição manual de alvenaria de bloco furado (cerâmico), sem reaproveitamento | Q21: =E21 -> m3
A22: 2.4 | B22: 10210 | C22: DER-ES | D22: =VLOOKUP(B22,'SERVIÇOS JUNHO-2025'!$A$1:$E$8877,3,0) -> Demolição manual de concreto simples, sem reaproveitamento | E22: =VLOOKUP(B22,'SERVIÇOS JUNHO-2025'!$A$1:$E$8877,4,0) -> m3 | F22: =VLOOKUP(B22,'MEMO CALCULO '!$B:$G,6,0) -> 0.35 | G22: =VLOOKUP(B22,'SERVIÇOS JUNHO-2025'!$A$1:$E$8877,5,0) -> 225.81 | H22: =G22*(1+$I$6) -> 296.62402 | I22: =IFERROR((F22*H22),0) -> 103.81841 | N22: =B22 -> 10210 | O22: =A22 -> 2.4 | P22: =D22 -> Demolição manual de concreto simples, sem reaproveitamento | Q22: =E22 -> m3
A23: 2.5 | B23: 10255 | C23: DER-ES | D23: =VLOOKUP(B23,'SERVIÇOS JUNHO-2025'!$A$1:$E$8877,3,0) -> Remoção manual de telhas cerâmicas, tipo colonial, inclusive cumeeira, sem reaproveitamento | E23: =VLOOKUP(B23,'SERVIÇOS JUNHO-2025'!$A$1:$E$8877,4,0) -> m2 | F23: =VLOOKUP(B23,'MEMO CALCULO '!$B:$G,6,0) -> 1444.76 | G23: =VLOOKUP(B23,'SERVIÇOS JUNHO-2025'!$A$1:$E$8877,5,0) -> 15.67 | H23: =G23*(1+$I$6) -> 20.584112 | I23: =IFERROR((F23*H23),0) -> 29739.102 | N23: =B23 -> 10255 | O23: =A23 -> 2.5 | P23: =D23 -> Remoção manual de telhas cerâmicas, tipo colonial, inclusive cumeeira, sem reaproveitamento | Q23: =E23 -> m2
A24: 2.6 | B24: 10326 | C24: DER-ES | D24: =VLOOKUP(B24,'SERVIÇOS JUNHO-2025'!$A$1:$E$8877,3,0) -> Remoção manual de trama de madeira para cobertura, com reaproveitamento | E24: =VLOOKUP(B24,'SERVIÇOS JUNHO-2025'!$A$1:$E$8877,4,0) -> m2 | F24: =VLOOKUP(B24,'MEMO CALCULO '!$B:$G,6,0) -> 1444.76 | G24: =VLOOKUP(B24,'SERVIÇOS JUNHO-2025'!$A$1:$E$8877,5,0) -> 31.9 | H24: =G24*(1+$I$6) -> 41.90384 | I24: =IFERROR((F24*H24),0) -> 60540.992 | N24: =B24 -> 10326 | O24: =A24 -> 2.6 | P24: =D24 -> Remoção manual de trama de madeira para cobertura, com reaproveitamento | Q24: =E24 -> m2
A25: 2.7 | B25: 10238 | C25: DER-ES | D25: =VLOOKUP(B25,'SERVIÇOS JUNHO-2025'!$A$1:$E$8877,3,0) -> Apicoamento manual de superfície revestida com argamassa | E25: =VLOOKUP(B25,'SERVIÇOS JUNHO-2025'!$A$1:$E$8877,4,0) -> m2 | F25: =VLOOKUP(B25,'MEMO CALCULO '!$B:$G,6,0) -> 1894.87 | G25: =VLOOKUP(B25,'SERVIÇOS JUNHO-2025'!$A$1:$E$8877,5,0) -> 11.14 | H25: =G25*(1+$I$6) -> 14.633504 | I25: =IFERROR((F25*H25),0) -> 27728.588 | N25: =B25 -> 10238 | O25: =A25 -> 2.7 | P25: =D25 -> Apicoamento manual de superfície revestida com argamassa | Q25: =E25 -> m2
A26: 2.8 | B26: 10212 | C26: DER-ES | D26: =VLOOKUP(B26,'SERVIÇOS JUNHO-2025'!$A$1:$E$8877,3,0) -> Retirada manual cuidadosa de pavimento em paralelepípedos, inclusive limpeza e empilhamento para reaproveitamento | E26: =VLOOKUP(B26,'SERVIÇOS JUNHO-2025'!$A$1:$E$8877,4,0) -> m2 | F26: =VLOOKUP(B26,'MEMO CALCULO '!$B:$G,6,0) -> 2173.45 | G26: =VLOOKUP(B26,'SERVIÇOS JUNHO-2025'!$A$1:$E$8877,5,0) -> 21.51 | H26: =G26*(1+$I$6) -> 28.255536 | I26: =IFERROR((F26*H26),0) -> 61411.995 | N26: =B26 -> 10212 | O26: =A26 -> 2.8 | P26: =D26 -> Retirada manual cuidadosa de pavimento em paralelepípedos, inclusive limpeza e empilhamento para reaproveitamento | Q26: =E26 -> m2
A27: 2.9 | B27: 10216 | C27: DER-ES | D27: =VLOOKUP(B27,'SERVIÇOS JUNHO-2025'!$A$1:$E$8877,3,0) -> Retirada manual de meio-fio de concreto, sem reaproveitamento | E27: =VLOOKUP(B27,'SERVIÇOS JUNHO-2025'!$A$1:$E$8877,4,0) -> m | F27: =VLOOKUP(B27,'MEMO CALCULO '!$B:$G,6,0) -> 199.93 | G27: =VLOOKUP(B27,'SERVIÇOS JUNHO-2025'!$A$1:$E$8877,5,0) -> 11.14 | H27: =G27*(1+$I$6) -> 14.633504 | I27: =IFERROR((F27*H27),0) -> 2925.6765 | N27: =B27 -> 10216 | O27: =A27 -> 2.9 | P27: =D27 -> Retirada manual de meio-fio de concreto, sem reaproveitamento | Q27: =E27 -> m
A28: 2.10 | B28: 10214 | C28: DER-ES | D28: =VLOOKUP(B28,'SERVIÇOS JUNHO-2025'!$A$1:$E$8877,3,0) -> Retirada manual de portas e janelas de madeira, inclusive batentes (marcos), sem reaproveitamento | E28: =VLOOKUP(B28,'SERVIÇOS JUNHO-2025'!$A$1:$E$8877,4,0) -> m2 | F28: =VLOOKUP(B28,'MEMO CALCULO '!$B:$G,6,0) -> 380.85 | G28: =VLOOKUP(B28,'SERVIÇOS JUNHO-2025'!$A$1:$E$8877,5,0) -> 23.54 | H28: =G28*(1+$I$6) -> 30.922144 | I28: =IFERROR((F28*H28),0) -> 11776.699 | N28: =B28 -> 10214 | O28: =A28 -> 2.10 | P28: =D28 -> Retirada manual de portas e janelas de madeira, inclusive batentes (marcos), sem reaproveitamento | Q28: =E28 -> m2
A29: 2.11 | B29: 10215 | C29: DER-ES | D29: =VLOOKUP(B29,'SERVIÇOS JUNHO-2025'!$A$1:$E$8877,3,0) -> Retirada de esquadrias metálicas | E29: =VLOOKUP(B29,'SERVIÇOS JUNHO-2025'!$A$1:$E$8877,4,0) -> m2 | F29: =VLOOKUP(B29,'MEMO CALCULO '!$B:$G,6,0) -> 32.7 | G29: =VLOOKUP(B29,'SERVIÇOS JUNHO-2025'!$A$1:$E$8877,5,0) -> 11.14 | H29: =G29*(1+$I$6) -> 14.633504 | I29: =IFERROR((F29*H29),0) -> 478.51558 | N29: =B29 -> 10215 | O29: =A29 -> 2.11 | P29: =D29 -> Retirada de esquadrias metálicas | Q29: =E29 -> m2
A30: 2.12 | B30: 10225 | C30: DER-ES | D30: =VLOOKUP(B30,'SERVIÇOS JUNHO-2025'!$A$1:$E$8877,3,0) -> Retirada de bancada em granito, inclusive remoção de rodabanca e cantoneiras de fixação, sem reaproveitamento | E30: =VLOOKUP(B30,'SERVIÇOS JUNHO-2025'!$A$1:$E$8877,4,0) -> m2 | F30: =VLOOKUP(B30,'MEMO CALCULO '!$B:$G,6,0) -> 69.88 | G30: =VLOOKUP(B30,'SERVIÇOS JUNHO-2025'!$A$1:$E$8877,5,0) -> 35.29 | H30: =G30*(1+$I$6) -> 46.356944 | I30: =IFERROR((F30*H30),0) -> 3239.4232 | N30: =B30 -> 10225 | O30: =A30 -> 2.12 | P30: =D30 -> Retirada de bancada em granito, inclusive remoção de rodabanca e cantoneiras de fixação, sem reaproveitamento | Q30: =E30 -> m2
... A38: 2.20 | B38: 10246 | C38: DER-ES | D38: =VLOOKUP(B38,'SERVIÇOS JUNHO-2025'!$A$1:$E$8877,3,0) -> Lixamento manual de parede com pintura PVA para nivelamento e preparo da superfície para recebimento de nova camada de tinta | E38: =VLOOKUP(B38,'SERVIÇOS JUNHO-2025'!$A$1:$E$8877,4,0) -> m2 | F38: =VLOOKUP(B38,'MEMO CALCULO '!$B:$G,6,0) -> 2422.82 | G38: =VLOOKUP(B38,'SERVIÇOS JUNHO-2025'!$A$1:$E$8877,5,0) -> 4.99 | H38: =G38*(1+$I$6) -> 6.554864 | I38: =IFERROR((F38*H38),0) -> 15881.256 | N38: =B38 -> 10246 | O38: =A38 -> 2.20 | P38: =D38 -> Lixamento manual de parede com pintura PVA para nivelamento e preparo da superfície para recebimento de nova camada de tinta | Q38: =E38 -> m2
A39: 2.21 | B39: COMP-01 | D39: Demolição de rodapé cerâmico, de forma manual, sem reaproveitamento | E39: m | F39: =VLOOKUP(B39,'MEMO CALCULO '!$B:$G,6,0) -> 1314.63 | G39: ='COMP.01_RODAPÉ'!J17 -> 2.4350297 | H39: =G39*(1+$I$6) -> 3.198655 | I39: =IFERROR((F39*H39),0) -> 4205.0478 | N39: =B39 -> COMP-01 | O39: =A39 -> 2.21 | P39: =D39 -> Demolição de rodapé cerâmico, de forma manual, sem reaproveitamento | Q39: =E39 -> m
A40: 2.22 | B40: COMP-02 | D40: Remoção de forro de PVC, de forma manual, sem reaproveitamento. | E40: m2 | F40: =VLOOKUP(B40,'MEMO CALCULO '!$B:$G,6,0) -> 49.46 | G40: ='COMP.02_FORRO'!J17 -> 13.625089 | H40: =G40*(1+$I$6) -> 17.897916 | I40: =IFERROR((F40*H40),0) -> 885.23095 | N40: =B40 -> COMP-02 | O40: =A40 -> 2.22 | P40: =D40 -> Remoção de forro de PVC, de forma manual, sem reaproveitamento. | Q40: =E40 -> m2
A41: 2.23 | B41: COMP-03 | D41: Remoção de cercas e mourões, de forma manual, sem reaproveitamento | E41: m | F41: =VLOOKUP(B41,'MEMO CALCULO '!$B:$G,6,0) -> 300.71 | G41: ='COMP.03_REMOÇÃO CERCA'!J17 -> 8.7639257 | H41: =G41*(1+$I$6) -> 11.512293 | I41: =IFERROR((F41*H41),0) -> 3461.8616 | N41: =B41 -> COMP-03 | O41: =A41 -> 2.23 | P41: =D41 -> Remoção de cercas e mourões, de forma manual, sem reaproveitamento | Q41: =E41 -> m
H42: TOTAL DO ITEM | I42: =SUM(I19:I41) -> 308704.79 | N42: =B42 -> 0 | O42: =A42 -> 0 | P42: =D42 -> 0 | Q42: =E42 -> 0
N43: =B43 -> 0 | O43: =A43 -> 0 | P43: =D43 -> 0 | Q43: =E43 -> 0
A44: 3 | D44: MOVIMENTAÇÃO DE TERRA | N44: =B44 -> 0 | O44: =A44 -> 3 | P44: =D44 -> MOVIMENTAÇÃO DE TERRA | Q44: =E44 -> 0
A45: 3.1 | B45: 30101 | C45: DER-ES | D45: =VLOOKUP(B45,'SERVIÇOS JUNHO-2025'!$A$1:$E$8877,3,0) -> Escavação manual em material de 1a. categoria, até 1.50 m de profundidade | E45: =VLOOKUP(B45,'SERVIÇOS JUNHO-2025'!$A$1:$E$8877,4,0) -> m3 | F45: =VLOOKUP(B45,'MEMO CALCULO '!$B:$G,6,0) -> 127.95 | G45: =VLOOKUP(B45,'SERVIÇOS JUNHO-2025'!$A$1:$E$8877,5,0) -> 63.96 | H45: =G45*(1+$I$6) -> 84.017856 | I45: =IFERROR((F45*H45),0) -> 10750.085 | N45: =B45 -> 30101 | O45: =A45 -> 3.1 | P45: =D45 -> Escavação manual em material de 1a. categoria, até 1.50 m de profundidade | Q45: =E45 -> m3
A46: 3.2 | B46: 30210 | C46: DER-ES | D46: =VLOOKUP(B46,'SERVIÇOS JUNHO-2025'!$A$1:$E$8877,3,0) -> Aterro compactado utilizando compactador de placa vibratória com reaproveitamento do material | E46: =VLOOKUP(B46,'SERVIÇOS JUNHO-2025'!$A$1:$E$8877,4,0) -> m3 | F46: =VLOOKUP(B46,'MEMO CALCULO '!$B:$G,6,0) -> 85.89 | G46: =VLOOKUP(B46,'SERVIÇOS JUNHO-2025'!$A$1:$E$8877,5,0) -> 36.38 | H46: =G46*(1+$I$6) -> 47.788768 | I46: =IFERROR((F46*H46),0) -> 4104.5773 | N46: =B46 -> 30210 | O46: =A46 -> 3.2 | P46: =D46 -> Aterro compactado utilizando compactador de placa vibratória com reaproveitamento do material | Q46: =E46 -> m3
H47: TOTAL DO ITEM | I47: =SUM(I45:I46) -> 14854.662 | N47: =B47 -> 0 | O47: =A47 -> 0 | P47: =D47 -> 0 | Q47: =E47 -> 0
N48: =B48 -> 0 | O48: =A48 -> 0 | P48: =D48 -> 0 | Q48: =E48 -> 0
A49: 4 | D49: ESTRUTURAS | N49: =B49 -> 0 | O49: =A49 -> 4 | P49: =D49 -> ESTRUTURAS | Q49: =E49 -> 0
A50: 4.1 | D50: INFRAESTRUTURA
...

Sheet MEMO CALCULO 
B2: PREFEITURA MUNICIPAL DE SÃO ROQUE DO CANAÃ
B8: MEMÓRIA DE CÁLCULO DA PLANILHA ORÇAMENTÁRIA
B9: OBRA: Reforma e ampliação da EMEIEF " Vale do Canaã"
B10: LOCAL: Rua João Guerini, n.º300, bairro Vila Verde, São Roque do Canaã/ES
B11: REFERÊNCIA: DER-ES e SINAPI – junho/2025, Sem Desoneração - Leis Sociais: 157,27%
B13: Código | C13: Ref. | D13: Item | E13: Descrição | F13: Und | G13: Quant.
B15: 1 | E15: =VLOOKUP(B15,'Planilha Orçamentária'!$1:$1048576,4,0) -> INSTALAÇÃO DO CANTEIRO DE OBRAS
B16: 20305 | C16: DER-ES | D16: =VLOOKUP(B16,'Planilha Orçamentária'!$N$10:$Q$330,2,0) -> 1.1 | E16: =VLOOKUP(B16,'Planilha Orçamentária'!$N$9:$Q$330,3,0) -> Placa de obra nas dimensões de 2.0 x 4.0 m, padrão DER | F16: =VLOOKUP(B16,'Planilha Orçamentária'!$N$9:$Q$330,4,0) -> m2 | G16: =SUM(F17) -> 8
D17: 4,00 m x 2,00 m = 8,00 m² | F17: 8
B18: 20801 | C18: DER-ES | D18: =VLOOKUP(B18,'Planilha Orçamentária'!$N$10:$Q$330,2,0) -> 1.2 | E18: =VLOOKUP(B18,'Planilha Orçamentária'!$N$9:$Q$330,3,0) -> Barracão para escritório com sanitário área 14.50m2, de chapa de compens. 12mm e pontalete 8x8cm, piso cimentado e cobertura de telha de fibroc. 6mm, incl. ponto de luz e cx. de inspeção, conf. projeto (2 utilizações) | F18: =VLOOKUP(B18,'Planilha Orçamentária'!$N$9:$Q$330,4,0) -> m2 | G18: =SUM(F19) -> 14.5
D19: 14,50 m² | F19: 14.5
B20: 20803 | C20: DER-ES | D20: =VLOOKUP(B20,'Planilha Orçamentária'!$N$10:$Q$330,2,0) -> 1.3 | E20: =VLOOKUP(B20,'Planilha Orçamentária'!$N$9:$Q$330,3,0) -> Barracão para depósito de cimento área de 10.90m2, de chapa de compensado 12mm e pontaletes 8x8cm, piso cimentado e cobertura de telhas de fibrocimento de 6mm, inclusive ponto de luz, conf. projeto (2 utilizações) | F20: =VLOOKUP(B20,'Planilha Orçamentária'!$N$9:$Q$330,4,0) -> m2 | G20: =SUM(F21) -> 10.9
D21: 10,90 m² | F21: 10.9
B22: 20804 | C22: DER-ES | D22: =VLOOKUP(B22,'Planilha Orçamentária'!$N$10:$Q$330,2,0) -> 1.4 | E22: =VLOOKUP(B22,'Planilha Orçamentária'!$N$9:$Q$330,3,0) -> Refeitório com paredes de chapa de compens. 12mm e pontaletes 8x8cm, piso ciment. e cobert. de telhas fibroc. 6mm, incl. ponto de luz e cx. de inspeção (cons. 1.21m2/func./turno), conf. projeto (2 utilização) | F22: =VLOOKUP(B22,'Planilha Orçamentária'!$N$9:$Q$330,4,0) -> m2 | G22: =SUM(F23) -> 14.5
D23: 14,50 m² | F23: 14.5
B24: 20809 | C24: DER-ES | D24: =VLOOKUP(B24,'Planilha Orçamentária'!$N$10:$Q$330,2,0) -> 1.5 | E24: =VLOOKUP(B24,'Planilha Orçamentária'!$N$9:$Q$330,3,0) -> Galpão para corte e armação com área de 6.00m2, de peças de madeira 8x8cm e contraventamento de 5x7cm, cobertura de telhas de fibroc. de 6mm, inclusive ponto e cabo de alimentação da máquina, conf. projeto (2 utilizações) | F24: =VLOOKUP(B24,'Planilha Orçamentária'!$N$9:$Q$330,4,0) -> m2 | G24: =SUM(F25) -> 8
D25: 6,00 m² | F25: 8
B26: 20708 | C26: DER-ES | D26: =VLOOKUP(B26,'Planilha Orçamentária'!$N$10:$Q$330,2,0) -> 1.6 | E26: =VLOOKUP(B26,'Planilha Orçamentária'!$N$9:$Q$330,3,0) -> Galpão para serraria e carpintaria área 12.00m2, em peça de madeira 8x8cm e contraventamento de 5x7cm, cobertura de telha de fibroc. de 6mm, inclusive ponto e cabo de alimentação da máquina, conf. projeto (1 utilização) | F26: =VLOOKUP(B26,'Planilha Orçamentária'!$N$9:$Q$330,4,0) -> m2 | G26: =SUM(F27) -> 12
D27: 12,00 m² | F27: 12
B29: 2 | E29: =VLOOKUP(B29,'Planilha Orçamentária'!$1:$1048576,4,0) -> SERVIÇOS PRELIMINARES
B30: 10202 | C30: DER-ES | D30: =VLOOKUP(B30,'Planilha Orçamentária'!$N$10:$Q$330,2,0) -> 2.1 | E30: =VLOOKUP(B30,'Planilha Orçamentária'!$N$9:$Q$330,3,0) -> Demolição manual de revestimento cerâmico/porcelanato (pisos), exclusive lastro, sem reaproveitamento | F30: =VLOOKUP(B30,'Planilha Orçamentária'!$N$9:$Q$330,4,0) -> m2 | G30: =SUM(F31:F87) -> 2336.51
D31: TÉRREO
D32: Sala 18: 51,39 m² | F32: 51.39
D33: Sala 19: 49,86 m² | F33: 49.86
D34: Biblioteca:51,39 m² | F34: 51.39
D35: Sala 20: 51,40 m² | F35: 51.4
D36: Sala de Reunião: 22,79 m² | F36: 22.79
D37: WC Sala de Reunião: 2,24 m² | F37: 2.24
D38: Direção: 22,54 m² | F38: 22.54
D39: WC Direção: 2,23 m² | F39: 2.23
D40: PNE Feminino: 3,60 m² | F40: 3.6
D41: WC Feminino: 21,13 m² | F41: 21.13
D42: WC MAsculino: 21,13 m² | F42: 21.13
D43: PNE Masculino: 3,60 m² | F43: 3.6
... D63: Escada: 19,70 m² | F63: 19.7
D64: 1º ANDAR
D65: Sala 10: 51,39 m² | F65: 51.39
D66: Sala 11: 49,86 m² | F66: 49.86
D67: Sala 12: 51,39 m² | F67: 51.39
D68: Sala 13: 51,40 m² | F68: 51.4
...

Sheet CRONOGRAMA
B2: CRONOGRAMA FÍSICO-FINANCEIRO
B3: OBRA: Reforma e ampliação da EMEIEF " Vale do Canaã";
B4: LOCAL: Rua João Guerini, n.º 300, bairro Vila Verde, São Roque do Canaã/ES
B5: REFERÊNCIA: DER-ES e SINAPI – junho/2025, Sem Desoneração - Leis Sociais: 157,27%
H6: PRAZO DE EXECUÇÃO | Z6: TOTAIS
B7: ITEM | C7: DESCRIÇÃO | D7: UNID | F7: 1ºMÊS | G7: 2ºMÊS | H7: 1ºMÊS | I7: 2ºMÊS | J7: 3ºMÊS | K7: 4ºMÊS | L7: 5ºMÊS | M7: 6ºMÊS | N7: 7ºMÊS | O7: 8ºMÊS | P7: 9ºMÊS | Q7: 10ºMÊS | R7: 11ºMÊS | S7: 12ºMÊS | T7: 13ºMÊS | U7: 14ºMÊS | V7: 15ºMÊS | W7: 16ºMÊS | X7: 17ºMÊS | Y7: 18ºMÊS | Z7: FÍSICO | AA7: FINANCEIRO
B9: 1 | C9: ='Planilha Orçamentária'!D9 -> INSTALAÇÃO DO CANTEIRO DE OBRAS | D9: R$ | E9: ='Planilha Orçamentária'!I16 -> 34994.923 | H9: =H10*E9 -> 34994.923 | Z9: =SUM(H10:Y10) -> 1 | AA9: =SUM(H9:Y9) -> 34994.923
D10: VB | E10: =E9/$E$47 -> 0.004095768 | H10: 1
B11: 2 | C11: ='Planilha Orçamentária'!D18 -> SERVIÇOS PRELIMINARES | D11: R$ | E11: ='Planilha Orçamentária'!I42 -> 308704.79 | H11: =H12*$E$11 -> 92611.437 | I11: =I12*$E$11 -> 154352.39 | J11: =J12*$E$11 -> 61740.958 | Z11: =SUM(H12:Y12) -> 1 | AA11: =SUM(H11:Y11) -> 308704.79
D12: VB | E12: =E11/$E$47 -> 0.036130475 | H12: 0.3 | I12: 0.5 | J12: 0.2
B13: 3 | C13: ='Planilha Orçamentária'!D44 -> MOVIMENTAÇÃO DE TERRA | D13: R$ | E13: ='Planilha Orçamentária'!I47 -> 14854.662 | J13: =J14*$E$13 -> 7427.331 | K13: =K14*$E$13 -> 7427.331 | Z13: =SUM(H14:Y14) -> 1 | AA13: =SUM(H13:Y13) -> 14854.662
D14: VB | E14: =E13/$E$47 -> 0.0017385736 | J14: 0.5 | K14: 0.5
B15: 4 | C15: ='Planilha Orçamentária'!D49 -> ESTRUTURAS | D15: R$ | E15: ='Planilha Orçamentária'!I71 -> 861168.87 | J15: =J16*$E$15 -> 258350.66 | K15: =K16*$E$15 -> 258350.66 | L15: =L16*$E$15 -> 215292.22 | M15: =M16*$E$15 -> 129175.33 | Z15: =SUM(H16:Y16) -> 1 | AA15: =SUM(H15:Y15) -> 861168.87
D16: VB | E16: =E15/$E$47 -> 0.10079027 | J16: 0.3 | K16: 0.3 | L16: 0.25 | M16: 0.15
B17: 5 | C17: ='Planilha Orçamentária'!D73 -> PAREDES E PAINÉIS | D17: R$ | E17: ='Planilha Orçamentária'!I82 -> 394647.17 | L17: =L18*$E$17 -> 98661.794 | M17: =M18*$E$17 -> 78929.435 | N17: =N18*$E$17 -> 78929.435 | O17: =O18*$E$17 -> 78929.435 | P17: =P18*$E$17 -> 59197.076 | Z17: =SUM(H18:Y18) -> 1 | AA17: =SUM(H17:Y17) -> 394647.17
D18: VB | E18: =E17/$E$47 -> 0.046189079 | L18: 0.25 | M18: 0.2 | N18: 0.2 | O18: 0.2 | P18: 0.15
B19: 6 | C19: ='Planilha Orçamentária'!D84 -> PISOS | D19: R$ | E19: ='Planilha Orçamentária'!I93 -> 755326.86 | P19: =P20*$E$19 -> 151065.37 | Q19: =Q20*$E$19 -> 226598.06 | R19: =R20*$E$19 -> 226598.06 | S19: =S20*$E$19 -> 75532.686 | T19: =T20*$E$19 -> 75532.686 | Z19: =SUM(H20:Y20) -> 1 | AA19: =SUM(H19:Y19) -> 755326.86
D20: VB | E20: =E19/$E$47 -> 0.08840264 | P20: 0.2 | Q20: 0.3 | R20: 0.3 | S20: 0.1 | T20: 0.1
B21: 7 | C21: ='Planilha Orçamentária'!D95 -> ESQUADRIAS | D21: R$ | E21: ='Planilha Orçamentária'!I112 -> 1353187.8 | P21: =P22*$E$21 -> 135318.78 | Q21: =Q22*$E$21 -> 270637.55 | R21: =R22*$E$21 -> 338296.94 | S21: =S22*$E$21 -> 202978.17 | T21: =T22*$E$21 -> 202978.17 | U21: =U22*$E$21 -> 202978.17 | Z21: =SUM(H22:Y22) -> 1 | AA21: =SUM(H21:Y21) -> 1353187.8
D22: VB | E22: =E21/$E$47 -> 0.15837564 | P22: 0.1 | Q22: 0.2 | R22: 0.25 | S22: 0.15 | T22: 0.15 | U22: 0.15
B23: 8 | C23: ='Planilha Orçamentária'!D114 -> VIDROS E ESPELHOS | D23: R$ | E23: ='Planilha Orçamentária'!I117 -> 13647.205 | U23: =U24*$E$23 -> 6823.6027 | V23: =V24*$E$23 -> 6823.6027 | Z23: =SUM(H24:Y24) -> 1 | AA23: =SUM(H23:Y23) -> 13647.205
D24: VB | E24: =E23/$E$47 -> 0.0015972542 | U24: 0.5 | V24: 0.5
B25: 9 | C25: ='Planilha Orçamentária'!D119 -> REVESTIMENTOS | D25: R$ | E25: ='Planilha Orçamentária'!I125 -> 753261.49 | O25: =O26*$E$25 -> 75326.149 | P25: =P26*$E$25 -> 112989.22 | Q25: =Q26*$E$25 -> 150652.3 | R25: =R26*$E$25 -> 188315.37 | S25: =S26*$E$25 -> 150652.3 | T25: =T26*$E$25 -> 75326.149 | Z25: =SUM(H26:Y26) -> 1 | AA25: =SUM(H25:Y25) -> 753261.49
D26: VB | E26: =E25/$E$47 -> 0.088160912 | O26: 0.1 | P26: 0.15 | Q26: 0.2 | R26: 0.25 | S26: 0.2 | T26: 0.1
B27: 10 | C27: ='Planilha Orçamentária'!D127 -> PINTURA | D27: R$ | E27: ='Planilha Orçamentária'!I142 -> 370360.67 | U27: =U28*$E$27 -> 92590.167 | V27: =V28*$E$27 -> 92590.167 | W27: =W28*$E$27 -> 92590.167 | X27: =X28*$E$27 -> 92590.167 | Z27: =SUM(H28:Y28) -> 1 | AA27: =SUM(H27:Y27) -> 370360.67
D28: VB | E28: =E27/$E$47 -> 0.043346613 | U28: 0.25 | V28: 0.25 | W28: 0.25 | X28: 0.25
B29: 11 | C29: ='Planilha Orçamentária'!D144 -> INSTALAÇÕES ELÉTRICAS | D29: R$ | E29: ='Planilha Orçamentária'!I206 -> 997995.88 | M29: =M30*$E$29 -> 99799.588 | N29: =N30*$E$29 -> 99799.588 | O29: =O30*$E$29 -> 99799.588 | P29: =P30*$E$29 -> 99799.588 | Q29: =Q30*$E$29 -> 99799.588 | R29: =R30*$E$29 -> 99799.588 | S29: =S30*$E$29 -> 99799.588 | T29: =T30*$E$29 -> 99799.588 | ... V29: =V30*$E$29 -> 99799.588 | Z29: =SUM(H30:Y30) -> 1 | AA29: =SUM(H29:Y29) -> 997995.88
D30: VB | E30: =E29/$E$47 -> 0.11680436 | M30: 0.1 | N30: 0.1 | O30: 0.1 | P30: 0.1 | Q30: 0.1 | R30: 0.1 | S30: 0.1 | T30: 0.1 | U30: 0.1 | V30: 0.1
B31: 12 | C31: ='Planilha Orçamentária'!D208 -> INSTALAÇÕES DE PROTEÇÃO CONTRA INCÊNDIO | D31: R$ | E31: ='Planilha Orçamentária'!I233 -> 148549.94 | O31: =O32*$E$31 -> 44564.982 | P31: =P32*$E$31 -> 37137.485 | Q31: =Q32*$E$31 -> 37137.485 | R31: =R32*$E$31 -> 7427.497 | S31: =S32*$E$31 -> 7427.497 | T31: =T32*$E$31 -> 14854.994 | Z31: =SUM(H32:Y32) -> 1 | AA31: =SUM(H31:Y31) -> 148549.94
D32: VB | E32: =E31/$E$47 -> 0.017386125 | O32: 0.3 | P32: 0.25 | Q32: 0.25 | R32: 0.05 | S32: 0.05 | T32: 0.1
B33: 13 | C33: ='Planilha Orçamentária'!D235 -> DEPÓSITO DE GÁS | D33: R$ | E33: ='Planilha Orçamentária'!I241 -> 37915.027 | S33: =S34*$E$33 -> 9478.7569 | T33: =T34*$E$33 -> 18957.514 | U33: =U34*$E$33 -> 9478.7569 | Z33: =SUM(H34:Y34) -> 1 | AA33: =SUM(H33:Y33) -> 37915.027
D34: VB | E34: =E33/$E$47 -> 0.0044375339 | S34: 0.25 | T34: 0.5 | U34: 0.25
B35: 14 | C35: ='Planilha Orçamentária'!D243 -> INSTALAÇÕES DO SISTEMA DE PROTEÇÃO CONTRA DESCARGAS ATMOSFÉRICAS (SPDA) | D35: R$ | E35: ='Planilha Orçamentária'!I253 -> 48028.999 | T35: =T36*$E$35 -> 24014.5 | U35: =U36*$E$35 -> 12007.25 | V35: =V36*$E$35 -> 12007.25 | Z35: =SUM(H36:Y36) -> 1 | AA35: =SUM(H35:Y35) -> 48028.999
D36: VB | E36: =E35/$E$47 -> 0.0056212622 | T36: 0.5 | U36: 0.25 | V36: 0.25
B37: 15 | C37: ='Planilha Orçamentária'!D255 -> INSTALAÇÕES HIDROSSANITÁRIAS | D37: R$ | E37: ='Planilha Orçamentária'!I267 -> 81725.116 | P37: =P38*$E$37 -> 24517.535 | Q37: =Q38*$E$37 -> 16345.023 | R37: =R38*$E$37 -> 12258.767 | S37: =S38*$E$37 -> 16345.023 | T37: =T38*$E$37 -> 8172.5116 | U37: =U38*$E$37 -> 4086.2558 | Z37: =SUM(H38:Y38) -> 1 | AA37: =SUM(H37:Y37) -> 81725.116
D38: VB | E38: =E37/$E$47 -> 0.0095650194 | P38: 0.3 | Q38: 0.2 | R38: 0.15 | S38: 0.2 | T38: 0.1 | U38: 0.05
B39: 16 | C39: ='Planilha Orçamentária'!D269 -> APARELHOS HIDROSSANITÁRIOS | D39: R$ | E39: ='Planilha Orçamentária'!I293 -> 156237.81 | U39: =U40*$E$39 -> 39059.453 | V39: =V40*$E$39 -> 39059.453 | W39: =W40*$E$39 -> 39059.453 | X39: =X40*$E$39 -> 39059.453 | Z39: =SUM(H40:Y40) -> 1 | AA39: =SUM(H39:Y39) -> 156237.81
D40: VB | E40: =E39/$E$47 -> 0.018285905 | U40: 0.25 | V40: 0.25 | W40: 0.25 | X40: 0.25
B41: 17 | C41: ='Planilha Orçamentária'!D295 -> COBERTURA | D41: R$ | E41: ='Planilha Orçamentária'!I304 -> 907135.29 | M41: =M42*$E$41 -> 136070.29 | N41: =N42*$E$41 -> 181427.06 | O41: =O42*$E$41 -> 226783.82 | P41: =P42*$E$41 -> 181427.06 | Q41: =Q42*$E$41 -> 90713.529 | R41: =R42*$E$41 -> 45356.764 | S41: =S42*$E$41 -> 45356.764 | Z41: =SUM(H42:Y42) -> 1 | AA41: =SUM(H41:Y41) -> 907135.29
D42: VB | E42: =E41/$E$47 -> 0.10617013 | M42: 0.15 | N42: 0.2 | O42: 0.25 | P42: 0.2 | Q42: 0.1 | R42: 0.05 | S42: 0.05
...

Sheet BDI
B2: PREFEITURA MUNICIPAL DE SÃO ROQUE DO CANAÃ ESTADO DO ESPÍRITO SANTO SECRETARIA MUNICIPAL DE OBRAS E SERVIÇOS URBANOS – SETOR DE ENGENHARIA TAXA DE BDI PADRÃO APLICÁVEL
B4: OBRA: | C4: Reforma e ampliação da EMEIEF " Vale do Canaã"
B5: LOCAL: | C5: Rua João Guerini, n.º 300, bairro Vila Verde, São Roque do Canaã/ES | E5: DATA: OUT/2025
B7: 1. Regime de Contribuição Previdenciária
C8: Sem Desoneração
B10: 2. Tipo de Intervenção
C11: Edificações
B13: 3. Incidências sobre o custo
C15: Administração Central - AC* | D15: 3.26 | E15: %
C16: Administração Local - AL* | D16: 7.63 | E16: %
C17: Riscos, Garantias e Seguros - R* | D17: 1.5 | E17: %
C18: Despesas e Encargos Financeiros - DF* | D18: 0.61 | E18: %
C20: Lucro - L* | D20: 7 | E20: %
B22: 4 – Incidências sobre o preço de venda
C24: Despesas Tributárias - DT | D24: =D25+D26+D27 -> 8.65 | E24: %
C25: ISS* | D25: 5 | E25: %
C26: COFINS* | D26: 3 | E26: %
C27: PIS* | D27: 0.65 | E27: %
B29: 5 – BDI | C29: ((1+AC+AL+R+DF+L)/(1-DT))-1 | D29: =((1+D15/100+D16/100+D17/100+D18/100+D20/100)/(1-(D25/100+D26/100+D27/100)))-1 -> 0.3136289
B32: 6 – BDI MATERIAL
C33: Valor obtido da Resolução TC Nº 366, de novembro de 2022 | D33: 0.1557
B34: Observações: Os valores de administração central; administração local; riscos, garantias e seguros; CONFINS; PIS; despesas e encargos financeiros; e lucro foram retirados da Resolução TC Nº 366, de novembro de 202, bem como os dados para cálculo do BDI.
B35: ISS: De acordo art 91 § 8º da Lei Complementar 01/2021 da PMSRC do Código Tributário do município de São Roque do Canaã, local onde a obra será executada, a alíquota do ISS é de 5% em relação à mão de obra do serviço, a base de cálculo do ISS incidente sobre os serviços de construção civil corresponde ao valor total do preço contratado, vedada a dedução dos custos relativos a materiais utilizados na execução da obra.

Sheet CURVA ABC 
A1: PREFEITURA MUNICIPAL DE SÃO ROQUE DO CANAÃ
A3: PLANILHA ORÇAMENTÁRIA | H3: DATA: Outubro/2025
A4: OBRA: Reforma e ampliação da EMEIEF " Vale do Canaã"
A5: LOCAL:Rua João Guerini, n.º300, bairro Vila Verde, São Roque do Canaã/ES | H5: BDI Insumos | I5: 0.1557 | K5: =#REF!/I72 -> #REF!
A6: Referências: DER-Edificações e SINAPI – JUNHO/2025, Sem Desoneração - Leis Sociais: de acordo com cada referencial | H6: BDI Serviços | I6: 0.3136
A7: ITEM | B7: COD. | C7: REF. | D7: DESCRIÇÃO | E7: UNID. | F7: QUANT. | G7: UNIT. S/ BDI | H7: UNIT. C/ BDI | I7: VALOR CONTRATO INICIAL | N7: PESO (%) | O7: PESO ACUMULADO (%) | P7: CLASSIFICAÇÃO
A8: 1.1 | B8: 20305 | C8: DER-ES | D8: =VLOOKUP(B8,'SERVIÇOS JUNHO-2025'!$A$1:$E$8877,3,0) -> Placa de obra nas dimensões de 2.0 x 4.0 m, padrão DER | E8: =VLOOKUP(B8,'SERVIÇOS JUNHO-2025'!$A$1:$E$8877,4,0) -> m2 | F8: =VLOOKUP(B8,'MEMO CALCULO '!$B:$G,6,0) -> 8 | G8: =VLOOKUP(B8,'SERVIÇOS JUNHO-2025'!$A$1:$E$8877,5,0) -> 294.79 | H8: =G8*(1+$I$6) -> 387.23614 | I8: =IFERROR((F8*H8),0) -> 3097.8892 | N8: =I8/$I$249 -> 0.0003625736 | O8: =N8 -> 0.0003625736 | P8: A
A9: 1.2 | B9: 20801 | C9: DER-ES | D9: =VLOOKUP(B9,'SERVIÇOS JUNHO-2025'!$A$1:$E$8877,3,0) -> Barracão para escritório com sanitário área 14.50m2, de chapa de compens. 12mm e pontalete 8x8cm, piso cimentado e cobertura de telha de fibroc. 6mm, incl. ponto de luz e cx. de inspeção, conf. projeto (2 utilizações) | E9: =VLOOKUP(B9,'SERVIÇOS JUNHO-2025'!$A$1:$E$8877,4,0) -> m2 | F9: =VLOOKUP(B9,'MEMO CALCULO '!$B:$G,6,0) -> 14.5 | G9: =VLOOKUP(B9,'SERVIÇOS JUNHO-2025'!$A$1:$E$8877,5,0) -> 665.27 | H9: =G9*(1+$I$6) -> 873.89867 | I9: =IFERROR((F9*H9),0) -> 12671.531 | N9: =I9/$I$249 -> 0.0014830623 | O9: =O8+N9 -> 0.0018456359 | P9: A
A10: 1.3 | B10: 20803 | C10: DER-ES | D10: =VLOOKUP(B10,'SERVIÇOS JUNHO-2025'!$A$1:$E$8877,3,0) -> Barracão para depósito de cimento área de 10.90m2, de chapa de compensado 12mm e pontaletes 8x8cm, piso cimentado e cobertura de telhas de fibrocimento de 6mm, inclusive ponto de luz, conf. projeto (2 utilizações) | E10: =VLOOKUP(B10,'SERVIÇOS JUNHO-2025'!$A$1:$E$8877,4,0) -> m2 | F10: =VLOOKUP(B10,'MEMO CALCULO '!$B:$G,6,0) -> 10.9 | G10: =VLOOKUP(B10,'SERVIÇOS JUNHO-2025'!$A$1:$E$8877,5,0) -> 414.14 | H10: =G10*(1+$I$6) -> 544.0143 | I10: =IFERROR((F10*H10),0) -> 5929.7559 | N10: =I10/$I$249 -> 0.00069401223 | O10: =O9+N10 -> 0.0025396481 | P10: A
A11: 1.4 | B11: 20804 | C11: DER-ES | D11: =VLOOKUP(B11,'SERVIÇOS JUNHO-2025'!$A$1:$E$8877,3,0) -> Refeitório com paredes de chapa de compens. 12mm e pontaletes 8x8cm, piso ciment. e cobert. de telhas fibroc. 6mm, incl. ponto de luz e cx. de inspeção (cons. 1.21m2/func./turno), conf. projeto (2 utilização) | E11: =VLOOKUP(B11,'SERVIÇOS JUNHO-2025'!$A$1:$E$8877,4,0) -> m2 | F11: =VLOOKUP(B11,'MEMO CALCULO '!$B:$G,6,0) -> 14.5 | G11: =VLOOKUP(B11,'SERVIÇOS JUNHO-2025'!$A$1:$E$8877,5,0) -> 403.14 | H11: =G11*(1+$I$6) -> 529.5647 | I11: =IFERROR((F11*H11),0) -> 7678.6882 | N11: =I11/$I$249 -> 0.00089870538 | O11: =O10+N11 -> 0.0034383535 | P11: A
A12: 1.5 | B12: 20809 | C12: DER-ES | D12: =VLOOKUP(B12,'SERVIÇOS JUNHO-2025'!$A$1:$E$8877,3,0) -> Galpão para corte e armação com área de 6.00m2, de peças de madeira 8x8cm e contraventamento de 5x7cm, cobertura de telhas de fibroc. de 6mm, inclusive ponto e cabo de alimentação da máquina, conf. projeto (2 utilizações) | E12: =VLOOKUP(B12,'SERVIÇOS JUNHO-2025'!$A$1:$E$8877,4,0) -> m2 | F12: =VLOOKUP(B12,'MEMO CALCULO '!$B:$G,6,0) -> 8 | G12: =VLOOKUP(B12,'SERVIÇOS JUNHO-2025'!$A$1:$E$8877,5,0) -> 213.27 | H12: =G12*(1+$I$6) -> 280.15147 | I12: =IFERROR((F12*H12),0) -> 2241.2118 | N12: =I12/$I$249 -> 0.00026230901 | O12: =O11+N12 -> 0.0037006625 | P12: A
A13: 1.6 | B13: 20708 | C13: DER-ES | D13: =VLOOKUP(B13,'SERVIÇOS JUNHO-2025'!$A$1:$E$8877,3,0) -> Galpão para serraria e carpintaria área 12.00m2, em peça de madeira 8x8cm e contraventamento de 5x7cm, cobertura de telha de fibroc. de 6mm, inclusive ponto e cabo de alimentação da máquina, conf. projeto (1 utilização) | E13: =VLOOKUP(B13,'SERVIÇOS JUNHO-2025'!$A$1:$E$8877,4,0) -> m2 | F13: =VLOOKUP(B13,'MEMO CALCULO '!$B:$G,6,0) -> 12 | G13: =VLOOKUP(B13,'SERVIÇOS JUNHO-2025'!$A$1:$E$8877,5,0) -> 214.16 | H13: =G13*(1+$I$6) -> 281.32058 | I13: =IFERROR((F13*H13),0) -> 3375.8469 | N13: =I13/$I$249 -> 0.00039510548 | O13: =O12+N13 -> 0.004095768 | P13: A
A14: 2.1 | B14: 10202 | C14: DER-ES | D14: =VLOOKUP(B14,'SERVIÇOS JUNHO-2025'!$A$1:$E$8877,3,0) -> Demolição manual de revestimento cerâmico/porcelanato (pisos), exclusive lastro, sem reaproveitamento | E14: =VLOOKUP(B14,'SERVIÇOS JUNHO-2025'!$A$1:$E$8877,4,0) -> m2 | F14: =VLOOKUP(B14,'MEMO CALCULO '!$B:$G,6,0) -> 2336.51 | G14: =VLOOKUP(B14,'SERVIÇOS JUNHO-2025'!$A$1:$E$8877,5,0) -> 21.13 | H14: =G14*(1+$I$6) -> 27.756368 | I14: =IFERROR((F14*H14),0) -> 64853.031 | N14: =I14/$I$249 -> 0.0075903288 | O14: =O13+N14 -> 0.011686097 | P14: A
A15: 2.2 | B15: 10206 | C15: DER-ES | D15: =VLOOKUP(B15,'SERVIÇOS JUNHO-2025'!$A$1:$E$8877,3,0) -> Demolição manual de revestimento cerâmico/porcelanato (parede), exclusive emboço/reboco, sem reaproveitamento | E15: =VLOOKUP(B15,'SERVIÇOS JUNHO-2025'!$A$1:$E$8877,4,0) -> m2 | F15: =VLOOKUP(B15,'MEMO CALCULO '!$B:$G,6,0) -> 464.78 | G15: =VLOOKUP(B15,'SERVIÇOS JUNHO-2025'!$A$1:$E$8877,5,0) -> 23.54 | H15: =G15*(1+$I$6) -> 30.922144 | I15: =IFERROR((F15*H15),0) -> 14371.994 | N15: =I15/$I$249 -> 0.0016820827 | O15: =O14+N15 -> 0.013368179 | P15: A
A16: 2.3 | B16: 10209 | C16: DER-ES | D16: =VLOOKUP(B16,'SERVIÇOS JUNHO-2025'!$A$1:$E$8877,3,0) -> Demolição manual de alvenaria de bloco furado (cerâmico), sem reaproveitamento | E16: =VLOOKUP(B16,'SERVIÇOS JUNHO-2025'!$A$1:$E$8877,4,0) -> m3 | F16: =VLOOKUP(B16,'MEMO CALCULO '!$B:$G,6,0) -> 19.06 | G16: =VLOOKUP(B16,'SERVIÇOS JUNHO-2025'!$A$1:$E$8877,5,0) -> 59.61 | H16: =G16*(1+$I$6) -> 78.303696 | I16: =IFERROR((F16*H16),0) -> 1492.4684 | N16: =I16/$I$249 -> 0.0001746769 | O16: =O15+N16 -> 0.013542856 | P16: A
A17: 2.4 | B17: 10210 | C17: DER-ES | D17: =VLOOKUP(B17,'SERVIÇOS JUNHO-2025'!$A$1:$E$8877,3,0) -> Demolição manual de concreto simples, sem reaproveitamento | E17: =VLOOKUP(B17,'SERVIÇOS JUNHO-2025'!$A$1:$E$8877,4,0) -> m3 | F17: =VLOOKUP(B17,'MEMO CALCULO '!$B:$G,6,0) -> 0.35 | G17: =VLOOKUP(B17,'SERVIÇOS JUNHO-2025'!$A$1:$E$8877,5,0) -> 225.81 | H17: =G17*(1+$I$6) -> 296.62402 | I17: =IFERROR((F17*H17),0) -> 103.81841 | N17: =I17/$I$249 -> 1.2150794e-05 | O17: =O16+N17 -> 0.013555007 | P17: A
A18: 2.5 | B18: 10255 | C18: DER-ES | D18: =VLOOKUP(B18,'SERVIÇOS JUNHO-2025'!$A$1:$E$8877,3,0) -> Remoção manual de telhas cerâmicas, tipo colonial, inclusive cumeeira, sem reaproveitamento | E18: =VLOOKUP(B18,'SERVIÇOS JUNHO-2025'!$A$1:$E$8877,4,0) -> m2 | F18: =VLOOKUP(B18,'MEMO CALCULO '!$B:$G,6,0) -> 1444.76 | G18: =VLOOKUP(B18,'SERVIÇOS JUNHO-2025'!$A$1:$E$8877,5,0) -> 15.67 | H18: =G18*(1+$I$6) -> 20.584112 | I18: =IFERROR((F18*H18),0) -> 29739.102 | N18: =I18/$I$249 -> 0.0034806323 | O18: =O17+N18 -> 0.017035639 | P18: A
A19: 2.6 | B19: 10326 | C19: DER-ES | D19: =VLOOKUP(B19,'SERVIÇOS JUNHO-2025'!$A$1:$E$8877,3,0) -> Remoção manual de trama de madeira para cobertura, com reaproveitamento | E19: =VLOOKUP(B19,'SERVIÇOS JUNHO-2025'!$A$1:$E$8877,4,0) -> m2 | F19: =VLOOKUP(B19,'MEMO CALCULO '!$B:$G,6,0) -> 1444.76 | G19: =VLOOKUP(B19,'SERVIÇOS JUNHO-2025'!$A$1:$E$8877,5,0) -> 31.9 | H19: =G19*(1+$I$6) -> 41.90384 | I19: =IFERROR((F19*H19),0) -> 60540.992 | N19: =I19/$I$249 -> 0.0070856523 | O19: =O18+N19 -> 0.024121292 | P19: A
A20: 2.7 | B20: 10238 | C20: DER-ES | D20: =VLOOKUP(B20,'SERVIÇOS JUNHO-2025'!$A$1:$E$8877,3,0) -> Apicoamento manual de superfície revestida com argamassa | E20: =VLOOKUP(B20,'SERVIÇOS JUNHO-2025'!$A$1:$E$8877,4,0) -> m2 | F20: =VLOOKUP(B20,'MEMO CALCULO '!$B:$G,6,0) -> 1894.87 | G20: =VLOOKUP(B20,'SERVIÇOS JUNHO-2025'!$A$1:$E$8877,5,0) -> 11.14 | H20: =G20*(1+$I$6) -> 14.633504 | I20: =IFERROR((F20*H20),0) -> 27728.588 | N20: =I20/$I$249 -> 0.003245324 | O20: =O19+N20 -> 0.027366616 | P20: A
... A33: 2.20 | B33: 10246 | C33: DER-ES | D33: =VLOOKUP(B33,'SERVIÇOS JUNHO-2025'!$A$1:$E$8877,3,0) -> Lixamento manual de parede com pintura PVA para nivelamento e preparo da superfície para recebimento de nova camada de tinta | E33: =VLOOKUP(B33,'SERVIÇOS JUNHO-2025'!$A$1:$E$8877,4,0) -> m2 | F33: =VLOOKUP(B33,'MEMO CALCULO '!$B:$G,6,0) -> 2422.82 | G33: =VLOOKUP(B33,'SERVIÇOS JUNHO-2025'!$A$1:$E$8877,5,0) -> 4.99 | H33: =G33*(1+$I$6) -> 6.554864 | I33: =IFERROR((F33*H33),0) -> 15881.256 | N33: =I33/$I$249 -> 0.001858725 | O33: =O32+N33 -> 0.03922531 | P33: A
A34: 2.21 | B34: COMP-01 | D34: Demolição de rodapé cerâmico, de forma manual, sem reaproveitamento | E34: m | F34: =VLOOKUP(B34,'MEMO CALCULO '!$B:$G,6,0) -> 1314.63 | G34: ='COMP.01_RODAPÉ'!J17 -> 2.4350297 | H34: =G34*(1+$I$6) -> 3.198655 | I34: =IFERROR((F34*H34),0) -> 4205.0478 | N34: =I34/$I$249 -> 0.00049215425 | O34: =O33+N34 -> 0.039717464 | P34: A
A35: 2.22 | B35: COMP-02 | D35: Remoção de forro de PVC, de forma manual, sem reaproveitamento. | E35: m2 | F35: =VLOOKUP(B35,'MEMO CALCULO '!$B:$G,6,0) -> 49.46 | G35: ='COMP.02_FORRO'!J17 -> 13.625089 | H35: =G35*(1+$I$6) -> 17.897916 | I35: =IFERROR((F35*H35),0) -> 885.23095 | N35: =I35/$I$249 -> 0.00010360647 | O35: =O34+N35 -> 0.039821071 | P35: A
A36: 2.23 | B36: COMP-03 | D36: Remoção de cercas e mourões, de forma manual, sem reaproveitamento | E36: m | F36: =VLOOKUP(B36,'MEMO CALCULO '!$B:$G,6,0) -> 300.71 | G36: ='COMP.03_REMOÇÃO CERCA'!J17 -> 8.7639257 | H36: =G36*(1+$I$6) -> 11.512293 | I36: =IFERROR((F36*H36),0) -> 3461.8616 | N36: =I36/$I$249 -> 0.00040517254 | O36: =O35+N36 -> 0.040226243 | P36: A
A37: 3.1 | B37: 30101 | C37: DER-ES | D37: =VLOOKUP(B37,'SERVIÇOS JUNHO-2025'!$A$1:$E$8877,3,0) -> Escavação manual em material de 1a. categoria, até 1.50 m de profundidade | E37: =VLOOKUP(B37,'SERVIÇOS JUNHO-2025'!$A$1:$E$8877,4,0) -> m3 | F37: =VLOOKUP(B37,'MEMO CALCULO '!$B:$G,6,0) -> 127.95 | G37: =VLOOKUP(B37,'SERVIÇOS JUNHO-2025'!$A$1:$E$8877,5,0) -> 63.96 | H37: =G37*(1+$I$6) -> 84.017856 | I37: =IFERROR((F37*H37),0) -> 10750.085 | N37: =I37/$I$249 -> 0.0012581783 | O37: =O36+N37 -> 0.041484422 | P37: A
A38: 3.2 | B38: 30210 | C38: DER-ES | D38: =VLOOKUP(B38,'SERVIÇOS JUNHO-2025'!$A$1:$E$8877,3,0) -> Aterro compactado utilizando compactador de placa vibratória com reaproveitamento do material | E38: =VLOOKUP(B38,'SERVIÇOS JUNHO-2025'!$A$1:$E$8877,4,0) -> m3 | F38: =VLOOKUP(B38,'MEMO CALCULO '!$B:$G,6,0) -> 85.89 | G38: =VLOOKUP(B38,'SERVIÇOS JUNHO-2025'!$A$1:$E$8877,5,0) -> 36.38 | H38: =G38*(1+$I$6) -> 47.788768 | I38: =IFERROR((F38*H38),0) -> 4104.5773 | N38: =I38/$I$249 -> 0.00048039529 | O38: =O37+N38 -> 0.041964817 | P38: A
A39: 4.1.1 | B39: 40250 | C39: DER-ES | D39: =VLOOKUP(B39,'SERVIÇOS JUNHO-2025'!$A$1:$E$8877,3,0) -> Fôrma de tábua de madeira de 2.5x30.0cm, levando-se em conta utilização 3 vezes (incluindo o material, corte, montagem, escoramento e desforma) | E39: =VLOOKUP(B39,'SERVIÇOS JUNHO-2025'!$A$1:$E$8877,4,0) -> m2 | F39: =VLOOKUP(B39,'MEMO CALCULO '!$B:$G,6,0) -> 566.58 | G39: =VLOOKUP(B39,'SERVIÇOS JUNHO-2025'!$A$1:$E$8877,5,0) -> 100.61 | H39: =G39*(1+$I$6) -> 132.1613 | I39: =IFERROR((F39*H39),0) -> 74879.947 | N39: =I39/$I$249 -> 0.0087638682 | O39: =O38+N39 -> 0.050728685 | P39: A
A40: 4.1.2 | B40: 40246 | C40: DER-ES | D40: =VLOOKUP(B40,'SERVIÇOS JUNHO-2025'!$A$1:$E$8877,3,0) -> Fornecimento, dobragem e colocação em fôrma, de armadura CA-60 B fina, diâmetro de 4.0 a 7.0mm | E40: =VLOOKUP(B40,'SERVIÇOS JUNHO-2025'!$A$1:$E$8877,4,0) -> kg | F40: =VLOOKUP(B40,'MEMO CALCULO '!$B:$G,6,0) -> 603.12 | G40: =VLOOKUP(B40,'SERVIÇOS JUNHO-2025'!$A$1:$E$8877,5,0) -> 11.8 | H40: =G40*(1+$I$6) -> 15.50048 | I40: =IFERROR((F40*H40),0) -> 9348.6495 | N40: =I40/$I$249 -> 0.0010941558 | O40: =O39+N40 -> 0.051822841 | P40: A
A41: 4.1.3 | B41: 40243 | C41: DER-ES | D41: =VLOOKUP(B41,'SERVIÇOS JUNHO-2025'!$A$1:$E$8877,3,0) -> Fornecimento, dobragem e colocação em fôrma, de armadura CA-50 A média, diâmetro de 6.3 a 10.0 mm | E41: =VLOOKUP(B41,'SERVIÇOS JUNHO-2025'!$A$1:$E$8877,4,0) -> kg | F41: =VLOOKUP(B41,'MEMO CALCULO '!$B:$G,6,0) -> 2766.39 | G41: =VLOOKUP(B41,'SERVIÇOS JUNHO-2025'!$A$1:$E$8877,5,0) -> 11.11 | H41: =G41*(1+$I$6) -> 14.594096 | I41: =IFERROR((F41*H41),0) -> 40372.961 | N41: =I41/$I$249 -> 0.0047252078 | O41: =O40+N41 -> 0.056548049 | P41: A
A42: 4.1.4 | B42: 40245 | C42: DER-ES | D42: =VLOOKUP(B42,'SERVIÇOS JUNHO-2025'!$A$1:$E$8877,3,0) -> Fornecimento, dobragem e colocação em fôrma, de armadura CA-50 A grossa diâmetro de 12.5 a 25.0 mm (1/2 a 1") | E42: =VLOOKUP(B42,'SERVIÇOS JUNHO-2025'!$A$1:$E$8877,4,0) -> kg | F42: =VLOOKUP(B42,'MEMO CALCULO '!$B:$G,6,0) -> 199.46 | G42: =VLOOKUP(B42,'SERVIÇOS JUNHO-2025'!$A$1:$E$8877,5,0) -> 11.79 | H42: =G42*(1+$I$6) -> 15.487344 | I42: =IFERROR((F42*H42),0) -> 3089.1056 | N42: =I42/$I$249 -> 0.00036154559 | O42: =O41+N42 -> 0.056909594 | P42: A
A43: 4.1.5 | B43: 40235 | C43: DER-ES | D43: =VLOOKUP(B43,'SERVIÇOS JUNHO-2025'!$A$1:$E$8877,3,0) -> Fornecimento, preparo e aplicação de concreto Fck=20 MPa (brita 1 e 2) - (5% de perdas já incluído no custo) | E43: =VLOOKUP(B43,'SERVIÇOS JUNHO-2025'!$A$1:$E$8877,4,0) -> m3 | F43: =VLOOKUP(B43,'MEMO CALCULO '!$B:$G,6,0) -> 31.44 | G43: =VLOOKUP(B43,'SERVIÇOS JUNHO-2025'!$A$1:$E$8877,5,0) -> 750.02 | H43: =G43*(1+$I$6) -> 985.22627 | I43: =IFERROR((F43*H43),0) -> 30975.514 | N43: =I43/$I$249 -> 0.0036253407 | O43: =O42+N43 -> 0.060534935 | P43: A
A44: 4.1.6 | B44: 40237 | C44: DER-ES | D44: =VLOOKUP(B44,'SERVIÇOS JUNHO-2025'!$A$1:$E$8877,3,0) -> Fornecimento, preparo e aplicação de concreto Fck=25 MPa (brita 1 e 2) - (5% de perdas já incluído no custo) | E44: =VLOOKUP(B44,'SERVIÇOS JUNHO-2025'!$A$1:$E$8877,4,0) -> m3 | F44: =VLOOKUP(B44,'MEMO CALCULO '!$B:$G,6,0) -> 14.21 | G44: =VLOOKUP(B44,'SERVIÇOS JUNHO-2025'!$A$1:$E$8877,5,0) -> 774.12 | H44: =G44*(1+$I$6) -> 1016.884 | I44: =IFERROR((F44*H44),0) -> 14449.922 | N44: =I44/$I$249 -> 0.0016912033 | O44: =O43+N44 -> 0.062226138 | P44: A
A45: 4.1.7 | B45: 40224 | C45: DER-ES | D45: =VLOOKUP(B45,'SERVIÇOS JUNHO-2025'!$A$1:$E$8877,3,0) -> Fornecimento, preparo e aplicação de concreto Fck = 30 MPa (com brita 1 e 2) - (5% de perdas já incluído no custo) | E45: =VLOOKUP(B45,'SERVIÇOS JUNHO-2025'!$A$1:$E$8877,4,0) -> m3 | F45: =VLOOKUP(B45,'MEMO CALCULO '!$B:$G,6,0) -> 3.39 | G45: =VLOOKUP(B45,'SERVIÇOS JUNHO-2025'!$A$1:$E$8877,5,0) -> 796.27 | H45: =G45*(1+$I$6) -> 1045.9803 | I45: =IFERROR((F45*H45),0) -> 3545.8731 | N45: =I45/$I$249 -> 0.00041500516 | O45: =O44+N45 -> 0.062641143 | P45: A
A46: 4.2.1 | B46: 40337 | C46: DER-ES | D46: =VLOOKUP(B46,'SERVIÇOS JUNHO-2025'!$A$1:$E$8877,3,0) -> Fôrma em chapa de madeira compensada plastificada 12mm para estrutura em geral, 5 reaproveitamentos, reforçada com sarrafos de madeira 2.5x10cm (incl material, corte, montagem, escoras em eucalipto e desforma) | E46: =VLOOKUP(B46,'SERVIÇOS JUNHO-2025'!$A$1:$E$8877,4,0) -> m2 | F46: =VLOOKUP(B46,'MEMO CALCULO '!$B:$G,6,0) -> 350.22 | G46: =VLOOKUP(B46,'SERVIÇOS JUNHO-2025'!$A$1:$E$8877,5,0) -> 105.39 | H46: =G46*(1+$I$6) -> 138.4403 | I46: =IFERROR((F46*H46),0) -> 48484.563 | N46: =I46/$I$249 -> 0.0056745809 | O46: =O45+N46 -> 0.068315724 | P46: A
A47: 4.2.2 | B47: 40333 | C47: DER-ES | D47: =VLOOKUP(B47,'SERVIÇOS JUNHO-2025'!$A$1:$E$8877,3,0) -> Fornecimento, dobragem e colocação em fôrma, de armadura CA-60 B fina, diâmetro de 4.0 a 7.0mm | E47: =VLOOKUP(B47,'SERVIÇOS JUNHO-2025'!$A$1:$E$8877,4,0) -> kg | F47: =VLOOKUP(B47,'MEMO CALCULO '!$B:$G,6,0) -> 512.74 | G47: =VLOOKUP(B47,'SERVIÇOS JUNHO-2025'!$A$1:$E$8877,5,0) -> 11.8 | H47: =G47*(1+$I$6) -> 15.50048 | I47: =IFERROR((F47*H47),0) -> 7947.7161 | N47: =I47/$I$249 -> 0.00093019211 | O47: =O46+N47 -> 0.069245916 | P47: A
A48: 4.2.3 | B48: 40328 | C48: DER-ES | D48: =VLOOKUP(B48,'SERVIÇOS JUNHO-2025'!$A$1:$E$8877,3,0) -> Fornecimento, dobragem e colocação em fôrma, de armadura CA-50 A média, diâmetro de 6.3 a 10.0 mm | E48: =VLOOKUP(B48,'SERVIÇOS JUNHO-2025'!$A$1:$E$8877,4,0) -> kg | F48: =VLOOKUP(B48,'MEMO CALCULO '!$B:$G,6,0) -> 1196.59 | G48: =VLOOKUP(B48,'SERVIÇOS JUNHO-2025'!$A$1:$E$8877,5,0) -> 11.11 | H48: =G48*(1+$I$6) -> 14.594096 | I48: =IFERROR((F48*H48),0) -> 17463.149 | N48: =I48/$I$249 -> 0.0020438681 | O48: =O47+N48 -> 0.071289785 | P48: A
... A63: 5.7 | B63: 50301 | C63: DER-ES | D63: =VLOOKUP(B63,'SERVIÇOS JUNHO-2025'!$A$1:$E$8877,3,0) -> Verga/contraverga reta de concreto armado moldada in loco 10 x 5 cm, Fck = 15 MPa, inclusive forma, armação e desforma, comprimento inferior a 2.0 metros | E63: =VLOOKUP(B63,'SERVIÇOS JUNHO-2025'!$A$1:$E$8877,4,0) -> m | F63: =VLOOKUP(B63,'MEMO CALCULO '!$B:$G,6,0) -> 2 | G63: =VLOOKUP(B63,'SERVIÇOS JUNHO-2025'!$A$1:$E$8877,5,0) -> 42.16 | H63: =G63*(1+$I$6) -> 55.381376 | I63: =IFERROR((F63*H63),0) -> 110.76275 | N63: =I63/$I$249 -> 1.2963553e-05 | O63: =O62+N63 -> 0.18845833 | P63: A
A64: 5.8 | B64: COMP-04 | D64: Divisória fixa em vidro temperado 10 mm, com abertura. | E64: m2 | F64: =VLOOKUP(B64,'MEMO CALCULO '!$B:$G,6,0) -> 5.71 | G64: ='COMP.04_GUCHE'!J28 -> 553.43064 | H64: =G64*(1+$I$6) -> 726.98648 | I64: =IFERROR((F64*H64),0) -> 4151.0928 | N64: =I64/$I$249 -> 0.00048583942 | O64: =O63+N64 -> 0.18894417 | P64: A
A65: 6.1 | B65: 130104 | C65: DER-ES | D65: =VLOOKUP(B65,'SERVIÇOS JUNHO-2025'!$A$1:$E$8877,3,0) -> Regularização de base p/ revestimento cerâmico, com argamassa de cimento e areia no traço 1:5, espessura 5cm | E65: =VLOOKUP(B65,'SERVIÇOS JUNHO-2025'!$A$1:$E$8877,4,0) -> m2 | F65: =VLOOKUP(B65,'MEMO CALCULO '!$B:$G,6,0) -> 34.01 | G65: =VLOOKUP(B65,'SERVIÇOS JUNHO-2025'!$A$1:$E$8877,5,0) -> 43.12 | H65: =G65*(1+$I$6) -> 56.642432 | I65: =IFERROR((F65*H65),0) -> 1926.4091 | N65: =I65/$I$249 -> 0.00022546484 | O65: =O64+N65 -> 0.18916964 | P65: A
A66: 6.2 | B66: 130109 | C66: DER-ES | D66: =VLOOKUP(B66,'SERVIÇOS JUNHO-2025'!$A$1:$E$8877,3,0) -> Lastro regularizado e impermeabilizado de concreto não estrutural, espessura de 8 cm | E66: =VLOOKUP(B66,'SERVIÇOS JUNHO-2025'!$A$1:$E$8877,4,0) -> m2 | F66: =VLOOKUP(B66,'MEMO CALCULO '!$B:$G,6,0) -> 26.87 | G66: =VLOOKUP(B66,'SERVIÇOS JUNHO-2025'!$A$1:$E$8877,5,0) -> 87.09 | H66: =G66*(1+$I$6) -> 114.40142 | I66: =IFERROR((F66*H66),0) -> 3073.9663 | N66: =I66/$I$249 -> 0.00035977369 | O66: =O65+N66 -> 0.18952941 | P66: A
A67: 6.3 | B67: 130234 | C67: DER-ES | D67: =VLOOKUP(B67,'SERVIÇOS JUNHO-2025'!$A$1:$E$8877,3,0) -> Porcelanato natural retificado, acabamento acetinado, dim. 60x60cm, ref. PLATINA NA Eliane/equiv, utilizando dupla colagem de argamassa colante para porcelanato tipo ACIII e rejunte e rejunte 3mm para porcelanato | E67: =VLOOKUP(B67,'SERVIÇOS JUNHO-2025'!$A$1:$E$8877,4,0) -> m2 | F67: =VLOOKUP(B67,'MEMO CALCULO '!$B:$G,6,0) -> 2405.18 | G67: =VLOOKUP(B67,'SERVIÇOS JUNHO-2025'!$A$1:$E$8877,5,0) -> 220.71 | H67: =G67*(1+$I$6) -> 289.92466 | I67: =IFERROR((F67*H67),0) -> 697320.98 | J67: =B67 -> 130234 | K67: =A67 -> 6.3 | L67: =E67 -> m2 | M67: =D67 -> Porcelanato natural retificado, acabamento acetinado, dim. 60x60cm, ref. PLATINA NA Eliane/equiv, utilizando dupla colagem de argamassa colante para porcelanato tipo ACIII e rejunte e rejunte 3mm para porcelanato | N67: =I67/$I$249 -> 0.081613695 | O67: =O66+N67 -> 0.2711431 | P67: A | AE67: =SUM(K67:AC67) -> 0.3527568
...

Sheet INSUMO JUNHO-2025
A1: Código | C1: Descrição | D1: Und. | E1: Preço
A2: 1 | C2: INSUMOS DE MAO DE OBRA
A3: 101 | C3: MAO DE OBRA (SALARIOS)
A4: 10101 | B4: DER-ES | C4: AJUDANTE (AJUDANTE PRATICO - SINDUSCON) | D4: H | E4: 8.53
A5: 10106 | B5: DER-ES | C5: AZULEJISTA (OFICIAL - SINDUSCON) | D5: H | E5: 10.12
A6: 10108 | B6: DER-ES | C6: CALCETEIRO/PINTOR (OFICIAL - SINDUSCON) | D6: H | E6: 10.12
A7: 10111 | B7: DER-ES | C7: CARPINTEIRO (OFICIAL - SINDUSCON) | D7: H | E7: 10.12
A8: 10115 | B8: DER-ES | C8: ELETRICISTA (OFICIAL - SINDUSCON) | D8: H | E8: 10.12
A9: 10117 | B9: DER-ES | C9: ELETROTECNICO MONTADOR - SINTRACONST | D9: H | E9: 17.49
A10: 10118 | B10: DER-ES | C10: ENCANADOR (OFICIAL - SINDUSCON) | D10: H | E10: 10.12
A11: 10121 | B11: DER-ES | C11: ARMADOR (OFICIAL - SINDUSCON) | D11: H | E11: 10.12
A12: 10124 | B12: DER-ES | C12: GRANITEIRO/MARMORISTA (OFICIAL - SINDUSCON) | D12: H | E12: 10.12
A13: 10126 | B13: DER-ES | C13: JARDINEIRO (OFICIAL - SINDUSCON) | D13: H | E13: 10.12
A14: 10128 | B14: DER-ES | C14: LADRILHISTA (OFICIAL - SINDUSCON) | D14: H | E14: 10.12
A15: 10130 | B15: DER-ES | C15: MONTADOR (SINTRACONST) | D15: H | E15: 13.35
... A24: 10157 | B24: DER-ES | C24: OPERADOR DE MAQUINAS AUXILIARES (OPERADOR DE MAQUINAS PESADAS I - SINDICOPES) | D24: H | E24: 10.18
A25: 102 | B25: DER-ES | C25: MAO DE OBRA (SALARIOS) - CONTINUACAO
A26: 10209 | B26: DER-ES | C26: TOPOGRAFO - (TECNICO 2O GRAU NIVEL C) | D26: H | E26: 19.04
A27: 10233 | B27: DER-ES | C27: NIVELADOR (SINTEC) | D27: H | E27: 7
A28: 10235 | B28: DER-ES | C28: AUXILIAR DE CAMPO (SINTEC) | D28: H | E28: 7
A29: 10237 | B29: DER-ES | C29: PINTOR (LETRISTA) - (SINTRACONST) | D29: H | E29: 13.45
A30: 10260 | B30: DER-ES | C30: AJUDANTE MONTADOR ELETROMECÂNICO - (AJUDANTE DE MONTAGEM SINTRACONST) | D30: H | E30: 7.85
A31: 10278 | B31: DER-ES | C31: MONTADOR DE ESTRUTURA - SINTRACONST | D31: H | E31: 15.13
A32: 10281 | B32: DER-ES | C32: MECANICO DE REFRIGERACAO - (SINDIFER) | D32: H | E32: 9.64
A33: 10282 | B33: DER-ES | C33: TECNICO DE REFRIGERACAO - (SINDIFER) | D33: H | E33: 16.32
A34: 10284 | B34: DER-ES | C34: MOTORISTA II - VEICULO C/ CAPAC. CARGA ACIMA DE 4 TONELADAS ATE 12 TONELADAS | D34: H | E34: 14.8
A35: 10285 | B35: DER-ES | C35: MOTORISTA III - VEICULO C/ CAPAC. CARGA ACIMA DE 12 TONELADAS | D35: H | E35: 10.16
A36: 10290 | B36: DER-ES | C36: VIDRACEIRO (OFICIAL - SINDUSCON) | D36: H | E36: 10.12
A37: 10292 | B37: DER-ES | C37: OPERADOR DE MAQUINAS PESADAS II - SINDICOPES | D37: H | E37: 10.8
A38: 103 | B38: DER-ES | C38: MÃO DE OBRA (SALÁRIOS - MENSALISTAS)
A39: 10301 | B39: DER-ES | C39: ENGENHEIRO JUNIOR | D39: MES | E39: 12903
A40: 10302 | B40: DER-ES | C40: ENGENHEIRO PLENO | D40: MES | E40: 14740.22
A41: 10303 | B41: DER-ES | C41: ENGENHEIRO SENIOR | D41: MES | E41: 16577.43
A42: 10304 | B42: DER-ES | C42: TECNICO 2 GRAU NIVEL A | D42: MES | E42: 6544.94
A43: 10305 | B43: DER-ES | C43: TECNICO 2 GRAU NIVEL B | D43: MES | E43: 5236.08
A44: 10306 | B44: DER-ES | C44: TECNICO 2 GRAU NIVEL C | D44: MES | E44: 4188.18
A45: 10307 | B45: DER-ES | C45: MESTRE DE OBRAS SENIOR | D45: MES | E45: 4026.88
A46: 10308 | B46: DER-ES | C46: ENCARREGADO DE TURMA | D46: MES | E46: 3097.6
A47: 10309 | B47: DER-ES | C47: COORDENADOR TECNICO ESPECIALISTA | D47: MES | E47: 18041.96
A48: 10310 | B48: DER-ES | C48: TECNICO 2 GRAU NIVEL D | D48: MES | E48: 3350.96
...

Sheet SERVIÇOS JUNHO-2025
A1: Item | C1: Especificação do Serviço | D1: Und. | E1: Preço Unitário
A2: 10201 | B2: DER-ES | C2: Demolição manual de piso cimentado espessura de 1,5 cm, inclusive lastro de concreto espessura de 6,0 cm, sem reaproveitamento | D2: m2 | E2: 16.92
A3: 10202 | B3: DER-ES | C3: Demolição manual de revestimento cerâmico/porcelanato (pisos), exclusive lastro, sem reaproveitamento | D3: m2 | E3: 21.13
A4: 10203 | B4: DER-ES | C4: Demolição manual de revestimento cerâmico/porcelanato (pisos), inclusive lastro de concreto espessura de 6,0 cm, sem reaproveitamento | D4: m2 | E4: 34.67
A5: 10204 | B5: DER-ES | C5: Demolição manual de piso de madeira (tacos), exclusive lastro, sem reaproveitamento | D5: m2 | E5: 12.72
A6: 10205 | B6: DER-ES | C6: Demolição manual de piso de madeira (tábuas), exclusive lastro, sem reaproveitamento | D6: m2 | E6: 19.6
A7: 10206 | B7: DER-ES | C7: Demolição manual de revestimento cerâmico/porcelanato (parede), exclusive emboço/reboco, sem reaproveitamento | D7: m2 | E7: 23.54
A8: 10207 | B8: DER-ES | C8: Demolição manual de lambri de madeira em parede, sem reaproveitamento | D8: m2 | E8: 19.6
A9: 10208 | B9: DER-ES | C9: Retirada manual de revestimento em argamassa cimento e areia (emboço e reboco), sem reaproveitamento | D9: m2 | E9: 10.73
A10: 10209 | B10: DER-ES | C10: Demolição manual de alvenaria de bloco furado (cerâmico), sem reaproveitamento | D10: m3 | E10: 59.61
A11: 10210 | B11: DER-ES | C11: Demolição manual de concreto simples, sem reaproveitamento | D11: m3 | E11: 225.81
A12: 10212 | B12: DER-ES | C12: Retirada manual cuidadosa de pavimento em paralelepípedos, inclusive limpeza e empilhamento para reaproveitamento | D12: m2 | E12: 21.51
A13: 10213 | B13: DER-ES | C13: Retirada manual cuidadosa de blocos pré-moldados de concreto (Blokret), inclusive limpeza e empilhamento para reaproveitamento | D13: m2 | E13: 17.93
... A46: 10292 | B46: DER-ES | C46: Retirada manual de alizar de madeira, sem reaproveitamento | D46: m | E46: 1.54
A47: 103 | B47: DER-ES | C47: DEMOLIÇÕES E RETIRADAS
A48: 10315 | B48: DER-ES | C48: Retirada manual de telhas tipo Canalete 49, sem reaproveitamento | D48: m2 | E48: 5.57
A49: 10317 | B49: DER-ES | C49: Demolição cuidadosa de alvenaria de forma manual, para abertura de vãos, sem reaproveitamento | D49: m2 | E49: 102.14
A50: 10318 | B50: DER-ES | C50: Remoção manual de forro modular apoiados em estruturas em perfis metálicos, sem reaproveitamento | D50: m2 | E50: 8.77
A51: 10319 | B51: DER-ES | C51: Remoção manual de pintura antiga a base de óleo ou esmalte sobre esquadrias, com aplicação de removedor | D51: m2 | E51: 20.21
A52: 10320 | B52: DER-ES | C52: Remoção manual de revestimento de pisos com forração têxtil, com aplicação de solvente | D52: m2 | E52: 3.93
A53: 10323 | B53: DER-ES | C53: Retirada de torneira, sem reaproveitamento | D53: und | E53: 8.08
A54: 10324 | B54: DER-ES | C54: Retirada manual de telha tipo Canalete 90, sem reaproveitamento | D54: m2 | E54: 6.68
A55: 10325 | B55: DER-ES | C55: Demolição manual de estrutura de madeira para telhado, sem reaproveitamento | D55: m2 | E55: 7.82
A56: 10326 | B56: DER-ES | C56: Remoção manual de trama de madeira para cobertura, com reaproveitamento | D56: m2 | E56: 31.9
A57: 10327 | B57: DER-ES | C57: Retirada manual de batente (marco) de madeira, sem reaproveitamento | D57: m | E57: 4.04
A58: 10329 | B58: DER-ES | C58: Retirada manual de disjuntor monofásico, bifásico ou trifásico, sem reaproveitamento | D58: und | E58: 6.53
A59: 10331 | B59: DER-ES | C59: Demolição manual de piso, soleira, peitoris e escadas em mármore ou granito, exclusive regularização, sem reaproveitamento | D59: m2 | E59: 11.92
... A62: 10344 | B62: DER-ES | C62: Demolição de lajes, em concreto armado, de forma mecanizada com martelete demolidor elétrico, sem reaproveitamento | D62: m3 | E62: 89.87
A63: 104 | B63: DER-ES | C63: LIMPEZA DO TERRENO
A64: 10401 | B64: DER-ES | C64: Corte manual de capoeira fina com foice | D64: m2 | E64: 1.52
A65: 10402 | B65: DER-ES | C65: Raspagem superficial e limpeza manual do terreno, realizado com o uso de ferramentas manuais | D65: m2 | E65: 4.92
A66: 10403 | B66: DER-ES | C66: Corte e destocamento manual de árvores com diâmetro de até 15 cm | D66: und | E66: 59.04
A67: 10404 | B67: DER-ES | C67: Corte e destocamento mecanizado de árvores com diâmetro superior a 30 cm | D67: und | E67: 167.59
A68: 105 | B68: DER-ES | C68: LOCAÇÃO
A69: 10501 | B69: DER-ES | C69: Locação de obra com gabarito de madeira | D69: m2 | E69: 11.11
A70: 10512 | B70: DER-ES | C70: Equipe topográfica para serviços simples de locação e nivelamento (incluindo equipamento, transporte e profissionais nivel médio) | D70: mês | E70: 23119.09
A71: 108 | B71: DER-ES | C71: SERVIÇOS ADMINISTRATIVOS E TÉCNICOS - MENSALISTAS
A72: 10801 | B72: DER-ES | C72: Engenheiro Junior | D72: mês | E72: 22311.86
A73: 10802 | B73: DER-ES | C73: Engenheiro Pleno | D73: mês | E73: 25488.78
A74: 10803 | B74: DER-ES | C74: Engenhero Sênior | D74: mês | E74: 28665.69
...

Sheet COMP.01_RODAPÉ
B2: COMPOSIÇÃO DE PREÇO UNITÁRIO 01
B3: SERVIÇO: | D3: =VLOOKUP(B5,'Planilha Orçamentária'!$N$10:$Q$10199,3,0) -> Demolição de rodapé cerâmico, de forma manual, sem reaproveitamento
B4: BASE: DER-ES, SINAPI; DATA: JUNHO/2025 | E4: ESPECIFICAÇÃO: - | H4: UNIDADE: | J4: =VLOOKUP(B5,'Planilha Orçamentária'!$N$10:$Q$313,4,0) -> m
B5: COMP-01 | H5: ITEM: | J5: =VLOOKUP(B5,'Planilha Orçamentária'!$N$10:$Q$313,2,0) -> 2.21
B6: CÓD. | C6: ÓRGÃO | D6: MÃO DE OBRA | E6: UNIDADE | F6: QUANTIDADE | H6: SALÁRIO HORA | J6: CUSTO HORÁRIO
