Workbook

Sheet MEDIÇÃO 3
A1: BOLETIM DE | E1: =I7 -> MEDIÇÃO 03 | K1: DATA: 14/04/2023
A3: OBRA: CONSTRUÇÃO DA SEDE MUNICIPAL | D3: CONTRATO Nº: | F3: 107/2022 | H3: Assinatura: 02/12/2022 | K3: INÍCIO: | M3: 44928
K4: TÉRMINO: | M4: 45288
A5: LOCAL: RUA ATÍLIO DALLA BERNARDINA | D5: PERÍODO: | F5: 44992 | H5: a | I5: 45022 | K5: PRAZO: | M5: 360 DIAS
A6: EMPREITEIRA: DELFIN CONSTRUTORA LTDA EPP | F6: =I7 -> MEDIÇÃO 03 | I6: =L556 -> 142637.39 | K6: % MÊS: | L6: =H556 -> 0.021334977 | M6: % ACUM: | N6: =H557 -> 0.0689483
A7: ITEM | B7: ESPECIFICAÇÃO | C7: UNID. | D7: QUANT. | E7: UNIT + BDI | F7: ACUMULADO ANTERIOR | I7: MEDIÇÃO 03 | L7: TOTAL MEDIDO
F8: QUANT. | G8: TOTAL | H8: % | I8: QUANT. | J8: TOTAL | K8: % | L8: QUANT. | M8: TOTAL | N8: %
A9: 1 | B9: SERVIÇOS PRELIMINARES | J9: =SUM(J11:J12) -> 2044.6524
A10: 1.1 | B10: LOCAÇÃO
A11: 1.1.1 | B11: Locação de obra com gabarito de madeira | C11: m² | D11: 985 | E11: 10.382232 | F11: 985 | G11: =F11*E11 -> 10226.499 | H11: =F11/D11 -> 1 | J11: =I11*E11 -> 0 | K11: =I11/D11 -> 0 | L11: =F11+I11 -> 985 | M11: =G11+J11 -> 10226.499 | N11: =H11+K11 -> 1
A12: 1.1.2 | B12: Equipe topográfica para serviços simples de locação e nivelamento (incluindo equipamento, transporte e profissionais nivel médio) | C12: mês | D12: 0.25 | E12: 22718.36 | F12: 0.16 | G12: =F12*E12 -> 3634.9376 | H12: =F12/D12 -> 0.64 | I12: =D12-F12 -> 0.09 | J12: =I12*E12 -> 2044.6524 | K12: =I12/D12 -> 0.36 | L12: =F12+I12 -> 0.25 | M12: =G12+J12 -> 5679.59 | N12: =H12+K12 -> 1
A13: 2 | B13: INSTALAÇÃO DO CANTEIRO DE OBRAS | J13: =SUM(J15:J29) -> 0
A14: 2.1 | B14: TAPUMES, BARRACÕES E COBERTURAS
A15: 2.1.1 | B15: Placa de obra nas dimensões de 2.0 x 4.0 m, padrão DER | C15: m² | D15: 8 | E15: 352.55 | F15: 8 | G15: =F15*E15 -> 2820.4 | H15: =F15/D15 -> 1 | J15: =I15*E15 -> 0 | K15: =I15/D15 -> 0 | L15: =F15+I15 -> 8 | M15: =G15+J15 -> 2820.4 | N15: =H15+K15 -> 1
A16: 2.1.2 | B16: Locação de andaime metálico para trabalho em fachada de edifíco (aluguel de 1 m² por 1 mês) inclusive frete, montagem e desmontagem | C16: m² | D16: 1151.2 | E16: 26.829995 | F16: 0 | G16: =F16*E16 -> 0 | H16: =F16/D16 -> 0 | J16: =I16*E16 -> 0 | K16: =I16/D16 -> 0 | L16: =F16+I16 -> 0 | M16: =G16+J16 -> 0 | N16: =H16+K16 -> 0
A17: 2.1.3 | B17: Fornecimento e instalação de proteção para andaime fachadeiro considerando plataforma, rodapé e guarda-corpo em madeira, inclusive entelamento, conforme NR-18 (medido por m2 de fachada) | C17: m² | D17: 1151.2 | E17: 24.42126 | F17: 0 | G17: =F17*E17 -> 0 | H17: =F17/D17 -> 0 | J17: =I17*E17 -> 0 | K17: =I17/D17 -> 0 | L17: =F17+I17 -> 0 | M17: =G17+J17 -> 0 | N17: =H17+K17 -> 0
A18: 2.1.4 | B18: Tapume Telha Metálica Ondulada em aço galvalume 0,50mm Branca h=2,20m, incl. montagem estr. mad. 8"x8", c/adesivo "DER-ES" 60x60cm a cada 10m, incl. faixas pint. esmalte sint. cores azul c/ h=30cm e rosa c/ h=10cm (Reaproveitamento 2x) | C18: m | D18: 308.95 | E18: 207.2227 | F18: 162.55 | G18: =F18*E18 -> 33684.05 | H18: =F18/D18 -> 0.52613692 | J18: =I18*E18 -> 0 | K18: =I18/D18 -> 0 | L18: =F18+I18 -> 162.55 | M18: =G18+J18 -> 33684.05 | N18: =H18+K18 -> 0.52613692
A19: 2.2 | B19: INSTALAÇÃO DO CANTEIRO DE OBRAS
A20: 2.2.1 | B20: Barracão para escritório com sanitário área 14.50m2, de chapa de compens. 12mm e pontalete 8x8cm, piso cimentado e cobertura de telha de fibroc. 6mm, incl. ponto de luz e cx. de inspeção, conf. projeto (2 utilizações) | C20: m² | D20: 14.5 | E20: 623.6819 | F20: 14.5 | G20: =F20*E20 -> 9043.3876 | H20: =F20/D20 -> 1 | J20: =I20*E20 -> 0 | K20: =I20/D20 -> 0 | L20: =F20+I20 -> 14.5 | M20: =G20+J20 -> 9043.3876 | N20: =H20+K20 -> 1
A21: 2.2.2 | B21: Barracão para almoxarifado área de 10.90m2, de chapa de compensado 12mm e pontaletes 8x8cm, piso cimentado e cobertura de telha de fibrocimento de 6mm, inclusive ponto de luz, conf. projeto (2 utilizações) | C21: m² | D21: 10.9 | E21: 470.74856 | F21: 10.9 | G21: =F21*E21 -> 5131.1592 | H21: =F21/D21 -> 1 | J21: =I21*E21 -> 0 | K21: =I21/D21 -> 0 | L21: =F21+I21 -> 10.9 | M21: =G21+J21 -> 5131.1592 | N21: =H21+K21 -> 1
A22: 2.2.3 | B22: Barracão para depósito de cimento área de 10.90m2, de chapa de compensado 12mm e pontaletes 8x8cm, piso cimentado e cobertura de telhas de fibrocimento de 6mm, inclusive ponto de luz, conf. projeto (2 utilizações) | C22: m² | D22: 10.9 | E22: 413.78692 | F22: 10.9 | G22: =F22*E22 -> 4510.2775 | H22: =F22/D22 -> 1 | J22: =I22*E22 -> 0 | K22: =I22/D22 -> 0 | L22: =F22+I22 -> 10.9 | M22: =G22+J22 -> 4510.2775 | N22: =H22+K22 -> 1
A23: 2.2.4 | B23: Unidade de sanitário e vestiário para até 20 func. área 18.15m2, paredes de chapa compens. 12mm e pontalete 8x8cm, piso cimentado, cobert. telha fibroc. 6mm, incl. inst. de luz e cx. de inspeção, conf. projeto (2 utilizações) | C23: und | D23: 1 | E23: 12460.222 | F23: 1 | G23: =F23*E23 -> 12460.222 | H23: =F23/D23 -> 1 | J23: =I23*E23 -> 0 | K23: =I23/D23 -> 0 | L23: =F23+I23 -> 1 | M23: =G23+J23 -> 12460.222 | N23: =H23+K23 -> 1
A24: 2.2.5 | B24: Galpão para serraria e carpintaria área 12.00m2, em peças de madeira 8x8cm e contraventamento de 5x7cm, cobertura de telhas de fibroc. de 6mm, inclusive ponto e cabo de alimentação da máquina, conf. projeto (2 utilizações) | C24: m² | D24: 12 | E24: 151.88809 | F24: 12 | G24: =F24*E24 -> 1822.6571 | H24: =F24/D24 -> 1 | J24: =I24*E24 -> 0 | K24: =I24/D24 -> 0 | L24: =F24+I24 -> 12 | M24: =G24+J24 -> 1822.6571 | N24: =H24+K24 -> 1
A25: 2.2.6 | B25: Galpão para corte e armação com área de 6.00m2, de peças de madeira 8x8cm e contraventamento de 5x7cm, cobertura de telhas de fibroc. de 6mm, inclusive ponto e cabo de alimentação da máquina, conf. projeto (2 utilizações) | C25: m² | D25: 6 | E25: 204.34266 | F25: 6 | G25: =F25*E25 -> 1226.0559 | H25: =F25/D25 -> 1 | J25: =I25*E25 -> 0 | K25: =I25/D25 -> 0 | L25: =F25+I25 -> 6 | M25: =G25+J25 -> 1226.0559 | N25: =H25+K25 -> 1
A26: 2.2.7 | B26: Reservatório de poliestileno de 500 L, incl. suporte em madeira de 7x12cm e 5x7cm, elevado de 4m, conforme projeto (2 utilizações) | C26: und | D26: 1 | E26: 1298.0347 | F26: 1 | G26: =F26*E26 -> 1298.0347 | H26: =F26/D26 -> 1 | J26: =I26*E26 -> 0 | K26: =I26/D26 -> 0 | L26: =F26+I26 -> 1 | M26: =G26+J26 -> 1298.0347 | N26: =H26+K26 -> 1
A27: 2.2.8 | B27: Rede de água, com padrão de entrada d | C27: m | D27: 25 | E27: 33.467355 | F27: 25 | G27: =F27*E27 -> 836.68387 | H27: =F27/D27 -> 1 | J27: =I27*E27 -> 0 | K27: =I27/D27 -> 0 | L27: =F27+I27 -> 25 | M27: =G27+J27 -> 836.68387 | N27: =H27+K27 -> 1
A28: 2.2.9 | B28: Rede de esgoto, contendo fossa e filtro, inclusive tubos e conexões de ligação entre caixas, considerando distância de 25m, conforme projeto (1 utilização) | C28: m | D28: 25 | E28: 383.20601 | F28: 25 | G28: =F28*E28 -> 9580.1502 | H28: =F28/D28 -> 1 | J28: =I28*E28 -> 0 | K28: =I28/D28 -> 0 | L28: =F28+I28 -> 25 | M28: =G28+J28 -> 9580.1502 | N28: =H28+K28 -> 1
A29: 2.2.10 | B29: Rede de luz, incl. padrão entrada de energia trifás., cabo de ligação até barracões, quadro de distrib., disj. e chave de força (quando necessário), cons. 20m entre padrão entrada e QDG, conf. projeto (1 utilização) | C29: m | D29: 10 | E29: 479.23526 | F29: 10 | G29: =F29*E29 -> 4792.3526 | H29: =F29/D29 -> 1 | J29: =I29*E29 -> 0 | K29: =I29/D29 -> 0 | L29: =F29+I29 -> 10 | M29: =G29+J29 -> 4792.3526 | N29: =H29+K29 -> 1
A30: 3 | B30: MOVIMENTO DE TERRA | J30: =SUM(J32:J38) -> 8014.8805
A31: 3.1 | B31: ESCAVAÇÕES
A32: 3.1.1 | B32: Escavação mecânica em material de 1a. categoria | C32: m³ | D32: 3237.54 | E32: 14.589997 | F32: 1986.23 | G32: =F32*E32 -> 28979.09 | H32: =F32/D32 -> 0.61349976 | I32: 335.38 | J32: =I32*E32 -> 4893.1933 | K32: =I32/D32 -> 0.103591 | L32: =F32+I32 -> 2321.61 | M32: =G32+J32 -> 33872.284 | N32: =H32+K32 -> 0.71709075
A33: 3.2 | B33: REATERRO E COMPACTAÇÃO
A34: 3.2.1 | B34: Reaterro apiloado de cavas de fundação, em camadas de 20 cm | C34: m³ | D34: 16.74 | E34: 70.899642 | F34: 0 | G34: =F34*E34 -> 0 | H34: =F34/D34 -> 0 | J34: =I34*E34 -> 0 | K34: =I34/D34 -> 0 | L34: =F34+I34 -> 0 | M34: =G34+J34 -> 0 | N34: =H34+K34 -> 0
A35: 3.2.2 | B35: Aterro compactado utilizando compactador de placa vibratória com reaproveitamento do material | C35: m³ | D35: 800 | E35: 35.11 | F35: 0 | G35: =F35*E35 -> 0 | H35: =F35/D35 -> 0 | J35: =I35*E35 -> 0 | K35: =I35/D35 -> 0 | L35: =F35+I35 -> 0 | M35: =G35+J35 -> 0 | N35: =H35+K35 -> 0
A36: 3.3 | B36: TRANSPORTES
A37: 3.3.1 | B37: Índice de preço para remoção de entulho decorrente da execução de obras (Classe A CONAMA - NBR 10.004 - Classe II-B), incluindo aluguel da caçamba, carga, transporte e descarga em área licenciada | C37: m³ | D37: 209.29 | E37: 81.789957 | F37: 0 | G37: =F37*E37 -> 0 | H37: =F37/D37 -> 0 | J37: =I37*E37 -> 0 | K37: =I37/D37 -> 0 | L37: =F37+I37 -> 0 | M37: =G37+J37 -> 0 | N37: =H37+K37 -> 0
A38: 3.3.2 | B38: CARGA, MANOBRA E DESCARGA DE ENTULHO EM CAMINHÃO BASCULANTE 10 M³ DESCARGA LIVRE (UNIDADE: M3) | C38: m³ | D38: 3052.74 | E38: 7.1599972 | F38: 2582.09 | G38: =F38*E38 -> 18487.757 | H38: =F38/D38 -> 0.84582703 | I38: 435.99 | J38: =I38*E38 -> 3121.6872 | K38: =I38/D38 -> 0.14281924 | L38: =F38+I38 -> 3018.08 | M38: =G38+J38 -> 21609.444 | N38: =H38+K38 -> 0.98864627
A39: 4 | B39: ESTRUTURAS | J39: =SUM(J41:J61) -> 132481.34
A40: 4.1 | B40: INFRA-ESTRUTURA (FUNDAÇÃO ESTAQUEAMENTO)
A41: 4.1.1 | B41: MOBILIZAÇÃO E DESMOBILIZAÇÃO DE EQUIPAMENTO PARA ESTACA CRAVADA DMT DE 50,1 A 100 KM | C41: UN | D41: 1 | E41: 12030.98 | F41: 1 | G41: =F41*E41 -> 12030.98 | H41: =F41/D41 -> 1 | J41: =I41*E41 -> 0 | K41: =I41/D41 -> 0 | L41: =F41+I41 -> 1 | M41: =G41+J41 -> 12030.98 | N41: =H41+K41 -> 1
...

Sheet Memória de Cálculo 3ª medição
A1: CONSTRUÇÃO DA SEDE MUNICIPAL
A2: MEMORIA DE CÁLCULO DA TERCEIRA MEDIÇÃO
A3: 1 | B3: =VLOOKUP(A3,'MEDIÇÃO 3'!$A$9:$C$552,2,0) -> SERVIÇOS PRELIMINARES
A4: 1.1 | B4: LOCAÇÃO
A5: 1.1.2 | B5: =VLOOKUP(A5,'MEDIÇÃO 3'!$A$9:$C$552,2,0) -> Equipe topográfica para serviços simples de locação e nivelamento (incluindo equipamento, transporte e profissionais nivel médio) | H5: =VLOOKUP(A5,'MEDIÇÃO 3'!$A$9:$C$552,3,0) -> mês
B6: Equipe topográfica para marcação da cota e locação da obra Dia: 07/03, 09/03, 10/03 e 13/03:0,133 Saldo planilha=0,09 | H6: 0.09
A8: 3 | B8: =VLOOKUP(A8,'MEDIÇÃO 3'!$A$9:$C$552,2,0) -> MOVIMENTO DE TERRA
A9: 3.1 | B9: =VLOOKUP(A9,'MEDIÇÃO 3'!$A$9:$C$552,2,0) -> ESCAVAÇÕES
A10: 3.1.1 | B10: =VLOOKUP(A10,'MEDIÇÃO 3'!$A$9:$C$552,2,0) -> Escavação mecânica em material de 1a. categoria | H10: =VLOOKUP(A10,'MEDIÇÃO 3'!$A$9:$C$552,3,0) -> m³
B11: Para critério do espaçamento da escavação, usou-se o “Roteiro para procedimentos de levantamentos de serviços de obras civis para orçamentos sistema LABOR/ITUFES – IOPES”, sistema de referência do item em questão. | H11: =SUM(F17:G104) -> 335.38043
B12: Para construção de uma fundação ou vala de largura B, comprimento L e profundidade H, a escavação deve conter uma folga de 20 cm para cada lado e 10cm na profundidade para garantir trabalhabilidade, Logo: Vescavação = (B+40 cm) x (L+40 cm) x (H+10 cm) | F12: =C12*D12*E12 -> 0
B13: Esse procedimento é utilizado no caso de fundações e caixas de pequena profundidade. Quando a escavação tiver profundidade e forma onde os 20 cm para cada lado não for suficiente, em termos de trabalhabilidade, deve-se aumentar esse valor, até que se torne possível o trabalho. Na medida do possível as figuras sólidas são decompostas em figuras simples, tais como paralelepípedos ou prismas. | F13: =C13*D13*E13 -> 0
B14: Sendo assim, para os blocos de 60x60m, foi adotado a recomendação do Roteiro apresentado, uma vez que as caixas são pequena. | F14: =C14*D14*E14 -> 0
B15: Com relação as caixas maiores, A NBR 9061, que dispõe do seguinte: “Para trabalhos em cavas de fundação que devem ser pisadas por pessoas, é indispensável que haja espaço de trabalho com no mínimo 0,50m de largura”. No entanto, para melhor escoramento das caixas, foi necessário a escavação de 0,8m além das dimensões das caixas. | F15: =C15*D15*E15 -> 0
B16: ELEMENTO | C16: Largura (m) | D16: Comprimento (m) | E16: Profundidade (m) | F16: Volume (m³)
B17: BPC1 | C17: 1 | D17: 1 | E17: 1 | F17: =C17*D17*E17 -> 1
B18: BPC2 | C18: 1 | D18: 1 | E18: 1 | F18: =C18*D18*E18 -> 1
B19: BPC3 | C19: 1 | D19: 0.74 | E19: 1 | F19: =C19*D19*E19 -> 0.74
B20: BPC4 | C20: 1 | D20: 0.74 | E20: 1 | F20: =C20*D20*E20 -> 0.74
B21: BPC5 | C21: 1 | D21: 1 | E21: 1 | F21: =C21*D21*E21 -> 1
B22: BPC6 | C22: 1 | D22: 0.74 | E22: 1 | F22: =C22*D22*E22 -> 0.74
B23: BPC7 | C23: 1 | D23: 1 | E23: 1 | F23: =C23*D23*E23 -> 1
B24: BPC8 | C24: 1 | D24: 1 | E24: 1 | F24: =C24*D24*E24 -> 1
B25: BPC9 | C25: 1 | D25: 1 | E25: 1 | F25: =C25*D25*E25 -> 1
B26: BPC10 | C26: 1 | D26: 1 | E26: 1 | F26: =C26*D26*E26 -> 1
B27: BPC11 | C27: 1 | D27: 1 | E27: 1 | F27: =C27*D27*E27 -> 1
B28: BPC12 | C28: 1 | D28: 1 | E28: 1 | F28: =C28*D28*E28 -> 1
... B60: B31 | C60: 1 | D60: 1 | E60: 1 | F60: =C60*D60*E60 -> 1
B61: B32 | C61: 6.09 | D61: 3.03 | E61: 1 | F61: =C61*E61 -> 6.09
B62: B35, V6, V8, V9 (elevador) | C62: 2.93 | D62: 3.19 | E62: 1.56 | F62: =C62*D62*E62 -> 14.580852
B63: B33 | C63: 2.23 | D63: 3.03 | E63: 1 | F63: =C63*D63*E63 -> 6.7569
B64: B34 | C64: 3.37 | D64: 2.92 | E64: 1 | F64: =C64*D64*E64 -> 9.8404
B65: B35 | C65: 1 | D65: 1 | E65: 1 | F65: =C65*D65*E65 -> 1
B66: B36 | C66: 2.2 | D66: 3 | E66: 1 | F66: =C66*D66*E66 -> 6.6
B67: B37 | C67: 2.2 | D67: 3 | E67: 1 | F67: =C67*D67*E67 -> 6.6
B68: B38 | C68: 2.2 | D68: 3 | E68: 1 | F68: =C68*D68*E68 -> 6.6
B69: C1 | C69: 0.54 | D69: 2.5 | E69: 0.28 | F69: =C69*D69*E69 -> 0.378
B70: C2 | C70: 0.54 | D70: 9.29 | E70: 0.28 | F70: =C70*D70*E70 -> 1.404648
B71: C3 | C71: 0.54 | D71: 0.24 | E71: 0.28 | F71: =C71*D71*E71 -> 0.036288
B72: C4 | C72: 0.54 | D72: 2.67 | E72: 0.28 | F72: =C72*D72*E72 -> 0.403704
...
