Workbook

Sheet MEDIÇÃO 9
A1: PREFEITURA MUNICIPAL DE SÃO ROQUE DO CANAÃ Estado do Espírito Santo SECRETARIA MUNICIPAL DE OBRAS E SERVIÇOS URBANOS – SETOR DE ENGENHARIA
A2: BOLETIM DE | E2: =J8 -> MEDIÇÃO 09 | L2: 45539
A4: OBRA: Construção de uma barragem de concreto com contrafortes e a limpeza e escavação de seu reservatório, na localidade de São Dalmácio, Município de São Roque do Canaã | D4: CONTRATO Nº: | F4: 106/2022 | I4: Assinatura: 22/11/2022 | L4: INÍCIO: | N4: 44930
L5: TÉRMINO: | N5: 45657
A6: LOCAL: COMUNIDADE DE SÃO DALMÁCIO | D6: PERÍODO: | G6: 45505 | I6: a | J6: 45535 | L6: PRAZO: | N6: 240 DIAS + 284 DIAS (PARALIS.) + 205 DIAS
A7: EMPRESA: EDURBAN EDIFICAÇÕES E URBANISMO LTDA | G7: =J8 -> MEDIÇÃO 09 | J7: =M110 -> 758372.71 | L7: % MÊS: | M7: =I110 -> 0.11167444 | N7: % ACUM: | O7: =I111 -> 0.5282096
A8: ITEM | B8: ESPECIFICAÇÃO | C8: UNID. | D8: QUANT. | E8: UNIT + BDI | F8: UNITÁRIO REAJUSTADO | G8: ACUMULADO ANTERIOR | J8: MEDIÇÃO 09 | M8: TOTAL MEDIDO
G9: QUANT. | H9: TOTAL | I9: % | J9: QUANT. | K9: TOTAL | L9: % | M9: QUANT. | N9: TOTAL | O9: %
A10: 1 | B10: SERVIÇOS PRELIMINARES
A11: 1.1 | B11: MOBILIZAÇÃO/DESMOBILIZAÇÃO
A12: 1.1.1 | B12: Mobilização de Equipamentos | C12: Vb | D12: 1 | E12: 39300.82 | F12: 39300.82 | G12: 1 | H12: =G12*F12 -> 39300.82 | I12: =G12/D12 -> 1 | K12: =TRUNC((J12*F12),2) -> 0 | L12: =J12/D12 -> 0 | M12: =G12+J12 -> 1 | N12: =H12+K12 -> 39300.82 | O12: =I12+L12 -> 1
A13: 1.1.2 | B13: Desmobilização de Equipamentos | C13: Vb | D13: 1 | E13: 39300.82 | F13: 39300.82 | G13: 0 | H13: =G13*F13 -> 0 | I13: =G13/D13 -> 0 | K13: =TRUNC((J13*F13),2) -> 0 | L13: =J13/D13 -> 0 | M13: =G13+J13 -> 0 | N13: =H13+K13 -> 0 | O13: =I13+L13 -> 0
A14: 1.2 | B14: INSTALAÇÃO DE CANTEIRO DE OBRAS
A15: 1.2.1 | B15: Aluguel mensal container para escritório, dim. 6.00x2.40m, c/ banheiro (vaso+lavat+chuveiro e básc), incl. porta, 2 janelas, abert p/ ar cond., 2 pt iluminação, 2 tom. elét. e 1 tom.telef. Isolam.térmico(teto e paredes), piso em comp. Naval, cert. NR18, incl. laudo descontaminação. (Administração e Engenharia) | C15: mês | D15: 16 | E15: 1022.97 | F15: 1022.97 | G15: 16 | H15: =G15*F15 -> 16367.52 | I15: =G15/D15 -> 1 | K15: =TRUNC((J15*F15),2) -> 0 | L15: =J15/D15 -> 0 | M15: =G15+J15 -> 16 | N15: =H15+K15 -> 16367.52 | O15: =I15+L15 -> 1
A16: 1.2.2 | B16: Aluguel mensal container para escritório, sem banheiro, dim. 6.00x2.40m, incl. porta, 2 janelas, abert p/ ar cond., 2 pt iluminação, 2 tomadas elét. e 1 tomada telef. Isolamento térmico (teto e paredes), piso em comp. Naval, cert. NR18, incl. laudo descontaminação. (Sala técnica, segurança do trabalho) | C16: mês | D16: 16 | E16: 934.19 | F16: 934.19 | G16: 16 | H16: =G16*F16 -> 14947.04 | I16: =G16/D16 -> 1 | K16: =TRUNC((J16*F16),2) -> 0 | L16: =J16/D16 -> 0 | M16: =G16+J16 -> 16 | N16: =H16+K16 -> 14947.04 | O16: =I16+L16 -> 1
A17: 1.2.3 | B17: Aluguel mensal container para almoxarifado, incl. porta, 2 janelas, 1 pt iluminação, Isolamento térmico (teto), piso em comp. Naval pintado, cert. NR18, incl. laudo descontaminação. | C17: mês | D17: 8 | E17: 687.32 | F17: 687.32 | G17: 8 | H17: =G17*F17 -> 5498.56 | I17: =G17/D17 -> 1 | K17: =TRUNC((J17*F17),2) -> 0 | L17: =J17/D17 -> 0 | M17: =G17+J17 -> 8 | N17: =H17+K17 -> 5498.56 | O17: =I17+L17 -> 1
A18: 1.2.4 | B18: Refeitório c/ paredes chapa de comp. 12mm e pont. 8x8cm, piso ciment. e cob. Telhas fibroc. 6mm, incl. ponto de luz e cx. de insp. (1,21m²/func/turno) - (Cozinha/Refeitório) | C18: M2 | D18: 42.35 | E18: 512.98 | F18: 512.98 | G18: 42.35 | H18: =G18*F18 -> 21724.703 | I18: =G18/D18 -> 1 | K18: =TRUNC((J18*F18),2) -> 0 | L18: =J18/D18 -> 0 | M18: =G18+J18 -> 42.35 | N18: =H18+K18 -> 21724.703 | O18: =I18+L18 -> 1
A19: 1.2.5 | B19: Unidade de sanitário e vestiário p/ até 20 func. área de 18.15m2, paredes de chapa compens. 12mm e pontalete 8x8cm, piso cimentado, cobert. telha fibroc. 6mm, incl. instalação de luz e cx. de inspeção, conf. projeto (1 utilização) | C19: und | D19: 2 | E19: 17091.27 | F19: 17091.27 | G19: 2 | H19: =G19*F19 -> 34182.54 | I19: =G19/D19 -> 1 | K19: =TRUNC((J19*F19),2) -> 0 | L19: =J19/D19 -> 0 | M19: =G19+J19 -> 2 | N19: =H19+K19 -> 34182.54 | O19: =I19+L19 -> 1
A20: 1.2.7 | B20: Reservatório de poliestileno de 1000 L, incl. suporte em madeira de 7x12cm, elevado de 4m | C20: UD | D20: 3 | E20: 1242.39 | F20: 1242.39 | G20: 3 | H20: =G20*F20 -> 3727.17 | I20: =G20/D20 -> 1 | K20: =TRUNC((J20*F20),2) -> 0 | L20: =J20/D20 -> 0 | M20: =G20+J20 -> 3 | N20: =H20+K20 -> 3727.17 | O20: =I20+L20 -> 1
A21: 1.2.8 | B21: Rede de água c/ padrão de entrada d'água diâm. 3/4" conf. CESAN, incl. tubos e conexões p/ aliment., distrib., extravas. e limp., cons. o padrão a 25m | C21: m | D21: 50 | E21: 54.93 | F21: 54.93 | G21: 50 | H21: =G21*F21 -> 2746.5 | I21: =G21/D21 -> 1 | K21: =TRUNC((J21*F21),2) -> 0 | L21: =J21/D21 -> 0 | M21: =G21+J21 -> 50 | N21: =H21+K21 -> 2746.5 | O21: =I21+L21 -> 1
A22: 1.2.9 | B22: Placa de obra nas dimensões de 2,0 x 4,0 m, padrão IOPES-ES | C22: M2 | D22: 8 | E22: 372.15 | F22: 372.15 | G22: 8 | H22: =G22*F22 -> 2977.2 | I22: =G22/D22 -> 1 | K22: =TRUNC((J22*F22),2) -> 0 | L22: =J22/D22 -> 0 | M22: =G22+J22 -> 8 | N22: =H22+K22 -> 2977.2 | O22: =I22+L22 -> 1
A23: 1.2.10 | B23: Rede de esgoto, contendo fossa e filtro, incl. tubos e conexões de ligação entre caixas, considerando distância de 25m.. | C23: m | D23: 20 | E23: 441.42 | F23: 441.42 | G23: 20 | H23: =G23*F23 -> 8828.4 | I23: =G23/D23 -> 1 | K23: =TRUNC((J23*F23),2) -> 0 | L23: =J23/D23 -> 0 | M23: =G23+J23 -> 20 | N23: =H23+K23 -> 8828.4 | O23: =I23+L23 -> 1
A24: 1.2.11 | B24: Rede de luz, incl. padrão entr. energia trifás. cabo ligação até barracões, quadro distrib., disj. E chave de força, cons. 20m entre padrão entr.e QDG - Instalações Elétricas do canteiro total. | C24: m | D24: 50 | E24: 793.13 | F24: 793.13 | G24: 50 | H24: =G24*F24 -> 39656.5 | I24: =G24/D24 -> 1 | K24: =TRUNC((J24*F24),2) -> 0 | L24: =J24/D24 -> 0 | M24: =G24+J24 -> 50 | N24: =H24+K24 -> 39656.5 | O24: =I24+L24 -> 1
A25: 1.2.12 | B25: Cerca de arame farpado 4 fios com mourões a cada 2,0 m, esticadores de madeira, a cada 20,0 m, inclusive transporte de mourão e arame farpado) | C25: m | D25: 400 | E25: 22.73 | F25: 22.73 | G25: 400 | H25: =G25*F25 -> 9092 | I25: =G25/D25 -> 1 | K25: =TRUNC((J25*F25),2) -> 0 | L25: =J25/D25 -> 0 | M25: =G25+J25 -> 400 | N25: =H25+K25 -> 9092 | O25: =I25+L25 -> 1
A26: 1.3 | B26: DEMOLIZAÇÃO DO CANTEIRO DE OBRAS
A27: 1.3.1 | B27: Demolição de edificações | C27: M2 | D27: 78.65 | E27: 56.35 | F27: 59.05 | G27: 0 | H27: =G27*F27 -> 0 | I27: =G27/D27 -> 0 | J27: 78.65 | K27: =TRUNC((J27*F27),2) -> 4644.28 | L27: =J27/D27 -> 1 | M27: =G27+J27 -> 78.65 | N27: =H27+K27 -> 4644.28 | O27: =I27+L27 -> 1
A28: 1.3.2 | B28: Demolição de cerca de madeira com 4 fios | C28: M | D28: 400 | E28: 3.29 | F28: 3.8 | G28: 400 | H28: =G28*F28 -> 1520 | I28: =G28/D28 -> 1 | K28: =TRUNC((J28*F28),2) -> 0 | L28: =J28/D28 -> 0 | M28: =G28+J28 -> 400 | N28: =H28+K28 -> 1520 | O28: =I28+L28 -> 1
A29: 2 | B29: SUPRESSÃO VEGETAL
A30: 2.1 | B30: LIMPEZA DA ÁREA DO BARRAMENTO
A31: 2.1.1 | B31: Limpeza, desmatamento e destocamento de árvores com diâmetro até 15 cm, com trator de esteira | C31: M2 | D31: 5456 | E31: 0.6 | F31: 0.7 | G31: 5456 | H31: =G31*F31 -> 3819.2 | I31: =G31/D31 -> 1 | K31: =TRUNC((J31*F31),2) -> 0 | L31: =J31/D31 -> 0 | M31: =G31+J31 -> 5456 | N31: =H31+K31 -> 3819.2 | O31: =I31+L31 -> 1
A32: 2.2 | B32: ESCAVAÇÃO DA ÁREA INUNDAÇÃO
A33: 2.2.1 | B33: Limpeza, desmatamento e destocamento de árvores com diâmetro até 15 cm, com trator de esteira | C33: M2 | D33: 100405 | E33: 0.6 | F33: 0.7 | G33: 94848.606 | H33: =G33*F33 -> 66394.024 | I33: =G33/D33 -> 0.94466019 | J33: 4769.67 | K33: =TRUNC((J33*F33),2) -> 3338.76 | L33: =J33/D33 -> 0.047504308 | M33: =G33+J33 -> 99618.276 | N33: =H33+K33 -> 69732.784 | O33: =I33+L33 -> 0.9921645 | R33: =P33/F33 -> 0
A34: 2.2.2 | B34: Escavação e carga de material de 1ª categoria com escavadeira | C34: M3 | D34: 299393.55 | E34: 3.4 | F34: 3.99 | G34: 198820.73 | H34: =G34*F34 -> 793294.73 | I34: =G34/D34 -> 0.66407822 | J34: 40489.92 | K34: =TRUNC((J34*F34),2) -> 161554.78 | L34: =J34/D34 -> 0.13523979 | M34: =G34+J34 -> 239310.65 | N34: =H34+K34 -> 954849.51 | O34: =I34+L34 -> 0.799318
A35: 2.2.3 | B35: LOCAL COM DMT ATÉ 3,0 KM (Caminhão basculante) - 1,147XP+1,268XR+2,013 Sendo XP = 0,0 e XR = 2 (Centro bacia inundação > Bota-Fora) - Transporte de argila com peso específico de 1,4 t/m3 | C35: T | D35: 419150.97 | E35: 4.45 | F35: 5.22 | G35: 278349.03 | H35: =G35*F35 -> 1452982 | I35: =G35/D35 -> 0.66407823 | J35: 56685.88 | K35: =TRUNC((J35*F35),2) -> 295900.29 | L35: =J35/D35 -> 0.13523977 | M35: =G35+J35 -> 335034.91 | N35: =H35+K35 -> 1748882.2 | O35: =I35+L35 -> 0.79931799 | R35: =P35/F35 -> 0
A36: 3 | B36: ENSECADEIRA
A37: 3.1 | B37: ENSECADEIRA 1ª ETAPA
A38: 3.1.1 | B38: Escavação e carga de material de 1ª categoria com escavadeira - CANAL DE DESVIO | C38: M3 | D38: 1710 | E38: 4.03 | F38: 4.72 | G38: 1710 | H38: =G38*F38 -> 8071.2 | I38: =G38/D38 -> 1 | K38: =TRUNC((J38*F38),2) -> 0 | L38: =J38/D38 -> 0 | M38: =G38+J38 -> 1710 | N38: =H38+K38 -> 8071.2 | O38: =I38+L38 -> 1
A39: 3.1.2 | B39: LOCAL COM DMT ATÉ 3,0 KM (Caminhão basculante) - 1,147XP+1,268XR+2,013 Sendo XP = 0,0 e XR = 2 (Canal de Desvio > Bota-Fora) - Transporte de argila com peso específico de 1,4 t/m3 | C39: T | D39: 2394 | E39: 5.91 | F39: 6.93 | G39: 2394 | H39: =G39*F39 -> 16590.42 | I39: =G39/D39 -> 1 | K39: =TRUNC((J39*F39),2) -> 0 | L39: =J39/D39 -> 0 | M39: =G39+J39 -> 2394 | N39: =H39+K39 -> 16590.42 | O39: =I39+L39 -> 1
A40: 3.1.3 | B40: Espalhamento / regularização / compactação de material em bota-fora (Empolamento do material [item 3.1.1] = 40%) | C40: M3 | D40: 2394 | E40: 3.17 | F40: 3.72 | G40: 2394 | H40: =G40*F40 -> 8905.68 | I40: =G40/D40 -> 1 | K40: =TRUNC((J40*F40),2) -> 0 | L40: =J40/D40 -> 0 | M40: =G40+J40 -> 2394 | N40: =H40+K40 -> 8905.68 | O40: =I40+L40 -> 1
A41: 3.1.4 | B41: Demolição mecânica de concreto - Barragem existente | C41: M3 | D41: 80.61 | E41: 208.25 | F41: 228.44424 | G41: 0 | H41: =G41*F41 -> 0 | I41: =G41/D41 -> 0 | J41: 30 | K41: =TRUNC((J41*F41),2) -> 6853.32 | L41: =J41/D41 -> 0.37216226 | M41: =G41+J41 -> 30 | N41: =H41+K41 -> 6853.32 | O41: =I41+L41 -> 0.37216226
...

Sheet MEMÓRIA DE CALCULO 9
B2: PREFEITURA MUNICIPAL DE SÃO ROQUE DO CANAÃ
B8: Memória de cálculo 9ª Medição
B9: OBRA: Construção de uma barragem de concreto com contrafortes e a limpeza e escavação de seu reservatório, na localidade de São Dalmácio, Município de São Roque do Canaã | D9: Data: 04/09/2024
B10: LOCAL: Comunidade de São Dalmácio
B11: Item | C11: Descrição | D11: Und | E11: Quant.
B12: 1 | C12: =VLOOKUP(B12,'MEDIÇÃO 9'!$A$10:$O$107,2,0) -> SERVIÇOS PRELIMINARES
B13: 1.3 | C13: =VLOOKUP(B13,'MEDIÇÃO 9'!$A$10:$O$107,2,0) -> DEMOLIZAÇÃO DO CANTEIRO DE OBRAS
B14: 1.3.1 | C14: =VLOOKUP(B14,'MEDIÇÃO 9'!$A$10:$O$107,2,0) -> Demolição de edificações | D14: =VLOOKUP(B14,'MEDIÇÃO 9'!$A$10:$O$107,3,0) -> M2 | E14: =VLOOKUP($B14,'MEDIÇÃO 9'!$A$10:$O$106,10,0) -> 78.65
B15: 78,65 m²
B17: 2 | C17: =VLOOKUP(B17,'MEDIÇÃO 9'!$A$10:$O$107,2,0) -> SUPRESSÃO VEGETAL
B18: 2.2 | C18: =VLOOKUP(B18,'MEDIÇÃO 9'!$A$10:$O$107,2,0) -> ESCAVAÇÃO DA ÁREA INUNDAÇÃO
B19: 2.2.1 | C19: =VLOOKUP(B19,'MEDIÇÃO 9'!$A$10:$O$107,2,0) -> Limpeza, desmatamento e destocamento de árvores com diâmetro até 15 cm, com trator de esteira | D19: =VLOOKUP(B19,'MEDIÇÃO 9'!$A$10:$O$107,3,0) -> M2 | E19: =VLOOKUP($B19,'MEDIÇÃO 9'!$A$10:$O$106,10,0) -> 4769.67
B20: 4.769,67 m²
B21: 2.2.2 | C21: =VLOOKUP(B21,'MEDIÇÃO 9'!$A$10:$O$107,2,0) -> Escavação e carga de material de 1ª categoria com escavadeira | D21: =VLOOKUP(B21,'MEDIÇÃO 9'!$A$10:$O$107,3,0) -> M3 | E21: =VLOOKUP($B21,'MEDIÇÃO 9'!$A$10:$O$106,10,0) -> 40489.92
B22: 40.489,92 m³
B23: 2.2.3 | C23: =VLOOKUP(B23,'MEDIÇÃO 9'!$A$10:$O$107,2,0) -> LOCAL COM DMT ATÉ 3,0 KM (Caminhão basculante) - 1,147XP+1,268XR+2,013 Sendo XP = 0,0 e XR = 2 (Centro bacia inundação > Bota-Fora) - Transporte de argila com peso específico de 1,4 t/m3 | D23: =VLOOKUP(B23,'MEDIÇÃO 9'!$A$10:$O$107,3,0) -> T | E23: =VLOOKUP($B23,'MEDIÇÃO 9'!$A$10:$O$106,10,0) -> 56685.88
B24: 56.685,88 Toneladas
B26: 3 | C26: =VLOOKUP(B26,'MEDIÇÃO 9'!$A$10:$O$107,2,0) -> ENSECADEIRA
B27: 3.1 | C27: =VLOOKUP(B27,'MEDIÇÃO 9'!$A$10:$O$107,2,0) -> ENSECADEIRA 1ª ETAPA
B28: 3.1.4 | C28: =VLOOKUP(B28,'MEDIÇÃO 9'!$A$10:$O$107,2,0) -> Demolição mecânica de concreto - Barragem existente | D28: =VLOOKUP(B28,'MEDIÇÃO 9'!$A$10:$O$107,3,0) -> M3 | E28: =VLOOKUP($B28,'MEDIÇÃO 9'!$A$10:$O$106,10,0) -> 30
B29: 30,00 m³
B30: 3.1.5 | C30: =VLOOKUP(B30,'MEDIÇÃO 9'!$A$10:$O$107,2,0) -> Carga de material de 3ª categoria | D30: =VLOOKUP(B30,'MEDIÇÃO 9'!$A$10:$O$107,3,0) -> M3 | E30: =VLOOKUP($B30,'MEDIÇÃO 9'!$A$10:$O$106,10,0) -> 45
B31: 45,00 m³
B32: 3.1.6 | C32: =VLOOKUP(B32,'MEDIÇÃO 9'!$A$10:$O$107,2,0) -> LOCAL COM DMT ATÉ 3,0 KM (Caminhão basculante) - 1,147XP+1,268XR+2,013 Sendo XP = 0,0 e XR = 1 (Barragem existente > Bota-Fora) - Transporte de concreto com peso específico de 1,6 t/m3 | D32: =VLOOKUP(B32,'MEDIÇÃO 9'!$A$10:$O$107,3,0) -> T | E32: =VLOOKUP($B32,'MEDIÇÃO 9'!$A$10:$O$106,10,0) -> 48
B33: 48,00 toneladas
B34: 3.1.7 | C34: =VLOOKUP(B34,'MEDIÇÃO 9'!$A$10:$O$107,2,0) -> Espalhamento / regularização / compactação de material em bota-fora (Empolamento do material [item 3.1.4] = 50%) | D34: =VLOOKUP(B34,'MEDIÇÃO 9'!$A$10:$O$107,3,0) -> M3 | E34: =VLOOKUP($B34,'MEDIÇÃO 9'!$A$10:$O$106,10,0) -> 45
B35: 45,00 m³
B37: 4 | C37: =VLOOKUP(B37,'MEDIÇÃO 9'!$A$10:$O$107,2,0) -> MACIÇO DE CONCRETO
B38: 4.1 | C38: =VLOOKUP(B38,'MEDIÇÃO 9'!$A$10:$O$107,2,0) -> FUNDAÇÃO DA BARRAGEM
B39: 4.1.1 | C39: =VLOOKUP(B39,'MEDIÇÃO 9'!$A$10:$O$107,2,0) -> Escavação e carga de material de 1ª categoria com escavadeira - Fundação da barragem | D39: =VLOOKUP(B39,'MEDIÇÃO 9'!$A$10:$O$107,3,0) -> M3 | E39: =VLOOKUP($B39,'MEDIÇÃO 9'!$A$10:$O$106,10,0) -> 120
B40: 120,00 m²
B41: 4.1.2 | C41: =VLOOKUP(B41,'MEDIÇÃO 9'!$A$10:$O$107,2,0) -> LOCAL COM DMT ATÉ 3,0 KM (Caminhão basculante) - 1,147XP+1,268XR+2,013 Sendo XP = 0,0 e XR = 2 (Fundação da Barragem > Bota-Fora) - Transporte de argila com peso específico de 1,4 t/m3 | D41: =VLOOKUP(B41,'MEDIÇÃO 9'!$A$10:$O$107,3,0) -> T | E41: =VLOOKUP($B41,'MEDIÇÃO 9'!$A$10:$O$106,10,0) -> 168
B42: 168,00 toneladas
B43: 4.1.3 | C43: =VLOOKUP(B43,'MEDIÇÃO 9'!$A$10:$O$107,2,0) -> Espalhamento / regularização / compactação de material em bota-fora (Empolamento do material [item 4.1.1] = 40%) | D43: =VLOOKUP(B43,'MEDIÇÃO 9'!$A$10:$O$107,3,0) -> M3 | E43: =VLOOKUP($B43,'MEDIÇÃO 9'!$A$10:$O$106,10,0) -> 168
B44: 168,00 m³
B45: 4.1.7 | C45: =VLOOKUP(B45,'MEDIÇÃO 9'!$A$10:$O$107,2,0) -> Esgotamento de escavações para rebaixamento do nível dágua nos serviços de bueiros,galerias e outros, com conj. moto bomba | D45: =VLOOKUP(B45,'MEDIÇÃO 9'!$A$10:$O$107,3,0) -> mês | E45: =VLOOKUP($B45,'MEDIÇÃO 9'!$A$10:$O$106,10,0) -> 1
B46: 1,00 mês
B47: 4.2 | C47: =VLOOKUP(B47,'MEDIÇÃO 9'!$A$10:$O$107,2,0) -> TRATAMENTO DA FUNDAÇÃO
B48: 4.2.1 | C48: =VLOOKUP(B48,'MEDIÇÃO 9'!$A$10:$O$107,2,0) -> Preparo da fundação com jateamento de água e ar, inclusive apicoamento e "bate-choco" | D48: =VLOOKUP(B48,'MEDIÇÃO 9'!$A$10:$O$107,3,0) -> M2 | E48: =VLOOKUP($B48,'MEDIÇÃO 9'!$A$10:$O$106,10,0) -> 60
B49: 60,00 m²
...
