Workbook

Sheet MEDIÇÃO 13
A1: PREFEITURA MUNICIPAL DE SÃO ROQUE DO CANAÃ Estado do Espírito Santo SECRETARIA MUNICIPAL DE OBRAS E SERVIÇOS URBANOS – SETOR DE ENGENHARIA
A2: BOLETIM DE | E2: =M8 -> MEDIÇÃO 13 | O2: 45785
A4: OBRA: Construção de uma barragem de concreto com contrafortes e a limpeza e escavação de seu reservatório, na localidade de São Dalmácio, Município de São Roque do Canaã | D4: CONTRATO Nº: | F4: 106/2022 | L4: Assinatura: 22/11/2022 | O4: INÍCIO: | Q4: 44930
O5: TÉRMINO: | Q5: 46031
A6: LOCAL: COMUNIDADE DE SÃO DALMÁCIO | D6: PERÍODO: | J6: 45748 | L6: a | M6: 45777 | O6: PRAZO: | Q6: 240 DIAS + 284 DIAS (PARALIS.) + 205 DIAS + 270 DIAS + 103 DIAS (PARALIS.)
A7: EMPRESA: EDURBAN EDIFICAÇÕES E URBANISMO LTDA | J7: =M8 -> MEDIÇÃO 13 | M7: =P110 -> 198612.35 | O7: % MÊS: | P7: =L110 -> 0.024217712 | Q7: % ACUM: | R7: =L111 -> 0.65409117
A8: ITEM | B8: ESPECIFICAÇÃO | C8: UNID. | D8: QUANT. | E8: UNIT + BDI | F8: UNITÁRIO REAJUSTADO | G8: 1º REPLANILHAMENTO | J8: ACUMULADO ANTERIOR | M8: MEDIÇÃO 13 | P8: TOTAL MEDIDO
G9: ACRÉSC. | H9: DECRÉSC. | I9: QUANT. ATUALIZADA | J9: QUANT. | K9: TOTAL | L9: % | M9: QUANT. | N9: TOTAL | O9: % | P9: QUANT. | Q9: TOTAL | R9: %
A10: 1 | B10: SERVIÇOS PRELIMINARES
A11: 1.1 | B11: MOBILIZAÇÃO/DESMOBILIZAÇÃO
A12: 1.1.1 | B12: Mobilização de Equipamentos | C12: Vb | D12: 1 | E12: 39300.82 | F12: 39300.82 | I12: =D12+G12-H12 -> 1 | J12: 1 | K12: =J12*F12 -> 39300.82 | L12: =J12/I12 -> 1 | N12: =TRUNC((M12*F12),2) -> 0 | O12: =M12/I12 -> 0 | P12: =J12+M12 -> 1 | Q12: =K12+N12 -> 39300.82 | R12: =L12+O12 -> 1
A13: 1.1.2 | B13: Desmobilização de Equipamentos | C13: Vb | D13: 1 | E13: 39300.82 | F13: 39300.82 | I13: =D13+G13-H13 -> 1 | J13: 0 | K13: =J13*F13 -> 0 | L13: =J13/I13 -> 0 | N13: =TRUNC((M13*F13),2) -> 0 | O13: =M13/I13 -> 0 | P13: =J13+M13 -> 0 | Q13: =K13+N13 -> 0 | R13: =L13+O13 -> 0
A14: 1.2 | B14: INSTALAÇÃO DE CANTEIRO DE OBRAS
A15: 1.2.1 | B15: Aluguel mensal container para escritório, dim. 6.00x2.40m, c/ banheiro (vaso+lavat+chuveiro e básc), incl. porta, 2 janelas, abert p/ ar cond., 2 pt iluminação, 2 tom. elét. e 1 tom.telef. Isolam.térmico(teto e paredes), piso em comp. Naval, cert. NR18, incl. laudo descontaminação. (Administração e Engenharia) | C15: mês | D15: 16 | E15: 1022.97 | F15: 1022.97 | G15: 24 | I15: =D15+G15-H15 -> 40 | J15: 16 | K15: =J15*F15 -> 16367.52 | L15: =J15/I15 -> 0.4 | M15: 2 | N15: =TRUNC((M15*F15),2) -> 2045.94 | O15: =M15/I15 -> 0.05 | P15: =J15+M15 -> 18 | Q15: =K15+N15 -> 18413.46 | R15: =L15+O15 -> 0.45
A16: 1.2.2 | B16: Aluguel mensal container para escritório, sem banheiro, dim. 6.00x2.40m, incl. porta, 2 janelas, abert p/ ar cond., 2 pt iluminação, 2 tomadas elét. e 1 tomada telef. Isolamento térmico (teto e paredes), piso em comp. Naval, cert. NR18, incl. laudo descontaminação. (Sala técnica, segurança do trabalho) | C16: mês | D16: 16 | E16: 934.19 | F16: 934.19 | G16: 24 | I16: =D16+G16-H16 -> 40 | J16: 16 | K16: =J16*F16 -> 14947.04 | L16: =J16/I16 -> 0.4 | M16: 2 | N16: =TRUNC((M16*F16),2) -> 1868.38 | O16: =M16/I16 -> 0.05 | P16: =J16+M16 -> 18 | Q16: =K16+N16 -> 16815.42 | R16: =L16+O16 -> 0.45
A17: 1.2.3 | B17: Aluguel mensal container para almoxarifado, incl. porta, 2 janelas, 1 pt iluminação, Isolamento térmico (teto), piso em comp. Naval pintado, cert. NR18, incl. laudo descontaminação. | C17: mês | D17: 8 | E17: 687.32 | F17: 687.32 | G17: 12 | I17: =D17+G17-H17 -> 20 | J17: 8 | K17: =J17*F17 -> 5498.56 | L17: =J17/I17 -> 0.4 | M17: 1 | N17: =TRUNC((M17*F17),2) -> 687.32 | O17: =M17/I17 -> 0.05 | P17: =J17+M17 -> 9 | Q17: =K17+N17 -> 6185.88 | R17: =L17+O17 -> 0.45
A18: 1.2.4 | B18: Refeitório c/ paredes chapa de comp. 12mm e pont. 8x8cm, piso ciment. e cob. Telhas fibroc. 6mm, incl. ponto de luz e cx. de insp. (1,21m²/func/turno) - (Cozinha/Refeitório) | C18: M2 | D18: 42.35 | E18: 512.98 | F18: 512.98 | I18: =D18+G18-H18 -> 42.35 | J18: 42.35 | K18: =J18*F18 -> 21724.703 | L18: =J18/I18 -> 1 | N18: =TRUNC((M18*F18),2) -> 0 | O18: =M18/I18 -> 0 | P18: =J18+M18 -> 42.35 | Q18: =K18+N18 -> 21724.703 | R18: =L18+O18 -> 1
A19: 1.2.5 | B19: Unidade de sanitário e vestiário p/ até 20 func. área de 18.15m2, paredes de chapa compens. 12mm e pontalete 8x8cm, piso cimentado, cobert. telha fibroc. 6mm, incl. instalação de luz e cx. de inspeção, conf. projeto (1 utilização) | C19: und | D19: 2 | E19: 17091.27 | F19: 17091.27 | I19: =D19+G19-H19 -> 2 | J19: 2 | K19: =J19*F19 -> 34182.54 | L19: =J19/I19 -> 1 | N19: =TRUNC((M19*F19),2) -> 0 | O19: =M19/I19 -> 0 | P19: =J19+M19 -> 2 | Q19: =K19+N19 -> 34182.54 | R19: =L19+O19 -> 1
A20: 1.2.7 | B20: Reservatório de poliestileno de 1000 L, incl. suporte em madeira de 7x12cm, elevado de 4m | C20: UD | D20: 3 | E20: 1242.39 | F20: 1242.39 | I20: =D20+G20-H20 -> 3 | J20: 3 | K20: =J20*F20 -> 3727.17 | L20: =J20/I20 -> 1 | N20: =TRUNC((M20*F20),2) -> 0 | O20: =M20/I20 -> 0 | P20: =J20+M20 -> 3 | Q20: =K20+N20 -> 3727.17 | R20: =L20+O20 -> 1
A21: 1.2.8 | B21: Rede de água c/ padrão de entrada d'água diâm. 3/4" conf. CESAN, incl. tubos e conexões p/ aliment., distrib., extravas. e limp., cons. o padrão a 25m | C21: m | D21: 50 | E21: 54.93 | F21: 54.93 | I21: =D21+G21-H21 -> 50 | J21: 50 | K21: =J21*F21 -> 2746.5 | L21: =J21/I21 -> 1 | N21: =TRUNC((M21*F21),2) -> 0 | O21: =M21/I21 -> 0 | P21: =J21+M21 -> 50 | Q21: =K21+N21 -> 2746.5 | R21: =L21+O21 -> 1
A22: 1.2.9 | B22: Placa de obra nas dimensões de 2,0 x 4,0 m, padrão IOPES-ES | C22: M2 | D22: 8 | E22: 372.15 | F22: 372.15 | I22: =D22+G22-H22 -> 8 | J22: 8 | K22: =J22*F22 -> 2977.2 | L22: =J22/I22 -> 1 | N22: =TRUNC((M22*F22),2) -> 0 | O22: =M22/I22 -> 0 | P22: =J22+M22 -> 8 | Q22: =K22+N22 -> 2977.2 | R22: =L22+O22 -> 1
A23: 1.2.10 | B23: Rede de esgoto, contendo fossa e filtro, incl. tubos e conexões de ligação entre caixas, considerando distância de 25m.. | C23: m | D23: 20 | E23: 441.42 | F23: 441.42 | I23: =D23+G23-H23 -> 20 | J23: 20 | K23: =J23*F23 -> 8828.4 | L23: =J23/I23 -> 1 | N23: =TRUNC((M23*F23),2) -> 0 | O23: =M23/I23 -> 0 | P23: =J23+M23 -> 20 | Q23: =K23+N23 -> 8828.4 | R23: =L23+O23 -> 1
A24: 1.2.11 | B24: Rede de luz, incl. padrão entr. energia trifás. cabo ligação até barracões, quadro distrib., disj. E chave de força, cons. 20m entre padrão entr.e QDG - Instalações Elétricas do canteiro total. | C24: m | D24: 50 | E24: 793.13 | F24: 793.13 | I24: =D24+G24-H24 -> 50 | J24: 50 | K24: =J24*F24 -> 39656.5 | L24: =J24/I24 -> 1 | N24: =TRUNC((M24*F24),2) -> 0 | O24: =M24/I24 -> 0 | P24: =J24+M24 -> 50 | Q24: =K24+N24 -> 39656.5 | R24: =L24+O24 -> 1
A25: 1.2.12 | B25: Cerca de arame farpado 4 fios com mourões a cada 2,0 m, esticadores de madeira, a cada 20,0 m, inclusive transporte de mourão e arame farpado) | C25: m | D25: 400 | E25: 22.73 | F25: 22.73 | I25: =D25+G25-H25 -> 400 | J25: 400 | K25: =J25*F25 -> 9092 | L25: =J25/I25 -> 1 | N25: =TRUNC((M25*F25),2) -> 0 | O25: =M25/I25 -> 0 | P25: =J25+M25 -> 400 | Q25: =K25+N25 -> 9092 | R25: =L25+O25 -> 1
A26: 1.3 | B26: DEMOLIZAÇÃO DO CANTEIRO DE OBRAS
A27: 1.3.1 | B27: Demolição de edificações | C27: M2 | D27: 78.65 | E27: 56.35 | F27: 59.05 | I27: =D27+G27-H27 -> 78.65 | J27: 78.649958 | K27: =J27*F27 -> 4644.28 | L27: =J27/I27 -> 0.99999946 | N27: =TRUNC((M27*F27),2) -> 0 | O27: =M27/I27 -> 0 | P27: =J27+M27 -> 78.649958 | Q27: =K27+N27 -> 4644.28 | R27: =L27+O27 -> 0.99999946
A28: 1.3.2 | B28: Demolição de cerca de madeira com 4 fios | C28: M | D28: 400 | E28: 3.29 | F28: 3.8 | I28: =D28+G28-H28 -> 400 | J28: 400 | K28: =J28*F28 -> 1520 | L28: =J28/I28 -> 1 | N28: =TRUNC((M28*F28),2) -> 0 | O28: =M28/I28 -> 0 | P28: =J28+M28 -> 400 | Q28: =K28+N28 -> 1520 | R28: =L28+O28 -> 1
A29: 2 | B29: SUPRESSÃO VEGETAL
A30: 2.1 | B30: LIMPEZA DA ÁREA DO BARRAMENTO
A31: 2.1.1 | B31: Limpeza, desmatamento e destocamento de árvores com diâmetro até 15 cm, com trator de esteira | C31: M2 | D31: 5456 | E31: 0.6 | F31: 0.7 | I31: =D31+G31-H31 -> 5456 | J31: 5456 | K31: =J31*F31 -> 3819.2 | L31: =J31/I31 -> 1 | N31: =TRUNC((M31*F31),2) -> 0 | O31: =M31/I31 -> 0 | P31: =J31+M31 -> 5456 | Q31: =K31+N31 -> 3819.2 | R31: =L31+O31 -> 1
A32: 2.2 | B32: ESCAVAÇÃO DA ÁREA INUNDAÇÃO
A33: 2.2.1 | B33: Limpeza, desmatamento e destocamento de árvores com diâmetro até 15 cm, com trator de esteira | C33: M2 | D33: 100405 | E33: 0.6 | F33: 0.7 | I33: =D33+G33-H33 -> 100405 | J33: 99618.264 | K33: =J33*F33 -> 69732.784 | L33: =J33/I33 -> 0.99216437 | N33: =TRUNC((M33*F33),2) -> 0 | O33: =M33/I33 -> 0 | P33: =J33+M33 -> 99618.264 | Q33: =K33+N33 -> 69732.784 | R33: =L33+O33 -> 0.99216437
A34: 2.2.2 | B34: Escavação e carga de material de 1ª categoria com escavadeira | C34: M3 | D34: 299393.55 | E34: 3.4 | F34: 3.99 | G34: 111034.85 | I34: =D34+G34-H34 -> 410428.4 | J34: 289457.31 | K34: =J34*F34 -> 1154934.7 | L34: =J34/I34 -> 0.70525653 | M34: 10500 | N34: =TRUNC((M34*F34),2) -> 41895 | O34: =M34/I34 -> 0.025583025 | P34: =J34+M34 -> 299957.31 | Q34: =K34+N34 -> 1196829.7 | R34: =L34+O34 -> 0.73083956
A35: 2.2.3 | B35: LOCAL COM DMT ATÉ 3,0 KM (Caminhão basculante) - 1,147XP+1,268XR+2,013 Sendo XP = 0,0 e XR = 2 (Centro bacia inundação > Bota-Fora) - Transporte de argila com peso específico de 1,4 t/m3 | C35: T | D35: 419150.97 | E35: 4.45 | F35: 5.22 | G35: 155448.79 | I35: =D35+G35-H35 -> 574599.76 | J35: 405240.23 | K35: =J35*F35 -> 2115354 | L35: =J35/I35 -> 0.70525652 | M35: 14700 | N35: =TRUNC((M35*F35),2) -> 76734 | O35: =M35/I35 -> 0.025583025 | P35: =J35+M35 -> 419940.23 | Q35: =K35+N35 -> 2192088 | R35: =L35+O35 -> 0.73083955
A36: 3 | B36: ENSECADEIRA
A37: 3.1 | B37: ENSECADEIRA 1ª ETAPA
A38: 3.1.1 | B38: Escavação e carga de material de 1ª categoria com escavadeira - CANAL DE DESVIO | C38: M3 | D38: 1710 | E38: 4.03 | F38: 4.72 | I38: =D38+G38-H38 -> 1710 | J38: 1710 | K38: =J38*F38 -> 8071.2 | L38: =J38/I38 -> 1 | N38: =TRUNC((M38*F38),2) -> 0 | O38: =M38/I38 -> 0 | P38: =J38+M38 -> 1710 | Q38: =K38+N38 -> 8071.2 | R38: =L38+O38 -> 1
A39: 3.1.2 | B39: LOCAL COM DMT ATÉ 3,0 KM (Caminhão basculante) - 1,147XP+1,268XR+2,013 Sendo XP = 0,0 e XR = 2 (Canal de Desvio > Bota-Fora) - Transporte de argila com peso específico de 1,4 t/m3 | C39: T | D39: 2394 | E39: 5.91 | F39: 6.93 | I39: =D39+G39-H39 -> 2394 | J39: 2394 | K39: =J39*F39 -> 16590.42 | L39: =J39/I39 -> 1 | N39: =TRUNC((M39*F39),2) -> 0 | O39: =M39/I39 -> 0 | P39: =J39+M39 -> 2394 | Q39: =K39+N39 -> 16590.42 | R39: =L39+O39 -> 1
A40: 3.1.3 | B40: Espalhamento / regularização / compactação de material em bota-fora (Empolamento do material [item 3.1.1] = 40%) | C40: M3 | D40: 2394 | E40: 3.17 | F40: 3.72 | I40: =D40+G40-H40 -> 2394 | J40: 2394 | K40: =J40*F40 -> 8905.68 | L40: =J40/I40 -> 1 | N40: =TRUNC((M40*F40),2) -> 0 | O40: =M40/I40 -> 0 | P40: =J40+M40 -> 2394 | Q40: =K40+N40 -> 8905.68 | R40: =L40+O40 -> 1
A41: 3.1.4 | B41: Demolição mecânica de concreto - Barragem existente | C41: M3 | D41: 80.61 | E41: 208.25 | F41: 228.44424 | I41: =D41+G41-H41 -> 80.61 | J41: 39.999958 | K41: =J41*F41 -> 9137.76 | L41: =J41/I41 -> 0.49621583 | N41: =TRUNC((M41*F41),2) -> 0 | O41: =M41/I41 -> 0 | P41: =J41+M41 -> 39.999958 | Q41: =K41+N41 -> 9137.76 | R41: =L41+O41 -> 0.49621583
...

Sheet MEMÓRIA DE CALCULO 13
B2: PREFEITURA MUNICIPAL DE SÃO ROQUE DO CANAÃ
B8: Memória de cálculo 13ª Medição
B9: OBRA: Construção de uma barragem de concreto com contrafortes e a limpeza e escavação de seu reservatório, na localidade de São Dalmácio, Município de São Roque do Canaã | D9: Data: 08/05/2025
B10: LOCAL: Comunidade de São Dalmácio
B11: Item | C11: Descrição | D11: Und | E11: Quant.
B12: 1 | C12: =VLOOKUP(B12,'MEDIÇÃO 13'!$A$10:$R$107,2,0) -> SERVIÇOS PRELIMINARES
B13: 1.2 | C13: =VLOOKUP(B13,'MEDIÇÃO 13'!$A$10:$R$107,2,0) -> INSTALAÇÃO DE CANTEIRO DE OBRAS
B14: 1.2.1 | C14: =VLOOKUP(B14,'MEDIÇÃO 13'!$A$10:$R$107,2,0) -> Aluguel mensal container para escritório, dim. 6.00x2.40m, c/ banheiro (vaso+lavat+chuveiro e básc), incl. porta, 2 janelas, abert p/ ar cond., 2 pt iluminação, 2 tom. elét. e 1 tom.telef. Isolam.térmico(teto e paredes), piso em comp. Naval, cert. NR18, incl. laudo descontaminação. (Administração e Engenharia) | D14: =VLOOKUP(B14,'MEDIÇÃO 13'!$A$10:$R$107,3,0) -> mês | E14: =VLOOKUP($B14,'MEDIÇÃO 13'!$A$10:$R$106,13,0) -> 2
B15: 2,00 unidades por mês
B16: 1.2.2 | C16: =VLOOKUP(B16,'MEDIÇÃO 13'!$A$10:$R$107,2,0) -> Aluguel mensal container para escritório, sem banheiro, dim. 6.00x2.40m, incl. porta, 2 janelas, abert p/ ar cond., 2 pt iluminação, 2 tomadas elét. e 1 tomada telef. Isolamento térmico (teto e paredes), piso em comp. Naval, cert. NR18, incl. laudo descontaminação. (Sala técnica, segurança do trabalho) | D16: =VLOOKUP(B16,'MEDIÇÃO 13'!$A$10:$R$107,3,0) -> mês | E16: =VLOOKUP($B16,'MEDIÇÃO 13'!$A$10:$R$106,13,0) -> 2
B17: 2,00 unidades por mês
B18: 1.2.3 | C18: =VLOOKUP(B18,'MEDIÇÃO 13'!$A$10:$R$107,2,0) -> Aluguel mensal container para almoxarifado, incl. porta, 2 janelas, 1 pt iluminação, Isolamento térmico (teto), piso em comp. Naval pintado, cert. NR18, incl. laudo descontaminação. | D18: =VLOOKUP(B18,'MEDIÇÃO 13'!$A$10:$R$107,3,0) -> mês | E18: =VLOOKUP($B18,'MEDIÇÃO 13'!$A$10:$R$106,13,0) -> 1
B19: 1,00 unidade por mês
B21: 2 | C21: =VLOOKUP(B21,'MEDIÇÃO 13'!$A$10:$R$107,2,0) -> SUPRESSÃO VEGETAL
B22: 2.2 | C22: =VLOOKUP(B22,'MEDIÇÃO 13'!$A$10:$R$107,2,0) -> ESCAVAÇÃO DA ÁREA INUNDAÇÃO
B23: 2.2.2 | C23: =VLOOKUP(B23,'MEDIÇÃO 13'!$A$10:$R$107,2,0) -> Escavação e carga de material de 1ª categoria com escavadeira | D23: =VLOOKUP(B23,'MEDIÇÃO 13'!$A$10:$R$107,3,0) -> M3 | E23: =VLOOKUP($B23,'MEDIÇÃO 13'!$A$10:$R$106,13,0) -> 10500
B24: 10.500,00 m³
B25: 2.2.3 | C25: =VLOOKUP(B25,'MEDIÇÃO 13'!$A$10:$R$107,2,0) -> LOCAL COM DMT ATÉ 3,0 KM (Caminhão basculante) - 1,147XP+1,268XR+2,013 Sendo XP = 0,0 e XR = 2 (Centro bacia inundação > Bota-Fora) - Transporte de argila com peso específico de 1,4 t/m3 | D25: =VLOOKUP(B25,'MEDIÇÃO 13'!$A$10:$R$107,3,0) -> T | E25: =VLOOKUP($B25,'MEDIÇÃO 13'!$A$10:$R$106,13,0) -> 14700
B26: 14.700,00 toneladas
B28: 3 | C28: =VLOOKUP(B28,'MEDIÇÃO 13'!$A$10:$R$107,2,0) -> ENSECADEIRA
B29: 3.2 | C29: =VLOOKUP(B29,'MEDIÇÃO 13'!$A$10:$R$107,2,0) -> ENSECADEIRA 2ª ETAPA
B30: 3.1.1. | C30: =VLOOKUP(B30,'MEDIÇÃO 13'!$A$10:$R$107,2,0) -> Escavação e carga de material de 1ª categoria com escavadeira - CANAL DE DESVIO + ENSECADEIRA | D30: =VLOOKUP(B30,'MEDIÇÃO 13'!$A$10:$R$107,3,0) -> M3 | E30: =VLOOKUP($B30,'MEDIÇÃO 13'!$A$10:$R$106,13,0) -> 1200
B31: 1.200,00 m³
B32: 3.2.2 | C32: =VLOOKUP(B32,'MEDIÇÃO 13'!$A$10:$R$107,2,0) -> LOCAL COM DMT ATÉ 3,0 KM (Caminhão basculante) - 1,147XP+1,268XR+2,013 Sendo XP = 0,0 e XR = 0,5 (Área de inundação > Canal de desvio/Ensecadeira) - Transporte de argila com peso específico de 1,4 t/m3 | D32: =VLOOKUP(B32,'MEDIÇÃO 13'!$A$10:$R$107,3,0) -> T | E32: =VLOOKUP($B32,'MEDIÇÃO 13'!$A$10:$R$106,13,0) -> 1680
B33: 1.680,00 toneladas
B34: 3.2.4 | C34: =VLOOKUP(B34,'MEDIÇÃO 13'!$A$10:$R$107,2,0) -> Compactação de aterros 100% PN - CANAL DE DESVIO + ENSECADEIRA | D34: =VLOOKUP(B34,'MEDIÇÃO 13'!$A$10:$R$107,3,0) -> M3 | E34: =VLOOKUP($B34,'MEDIÇÃO 13'!$A$10:$R$106,13,0) -> 1200
B35: 1.200,00 m³
B37: 4 | C37: =VLOOKUP(B37,'MEDIÇÃO 13'!$A$10:$R$107,2,0) -> MACIÇO DE CONCRETO
B38: 4.2 | C38: =VLOOKUP(B38,'MEDIÇÃO 13'!$A$10:$R$107,2,0) -> TRATAMENTO DA FUNDAÇÃO
B39: 4.2.1 | C39: =VLOOKUP(B39,'MEDIÇÃO 13'!$A$10:$R$107,2,0) -> Preparo da fundação com jateamento de água e ar, inclusive apicoamento e "bate-choco" | D39: =VLOOKUP(B39,'MEDIÇÃO 13'!$A$10:$R$107,3,0) -> M2 | E39: =VLOOKUP($B39,'MEDIÇÃO 13'!$A$10:$R$106,13,0) -> 40
B40: 30,00 m³
B41: 4.2.2 | C41: =VLOOKUP(B41,'MEDIÇÃO 13'!$A$10:$R$107,2,0) -> Perfuração de rocha para fixação de chumbadores | D41: =VLOOKUP(B41,'MEDIÇÃO 13'!$A$10:$R$107,3,0) -> M | E41: =VLOOKUP($B41,'MEDIÇÃO 13'!$A$10:$R$106,13,0) -> 38
B42: 42,00 m²
B43: 4.2.3 | C43: =VLOOKUP(B43,'MEDIÇÃO 13'!$A$10:$R$107,2,0) -> fornecimento e fixação de grampos diam. 40 mm com resina epoxi (prof. 100 cm em rocha). | D43: =VLOOKUP(B43,'MEDIÇÃO 13'!$A$10:$R$107,3,0) -> und | E43: =VLOOKUP($B43,'MEDIÇÃO 13'!$A$10:$R$106,13,0) -> 38
B44: 24,00 m²
B45: 4.3 | C45: =VLOOKUP(B45,'MEDIÇÃO 13'!$A$10:$R$107,2,0) -> MACIÇO DE CONCRETO
B46: 4.3.5 | C46: =VLOOKUP(B46,'MEDIÇÃO 13'!$A$10:$R$107,2,0) -> Formas planas de madeirit meso e superestrutura com 1 reaproveitamento esp. = 17 mm, inclusive fornecimento e transporte das madeiras- Tomada d'água | D46: =VLOOKUP(B46,'MEDIÇÃO 13'!$A$10:$R$107,3,0) -> M2 | E46: =VLOOKUP($B46,'MEDIÇÃO 13'!$A$10:$R$106,13,0) -> 20
B47: 20,00 m²
B49: 6 | C49: =VLOOKUP(B49,'MEDIÇÃO 13'!$A$10:$R$107,2,0) -> SINALIZAÇÃO
B50: 6.1 | C50: =VLOOKUP(B50,'MEDIÇÃO 13'!$A$10:$R$107,2,0) -> Cones para sinalização, fornecimento e colocação | D50: =VLOOKUP(B50,'MEDIÇÃO 13'!$A$10:$R$107,3,0) -> ud | E50: =VLOOKUP($B50,'MEDIÇÃO 13'!$A$10:$R$106,13,0) -> 10
...
