Workbook

Sheet MEDIÇÃO 14
A1: PREFEITURA MUNICIPAL DE SÃO ROQUE DO CANAÃ Estado do Espírito Santo SECRETARIA MUNICIPAL DE OBRAS E SERVIÇOS URBANOS – SETOR DE ENGENHARIA
A2: BOLETIM DE | E2: =I8 -> MEDIÇÃO 14 | K2: DATA: 07/01/2025
A4: OBRA: CONSTRUÇÃO DO PARQUE MUNICIPAL MULTIUSO DE SÃO ROQUE DO CANAÃ | D4: CONTRATO Nº: | F4: 041/2023 | H4: Assinatura: 06/06/2023 | K4: INÍCIO: | M4: 45182
K5: TÉRMINO: | M5: 45754
A6: LOCAL: BAIRRO VILA VERDE, SÃO ROQUE DO CANAÃ | D6: PERÍODO: | F6: 45627 | H6: a | I6: 45657 | K6: PRAZO: | M6: 365 DIAS + 57 DIAS (PARALIS.) + 150 DIAS
A7: EMPREITEIRA: CONSÓRCIO PARQUE DE SÃO ROQUE | F7: =I8 -> MEDIÇÃO 14 | I7: =L419 -> 38413.399 | K7: % MÊS: | L7: =H419 -> 0.003481192 | M7: % ACUM: | N7: =H420 -> 0.54584084
A8: ITEM | B8: ESPECIFICAÇÃO | C8: UNID. | D8: QUANT. | E8: UNIT + BDI | F8: ACUMULADO ANTERIOR | I8: MEDIÇÃO 14 | L8: TOTAL MEDIDO
F9: QUANT. | G9: TOTAL | H9: % | I9: QUANT. | J9: TOTAL | K9: % | L9: QUANT. | M9: TOTAL | N9: %
A10: 1 | B10: SERVIÇOS PRELIMINARES | J10: =SUM(J11:J13) -> 0 | M10: =SUM(M11:M13) -> 81114.5
A11: 1.1 | B11: Retirada manual de pavimento em paralelepípedos, incluindo empilhamento para reaproveitamento | C11: M2 | D11: 5151 | E11: 14.01 | F11: 5151 | G11: =F11*E11 -> 72165.51 | H11: =F11/D11 -> 1 | J11: =TRUNC((I11*E11),3) -> 0 | K11: =I11/D11 -> 0 | L11: =F11+I11 -> 5151 | M11: =TRUNC((G11+J11),3) -> 72165.51 | N11: =H11+K11 -> 1
A12: 1.2 | B12: Demolição de edificações | C12: M2 | D12: 1000 | E12: 82.34 | F12: 0 | G12: =F12*E12 -> 0 | H12: =F12/D12 -> 0 | J12: =TRUNC((I12*E12),3) -> 0 | K12: =I12/D12 -> 0 | L12: =F12+I12 -> 0 | M12: =TRUNC((G12+J12),3) -> 0 | N12: =H12+K12 -> 0
A13: 1.3 | B13: Desmatamento, destocamento, limpeza de área e estocagem do material de limpeza com árvores de diâmetro até 0,15 m | C13: M3 | D13: 15244 | E13: 0.58705 | F13: 15244 | G13: =F13*E13 -> 8948.99 | H13: =F13/D13 -> 0.99999998 | J13: =TRUNC((I13*E13),3) -> 0 | K13: =I13/D13 -> 0 | L13: =F13+I13 -> 15244 | M13: =TRUNC((G13+J13),3) -> 8948.99 | N13: =H13+K13 -> 0.99999998
A14: 2 | B14: TERRAPLANAGEM | J14: =SUM(J15:J19) -> 0 | M14: =SUM(M15:M19) -> 1671114.5
A15: 2.1 | B15: Escavação e carga de material de jazida com escavadeira hidráulica de 1,56 m³ | C15: M3 | D15: 180632.63 | E15: 1.70145 | F15: 180632.63 | G15: =F15*E15 -> 307337.38 | H15: =F15/D15 -> 1 | J15: =TRUNC((I15*E15),3) -> 0 | K15: =I15/D15 -> 0 | L15: =F15+I15 -> 180632.63 | M15: =TRUNC((G15+J15),3) -> 307337.38 | N15: =H15+K15 -> 1
A16: 2.2 | B16: Transporte com caminhão basculante de 10 m³ - rodovia pavimentada | C16: Tkm | D16: 900400.59 | E16: 0.85569999 | F16: 900400.59 | G16: =F16*E16 -> 770472.78 | H16: =F16/D16 -> 1 | J16: =TRUNC((I16*E16),3) -> 0 | K16: =I16/D16 -> 0 | L16: =F16+I16 -> 900400.59 | M16: =TRUNC((G16+J16),3) -> 770472.78 | N16: =H16+K16 -> 1
A17: 2.3 | B17: Compactação de aterros a 100% do proctor intermediário | C17: M3 | D17: 40895.46 | E17: 8.2087498 | F17: 40895.46 | G17: =F17*E17 -> 335700.6 | H17: =F17/D17 -> 1 | J17: =TRUNC((I17*E17),3) -> 0 | K17: =I17/D17 -> 0 | L17: =F17+I17 -> 40895.46 | M17: =TRUNC((G17+J17),3) -> 335700.6 | N17: =H17+K17 -> 1
A18: 2.4 | B18: Enrocamento com pedra de mão, inclusive espalhamento e compactação mecânica - fornecimento e assentamento | C18: M3 | D18: 195.2 | E18: 139.39949 | F18: 195.2 | G18: =F18*E18 -> 27210.78 | H18: =F18/D18 -> 1 | J18: =TRUNC((I18*E18),3) -> 0 | K18: =I18/D18 -> 0 | L18: =F18+I18 -> 195.2 | M18: =TRUNC((G18+J18),3) -> 27210.78 | N18: =H18+K18 -> 1
A19: 2.5 | B19: Espalhamento de material em bota-fora | C19: M3 | D19: 133844.34 | E19: 1.72135 | F19: 133844.34 | G19: =F19*E19 -> 230392.95 | H19: =F19/D19 -> 1 | J19: =TRUNC((I19*E19),3) -> 0 | K19: =I19/D19 -> 0 | L19: =F19+I19 -> 133844.34 | M19: =TRUNC((G19+J19),3) -> 230392.95 | N19: =H19+K19 -> 1
A20: 3 | B20: OBRAS DE ARTES CORRENTES E DRENAGEM | J20: =SUM(J21:J29) -> 0 | M20: =SUM(M21:M29) -> 993396.19
A21: 3.1 | B21: Corpo de bscc - seção fechada de 2,5 x 2,5 m - pré-moldado - altura do aterro de 5,00 a 7,50 m - areia e brita comerciais | C21: M | D21: 156 | E21: 4714.5688 | F21: 156 | G21: =F21*E21 -> 735472.74 | H21: =F21/D21 -> 1 | J21: =TRUNC((I21*E21),3) -> 0 | K21: =I21/D21 -> 0 | L21: =F21+I21 -> 156 | M21: =TRUNC((G21+J21),3) -> 735472.74 | N21: =H21+K21 -> 1
A22: 3.2 | B22: Boca de bscc 2,50 x 2,50 m - esconsidade 0° - areia e brita comerciais | C22: Un | D22: 2 | E22: 26973.825 | F22: 2 | G22: =F22*E22 -> 53947.65 | H22: =F22/D22 -> 1 | J22: =TRUNC((I22*E22),3) -> 0 | K22: =I22/D22 -> 0 | L22: =F22+I22 -> 2 | M22: =TRUNC((G22+J22),3) -> 53947.65 | N22: =H22+K22 -> 1
A23: 3.3 | B23: Descida d'água de cortes em degraus - dcd 01 - areia e brita comerciais | C23: M | D23: 81 | E23: 492.03148 | F23: 81 | G23: =F23*E23 -> 39854.55 | H23: =F23/D23 -> 1 | J23: =TRUNC((I23*E23),3) -> 0 | K23: =I23/D23 -> 0 | L23: =F23+I23 -> 81 | M23: =TRUNC((G23+J23),3) -> 39854.55 | N23: =H23+K23 -> 1
A24: 3.4 | B24: Caixa coletora de sarjeta - ccs 01 - com grelha de concreto - tcc 01 - areia e brita comerciais | C24: Un | D24: 4 | E24: 3701.4475 | F24: 4 | G24: =F24*E24 -> 14805.79 | H24: =F24/D24 -> 1 | J24: =TRUNC((I24*E24),3) -> 0 | K24: =I24/D24 -> 0 | L24: =F24+I24 -> 4 | M24: =TRUNC((G24+J24),3) -> 14805.79 | N24: =H24+K24 -> 1
A25: 3.5 | B25: Sarjeta de canteiro central de concreto - scc 03 - areia e brita comerciais | C25: M | D25: 893 | E25: 61.074692 | F25: 893 | G25: =F25*E25 -> 54539.7 | H25: =F25/D25 -> 1 | J25: =TRUNC((I25*E25),3) -> 0 | K25: =I25/D25 -> 0 | L25: =F25+I25 -> 893 | M25: =TRUNC((G25+J25),3) -> 54539.7 | N25: =H25+K25 -> 1
A26: 3.6 | B26: Valeta de proteção de cortes com revestimento de concreto - vpc 03 - areia e brita comerciais | C26: M | D26: 373 | E26: 115.17029 | F26: 373 | G26: =F26*E26 -> 42958.52 | H26: =F26/D26 -> 1 | J26: =TRUNC((I26*E26),3) -> 0 | K26: =I26/D26 -> 0 | L26: =F26+I26 -> 373 | M26: =TRUNC((G26+J26),3) -> 42958.52 | N26: =H26+K26 -> 1
A27: 3.7 | B27: Corpo de bstc d = 0,60 m pa2 - areia, brita e pedra de mão comerciais | C27: M | D27: 119 | E27: 368.66008 | F27: 119 | G27: =F27*E27 -> 43870.55 | H27: =F27/D27 -> 1 | J27: =TRUNC((I27*E27),3) -> 0 | K27: =I27/D27 -> 0 | L27: =F27+I27 -> 119 | M27: =TRUNC((G27+J27),3) -> 43870.55 | N27: =H27+K27 -> 1
A28: 3.8 | B28: Boca de bstc d = 0,60 m - esconsidade 0° - areia extraída e brita produzida - alas esconsas | C28: Un | D28: 2 | E28: 882.06 | F28: 2 | G28: =F28*E28 -> 1764.12 | H28: =F28/D28 -> 1 | J28: =TRUNC((I28*E28),3) -> 0 | K28: =I28/D28 -> 0 | L28: =F28+I28 -> 2 | M28: =TRUNC((G28+J28),3) -> 1764.12 | N28: =H28+K28 -> 1
A29: 3.9 | B29: Dissipador de energia - deb 10 - areia, brita e pedra de mão comerciais | C29: Un | D29: 1 | E29: 6182.57 | F29: 1 | G29: =F29*E29 -> 6182.57 | H29: =F29/D29 -> 1 | J29: =TRUNC((I29*E29),3) -> 0 | K29: =I29/D29 -> 0 | L29: =F29+I29 -> 1 | M29: =TRUNC((G29+J29),3) -> 6182.57 | N29: =H29+K29 -> 1
A30: 4 | B30: INSTALAÇÃO DO CANTEIRO DE OBRAS | J30: =SUM(J31:J41) -> 0 | M30: =SUM(M31:M41) -> 118419.62
A31: 4.1 | B31: Placa de obra nas dimensões de 2.0 x 4.0 m, padrão der | C31: M2 | D31: 16 | E31: 358.29 | F31: 16 | G31: =F31*E31 -> 5732.64 | H31: =F31/D31 -> 1 | J31: =TRUNC((I31*E31),3) -> 0 | K31: =I31/D31 -> 0 | L31: =F31+I31 -> 16 | M31: =TRUNC((G31+J31),3) -> 5732.64 | N31: =H31+K31 -> 1
A32: 4.2 | B32: Aluguel mensal container para escritório, dim. 6.00x2.40m, c/ banheiro (vaso+lavat+chuveiro e básc), incl. Porta, 2 janelas, abert p/ ar cond., 2 pt iluminação, 2 tom. Elét. E 1 tom.Telef. Isolam.Térmico(teto e paredes), piso em comp. Naval, cert. Nr18, incl. Laudo descontaminação. | C32: Mês | D32: 12 | E32: 1342.6 | F32: 12 | G32: =F32*E32 -> 16111.2 | H32: =F32/D32 -> 1 | J32: =TRUNC((I32*E32),3) -> 0 | K32: =I32/D32 -> 0 | L32: =F32+I32 -> 12 | M32: =TRUNC((G32+J32),3) -> 16111.2 | N32: =H32+K32 -> 1
A33: 4.3 | B33: Aluguel mensal container para almoxarifado, incl. Porta, 2 janelas, 1 pt iluminação, isolamento térmico (teto), piso em comp. Naval pintado, cert. Nr18, incl. Laudo descontaminação. | C33: Mês | D33: 12 | E33: 919.12 | F33: 12 | G33: =F33*E33 -> 11029.44 | H33: =F33/D33 -> 1 | J33: =TRUNC((I33*E33),3) -> 0 | K33: =I33/D33 -> 0 | L33: =F33+I33 -> 12 | M33: =TRUNC((G33+J33),3) -> 11029.44 | N33: =H33+K33 -> 1
A34: 4.4 | B34: Aluguel mensal container para refeitorio, incl. Porta, 2 janelas, abert p/ ar cond., 2 pt iluminação, 2 tomadas elét. E 1 tomada telef. Isolamento térmico (paredes e teto), piso em comp. Naval pintado, cert. Nr18, incl. Laudo descontaminação. | C34: Mês | D34: 12 | E34: 1266.81 | F34: 12 | G34: =F34*E34 -> 15201.72 | H34: =F34/D34 -> 1 | J34: =TRUNC((I34*E34),3) -> 0 | K34: =I34/D34 -> 0 | L34: =F34+I34 -> 12 | M34: =TRUNC((G34+J34),3) -> 15201.72 | N34: =H34+K34 -> 1
A35: 4.5 | B35: Aluguel mensal container sanitário, incl porta, básc, 2 ptos luz, 1 pto aterram., 3vasos, 3lavatórios, calha mictório, 6 chuveiros (1 eletrico), torn.,Registros, piso comp. Naval pintado, cert nr18 e laudo descontaminação | C35: Mês | D35: 12 | E35: 1321.9 | F35: 12 | G35: =F35*E35 -> 15862.8 | H35: =F35/D35 -> 1 | J35: =TRUNC((I35*E35),3) -> 0 | K35: =I35/D35 -> 0 | L35: =F35+I35 -> 12 | M35: =TRUNC((G35+J35),3) -> 15862.8 | N35: =H35+K35 -> 1
A36: 4.6 | B36: Aluguel mensal container para vestiário, incl. Porta, venezianas de circulação, 1 pt iluminação, isolamento térmico (teto), piso em comp. Naval pintado, cert. Nr18, incl. Laudo descontaminação. | C36: Mês | D36: 12 | E36: 934.19 | F36: 12 | G36: =F36*E36 -> 11210.28 | H36: =F36/D36 -> 1 | J36: =TRUNC((I36*E36),3) -> 0 | K36: =I36/D36 -> 0 | L36: =F36+I36 -> 12 | M36: =TRUNC((G36+J36),3) -> 11210.28 | N36: =H36+K36 -> 1
A37: 4.7 | B37: Mobilização e desmobilização de conteiner locado para barracão de obra | C37: Un | D37: 10 | E37: 2425.36 | F37: 5 | G37: =F37*E37 -> 12126.8 | H37: =F37/D37 -> 0.5 | J37: =TRUNC((I37*E37),3) -> 0 | K37: =I37/D37 -> 0 | L37: =F37+I37 -> 5 | M37: =TRUNC((G37+J37),3) -> 12126.8 | N37: =H37+K37 -> 0.5
A38: 4.8 | B38: Rede de água com padrão de entrada d'água diâm. 3/4", conf. Espec. Cesan, incl. Tubos e conexões para alimentação, distribuição, extravasor e limpeza, cons. O padrão a 25m, conf. Projeto (1 utilização) | C38: M | D38: 25 | E38: 66.92 | F38: 25 | G38: =F38*E38 -> 1673 | H38: =F38/D38 -> 1 | J38: =TRUNC((I38*E38),3) -> 0 | K38: =I38/D38 -> 0 | L38: =F38+I38 -> 25 | M38: =TRUNC((G38+J38),3) -> 1673 | N38: =H38+K38 -> 1
A39: 4.9 | B39: Rede de luz, incl. Padrão entrada de energia trifás., Cabo de ligação até barracões, quadro de distrib., Disj. E chave de força (quando necessário), cons. 20m entre padrão entrada e qdg, conf. Projeto (1 utilização | C39: M | D39: 20 | E39: 650.19 | F39: 20 | G39: =F39*E39 -> 13003.8 | H39: =F39/D39 -> 1 | J39: =TRUNC((I39*E39),3) -> 0 | K39: =I39/D39 -> 0 | L39: =F39+I39 -> 20 | M39: =TRUNC((G39+J39),3) -> 13003.8 | N39: =H39+K39 -> 1
A40: 4.10 | B40: Rede de esgoto, contendo fossa e filtro, inclusive tubos e conexões de ligação entre caixas, considerando distância de 25m, conforme projeto (1 utilização) | C40: M | D40: 25 | E40: 525.47 | F40: 25 | G40: =F40*E40 -> 13136.75 | H40: =F40/D40 -> 1 | J40: =TRUNC((I40*E40),3) -> 0 | K40: =I40/D40 -> 0 | L40: =F40+I40 -> 25 | M40: =TRUNC((G40+J40),3) -> 13136.75 | N40: =H40+K40 -> 1
A41: 4.11 | B41: Reservatório de poliestileno de 1000 l, incl. Suporte em madeira de 7x12cm e 8x7cm, elevado de 4m, conf. Projeto (1 utilização) | C41: Un | D41: 1 | E41: 3331.19 | F41: 1 | G41: =F41*E41 -> 3331.19 | H41: =F41/D41 -> 1 | J41: =TRUNC((I41*E41),3) -> 0 | K41: =I41/D41 -> 0 | L41: =F41+I41 -> 1 | M41: =TRUNC((G41+J41),3) -> 3331.19 | N41: =H41+K41 -> 1
...

Sheet MEMÓRIA DE CÁLCULO 14ª MEDIÇÃO
B2: PREFEITURA MUNICIPAL DE SÃO ROQUE DO CANAÃ
B8: MEMÓRIA DE CÁLCULO 14ª MEDIÇÃO
B9: OBRA: CONSTRUÇÃO DO PARQUE MUNICIPAL MULTIUSO DE SÃO ROQUE DO CANAÃ | D9: DATA: 07/01/2025
B10: LOCAL: BAIRRO VILA VERDE, SÃO ROQUE DO CANAÃ
B11: ITEM | C11: DESCRIÇÃO | D11: UND | E11: QUANT.
B12: 7 | C12: =VLOOKUP(B12,'MEDIÇÃO 14'!$A$10:$C$416,2,0) -> ESTACIONAMENTO
B13: 7.1 | C13: =VLOOKUP(B13,'MEDIÇÃO 14'!$A$10:$C$416,2,0) -> Blocos pré-moldados de concreto tipo pavi-s ou equivalente, espessura de 8 cm e resistência a compressão mínima de 35mpa, assentados sobre colchão de pó de pedra na espessura de 10 cm | D13: =VLOOKUP(B13,'MEDIÇÃO 14'!$A$10:$C$416,3,0) -> M2 | E13: =SUM(D14) -> 300
B14: Área pavimentada: 300,00 m² | D14: =VLOOKUP($B13,'MEDIÇÃO 14'!A26:N431,9,0) -> 300
B15: 7.2 | C15: =VLOOKUP(B15,'MEDIÇÃO 14'!$A$10:$C$416,2,0) -> Meio fio (assentamento), inclusive caiação | D15: =VLOOKUP(B15,'MEDIÇÃO 14'!$A$10:$C$416,3,0) -> M | E15: =SUM(D16) -> 40
B16: Meio-fio assentado:40,00 m | D16: =VLOOKUP($B15,'MEDIÇÃO 14'!A28:N433,9,0) -> 40
C21: __________________________________________________
C22: PEDRO JAYME LANI JUNIOR
C23: Assessor de Assuntos de Gestão
C24: Engenheiro Civil
C25: CREA ES 20109/D
C26: Fiscal da Obra
