Workbook

Sheet MEDIÇÃO 19
A1: PREFEITURA MUNICIPAL DE SÃO ROQUE DO CANAÃ Estado do Espírito Santo SECRETARIA MUNICIPAL DE OBRAS E SERVIÇOS URBANOS – SETOR DE ENGENHARIA
A2: BOLETIM DE | E2: =L8 -> MEDIÇÃO 19 | N2: DATA: 30/06/2025
A4: OBRA: CONSTRUÇÃO DO PARQUE MUNICIPAL MULTIUSO DE SÃO ROQUE DO CANAÃ | G4: CONTRATO Nº: | I4: 041/2023 | K4: Assinatura: 06/06/2023 | N4: INÍCIO: | P4: 45182
N5: TÉRMINO: | P5: 45844 | R5: 1.0844455
A6: LOCAL: BAIRRO VILA VERDE, SÃO ROQUE DO CANAÃ | G6: PERÍODO: | I6: 45778 | K6: a | L6: 45808 | N6: PRAZO: | P6: 365 DIAS + 57 DIAS (PARALIS.) + 150 DIAS + 90 DIAS
A7: EMPREITEIRA: CONSÓRCIO PARQUE DE SÃO ROQUE | I7: =L8 -> MEDIÇÃO 19 | L7: =O439 -> 15636.136 | N7: % MÊS: | O7: =K439 -> 0.0014170158 | P7: % ACUM: | Q7: =K440 -> 0.58366924
A8: ITEM | B8: ESPECIFICAÇÃO | C8: UNID. | D8: QUANT. | E8: UNIT + BDI | F8: 1º REPLANILHAMENTO | I8: ACUMULADO ANTERIOR | L8: MEDIÇÃO 19 | O8: TOTAL MEDIDO
F9: ACRÉSC. | G9: DECRÉSC. | H9: QUANT. ATUALIZADA | I9: QUANT. | J9: TOTAL | K9: % | L9: QUANT. | M9: TOTAL | N9: % | O9: QUANT. | P9: TOTAL | Q9: %
A10: 1 | B10: SERVIÇOS PRELIMINARES | M10: =SUM(M11:M13) -> 0 | P10: =SUM(P11:P13) -> 81114.499
A11: 1.1 | B11: Retirada manual de pavimento em paralelepípedos, incluindo empilhamento para reaproveitamento | C11: M2 | D11: 5151 | E11: 14.01 | H11: =D11+F11-G11 -> 5151 | I11: 5151 | J11: =I11*E11 -> 72165.51 | K11: =I11/H11 -> 1 | M11: =TRUNC((L11*E11),3) -> 0 | N11: =L11/H11 -> 0 | O11: =I11+L11 -> 5151 | P11: =TRUNC((J11+M11),3) -> 72165.51 | Q11: =K11+N11 -> 1
A12: 1.2 | B12: Demolição de edificações | C12: M2 | D12: 1000 | E12: 82.34 | H12: =D12+F12-G12 -> 1000 | I12: 0 | J12: =I12*E12 -> 0 | K12: =I12/H12 -> 0 | M12: =TRUNC((L12*E12),3) -> 0 | N12: =L12/H12 -> 0 | O12: =I12+L12 -> 0 | P12: =TRUNC((J12+M12),3) -> 0 | Q12: =K12+N12 -> 0
A13: 1.3 | B13: Desmatamento, destocamento, limpeza de área e estocagem do material de limpeza com árvores de diâmetro até 0,15 m | C13: M3 | D13: 15244 | E13: 0.58705 | H13: =D13+F13-G13 -> 15244 | I13: 15243.998 | J13: =I13*E13 -> 8948.989 | K13: =I13/H13 -> 0.99999987 | M13: =TRUNC((L13*E13),3) -> 0 | N13: =L13/H13 -> 0 | O13: =I13+L13 -> 15243.998 | P13: =TRUNC((J13+M13),3) -> 8948.989 | Q13: =K13+N13 -> 0.99999987
A14: 2 | B14: TERRAPLANAGEM | M14: =SUM(M15:M19) -> 0 | P14: =SUM(P15:P19) -> 1981305
A15: 2.1 | B15: Escavação e carga de material de jazida com escavadeira hidráulica de 1,56 m³ | C15: M3 | D15: 180632.63 | E15: 1.70145 | F15: 19874.097 | H15: =D15+F15-G15 -> 200506.73 | I15: 200506.73 | J15: =I15*E15 -> 341152.16 | K15: =I15/H15 -> 1 | M15: =TRUNC((L15*E15),3) -> 0 | N15: =L15/H15 -> 0 | O15: =I15+L15 -> 200506.73 | P15: =TRUNC((J15+M15),3) -> 341152.16 | Q15: =K15+N15 -> 1
A16: 2.2 | B16: Transporte com caminhão basculante de 10 m³ - rodovia pavimentada | C16: Tkm | D16: 900400.59 | E16: 0.85569999 | F16: 129181.63 | H16: =D16+F16-G16 -> 1029582.2 | I16: 1029582.2 | J16: =I16*E16 -> 881013.5 | K16: =I16/H16 -> 1 | M16: =TRUNC((L16*E16),3) -> 0 | N16: =L16/H16 -> 0 | O16: =I16+L16 -> 1029582.2 | P16: =TRUNC((J16+M16),3) -> 881013.5 | Q16: =K16+N16 -> 1
A17: 2.3 | B17: Compactação de aterros a 100% do proctor intermediário | C17: M3 | D17: 40895.46 | E17: 8.2087498 | F17: 12268.638 | H17: =D17+F17-G17 -> 53164.098 | I17: 53164.098 | J17: =I17*E17 -> 436410.78 | K17: =I17/H17 -> 1 | M17: =TRUNC((L17*E17),3) -> 0 | N17: =L17/H17 -> 0 | O17: =I17+L17 -> 53164.098 | P17: =TRUNC((J17+M17),3) -> 436410.78 | Q17: =K17+N17 -> 1
A18: 2.4 | B18: Enrocamento com pedra de mão, inclusive espalhamento e compactação mecânica - fornecimento e assentamento | C18: M3 | D18: 195.2 | E18: 139.39949 | F18: 300.49993 | H18: =D18+F18-G18 -> 495.69993 | I18: 495.69993 | J18: =I18*E18 -> 69100.316 | K18: =I18/H18 -> 1 | M18: =TRUNC((L18*E18),3) -> 0 | N18: =L18/H18 -> 0 | O18: =I18+L18 -> 495.69993 | P18: =TRUNC((J18+M18),3) -> 69100.316 | Q18: =K18+N18 -> 1
A19: 2.5 | B19: Espalhamento de material em bota-fora | C19: M3 | D19: 133844.34 | E19: 1.72135 | F19: 13498.289 | H19: =D19+F19-G19 -> 147342.63 | I19: 147342.63 | J19: =I19*E19 -> 253628.23 | K19: =I19/H19 -> 1 | M19: =TRUNC((L19*E19),3) -> 0 | N19: =L19/H19 -> 0 | O19: =I19+L19 -> 147342.63 | P19: =TRUNC((J19+M19),3) -> 253628.23 | Q19: =K19+N19 -> 1
A20: 3 | B20: OBRAS DE ARTES CORRENTES E DRENAGEM | M20: =SUM(M21:M40) -> 5934.696 | P20: =SUM(P21:P40) -> 1560767.5 | R20: =M20*$R$5 -> 6435.8542 | T20: =R20-M20 -> 501.15821
A21: 3.1 | B21: Corpo de bscc - seção fechada de 2,5 x 2,5 m - pré-moldado - altura do aterro de 5,00 a 7,50 m - areia e brita comerciais | C21: M | D21: 156 | E21: 4714.5688 | H21: =D21+F21-G21 -> 156 | I21: 156 | J21: =I21*E21 -> 735472.74 | K21: =I21/H21 -> 1 | M21: =TRUNC((L21*E21),3) -> 0 | N21: =L21/H21 -> 0 | O21: =I21+L21 -> 156 | P21: =TRUNC((J21+M21),3) -> 735472.74 | Q21: =K21+N21 -> 1
A22: 3.2 | B22: Boca de bscc 2,50 x 2,50 m - esconsidade 0° - areia e brita comerciais | C22: Un | D22: 2 | E22: 26973.825 | H22: =D22+F22-G22 -> 2 | I22: 2 | J22: =I22*E22 -> 53947.65 | K22: =I22/H22 -> 1 | M22: =TRUNC((L22*E22),3) -> 0 | N22: =L22/H22 -> 0 | O22: =I22+L22 -> 2 | P22: =TRUNC((J22+M22),3) -> 53947.65 | Q22: =K22+N22 -> 1
A23: 3.3 | B23: Descida d'água de cortes em degraus - dcd 01 - areia e brita comerciais | C23: M | D23: 81 | E23: 492.03148 | F23: 49 | H23: =D23+F23-G23 -> 130 | I23: 130 | J23: =I23*E23 -> 63964.093 | K23: =I23/H23 -> 1 | M23: =TRUNC((L23*E23),3) -> 0 | N23: =L23/H23 -> 0 | O23: =I23+L23 -> 130 | P23: =TRUNC((J23+M23),3) -> 63964.092 | Q23: =K23+N23 -> 1
A24: 3.4 | B24: Caixa coletora de sarjeta - ccs 01 - com grelha de concreto - tcc 01 - areia e brita comerciais | C24: Un | D24: 4 | E24: 3701.4475 | H24: =D24+F24-G24 -> 4 | I24: 4 | J24: =I24*E24 -> 14805.79 | K24: =I24/H24 -> 1 | M24: =TRUNC((L24*E24),3) -> 0 | N24: =L24/H24 -> 0 | O24: =I24+L24 -> 4 | P24: =TRUNC((J24+M24),3) -> 14805.79 | Q24: =K24+N24 -> 1
A25: 3.5 | B25: Sarjeta de canteiro central de concreto - scc 03 - areia e brita comerciais | C25: M | D25: 893 | E25: 61.074692 | H25: =D25+F25-G25 -> 893 | I25: 893 | J25: =I25*E25 -> 54539.7 | K25: =I25/H25 -> 1 | M25: =TRUNC((L25*E25),3) -> 0 | N25: =L25/H25 -> 0 | O25: =I25+L25 -> 893 | P25: =TRUNC((J25+M25),3) -> 54539.7 | Q25: =K25+N25 -> 1
A26: 3.6 | B26: Valeta de proteção de cortes com revestimento de concreto - vpc 03 - areia e brita comerciais | C26: M | D26: 373 | E26: 115.17029 | H26: =D26+F26-G26 -> 373 | I26: 373 | J26: =I26*E26 -> 42958.52 | K26: =I26/H26 -> 1 | M26: =TRUNC((L26*E26),3) -> 0 | N26: =L26/H26 -> 0 | O26: =I26+L26 -> 373 | P26: =TRUNC((J26+M26),3) -> 42958.52 | Q26: =K26+N26 -> 1
A27: 3.7 | B27: Corpo de bstc d = 0,60 m pa2 - areia, brita e pedra de mão comerciais | C27: M | D27: 119 | E27: 368.66008 | H27: =D27+F27-G27 -> 119 | I27: 119 | J27: =I27*E27 -> 43870.55 | K27: =I27/H27 -> 1 | M27: =TRUNC((L27*E27),3) -> 0 | N27: =L27/H27 -> 0 | O27: =I27+L27 -> 119 | P27: =TRUNC((J27+M27),3) -> 43870.55 | Q27: =K27+N27 -> 1
A28: 3.8 | B28: Boca de bstc d = 0,60 m - esconsidade 0° - areia extraída e brita produzida - alas esconsas | C28: Un | D28: 2 | E28: 882.06 | H28: =D28+F28-G28 -> 2 | I28: 2 | J28: =I28*E28 -> 1764.12 | K28: =I28/H28 -> 1 | M28: =TRUNC((L28*E28),3) -> 0 | N28: =L28/H28 -> 0 | O28: =I28+L28 -> 2 | P28: =TRUNC((J28+M28),3) -> 1764.12 | Q28: =K28+N28 -> 1
A29: 3.9 | B29: Dissipador de energia - deb 10 - areia, brita e pedra de mão comerciais | C29: Un | D29: 1 | E29: 6182.57 | H29: =D29+F29-G29 -> 1 | I29: 1 | J29: =I29*E29 -> 6182.57 | K29: =I29/H29 -> 1 | M29: =TRUNC((L29*E29),3) -> 0 | N29: =L29/H29 -> 0 | O29: =I29+L29 -> 1 | P29: =TRUNC((J29+M29),3) -> 6182.57 | Q29: =K29+N29 -> 1
A30: 3.10 | B30: Escavação mecânica de vala em material de 1ª categoria (Escavação para BSCC e BSTC) | C30: m³ | E30: 9.0805772 | F30: 1100.799 | H30: =D30+F30-G30 -> 1100.799 | I30: 1100.799 | J30: =I30*E30 -> 9995.89 | K30: =I30/H30 -> 1 | M30: =TRUNC((L30*E30),3) -> 0 | N30: =L30/H30 -> 0 | O30: =I30+L30 -> 1100.799 | P30: =TRUNC((J30+M30),3) -> 9995.89 | Q30: =K30+N30 -> 1
A31: 3.11 | B31: Escavação mecânica de vala em material de 1ª categoria (Escavação para Saída da galeria) | C31: m³ | E31: 9.0805772 | F31: 2159.9993 | H31: =D31+F31-G31 -> 2159.9993 | I31: 2159.9993 | J31: =I31*E31 -> 19614.04 | K31: =I31/H31 -> 1 | M31: =TRUNC((L31*E31),3) -> 0 | N31: =L31/H31 -> 0 | O31: =I31+L31 -> 2159.9993 | P31: =TRUNC((J31+M31),3) -> 19614.04 | Q31: =K31+N31 -> 1
A32: 3.12 | B32: Corpo de BSCC - seção fechada de 2,0 x 2,0 m - pré-moldado - altura do aterro de 2,50 a 5,00 m - areia e brita comerciais | C32: m | E32: 3547.9652 | F32: 24 | H32: =D32+F32-G32 -> 24 | I32: 24 | J32: =I32*E32 -> 85151.165 | K32: =I32/H32 -> 1 | M32: =TRUNC((L32*E32),3) -> 0 | N32: =L32/H32 -> 0 | O32: =I32+L32 -> 24 | P32: =TRUNC((J32+M32),3) -> 85151.164 | Q32: =K32+N32 -> 1
A33: 3.13 | B33: Gabião caixa 2 x 1 x 1,00 m Zn/Al - D = 2,7 mm - pedra de mão comercial - fornecimento e assentamento | C33: m³ | E33: 914.61084 | F33: 67.999992 | H33: =D33+F33-G33 -> 67.999992 | I33: 0 | J33: =I33*E33 -> 0 | K33: =I33/H33 -> 0 | M33: =TRUNC((L33*E33),3) -> 0 | N33: =L33/H33 -> 0 | O33: =I33+L33 -> 0 | P33: =TRUNC((J33+M33),3) -> 0 | Q33: =K33+N33 -> 0
A34: 3.14 | B34: FORNECIMENTO E APLICAÇÃO DE CONCRETO USINADO FCK=30 MPA - CONSIDERANDO BOMBEAMENTO (5% DE PERDAS JÁ INCLUÍDO NO CUSTO) (6% DE TAXA P/ CONCR. BOMBEAVEL) | C34: M3 | E34: 801.12 | F34: 241.608 | H34: =D34+F34-G34 -> 241.608 | I34: 234.2 | J34: =I34*E34 -> 187622.3 | K34: =I34/H34 -> 0.96933876 | L34: 7.408 | M34: =TRUNC((L34*E34),3) -> 5934.696 | N34: =L34/H34 -> 0.030661236 | O34: =I34+L34 -> 241.608 | P34: =TRUNC((J34+M34),3) -> 193557 | Q34: =K34+N34 -> 1
A35: 3.15 | B35: FORNECIMENTO, DOBRAGEM E COLOCAÇÃO EM FÔRMA, DE ARMADURA CA-50 A MÉDIA, DIÂMETRO DE 6.3 A 10.0 MM | C35: KG | E35: 15.73 | F35: 3432.5 | H35: =D35+F35-G35 -> 3432.5 | I35: 3432.5 | J35: =I35*E35 -> 53993.225 | K35: =I35/H35 -> 1 | M35: =TRUNC((L35*E35),3) -> 0 | N35: =L35/H35 -> 0 | O35: =I35+L35 -> 3432.5 | P35: =TRUNC((J35+M35),3) -> 53993.225 | Q35: =K35+N35 -> 1
A36: 3.16 | B36: FÔRMA DE TÁBUA DE MADEIRA DE 2.5X30.0CM, LEVANDO-SE EM CONTA UTILIZAÇÃO 3 VEZES (INCLUINDO O MATERIAL, CORTE, MONTAGEM, ESCORAMENTO E DESFORMA) | C36: M2 | E36: 119.66 | F36: 216 | H36: =D36+F36-G36 -> 216 | I36: 216 | J36: =I36*E36 -> 25846.56 | K36: =I36/H36 -> 1 | M36: =TRUNC((L36*E36),3) -> 0 | N36: =L36/H36 -> 0 | O36: =I36+L36 -> 216 | P36: =TRUNC((J36+M36),3) -> 25846.56 | Q36: =K36+N36 -> 1
A37: 3.17 | B37: ENROCAMENTO COM PEDRA DE MÃO, INCLUSIVE ESPALHAMENTO E COMPACTAÇÃO MECÂNICA - FORNECIMENTO E ASSENTAMENTO | C37: M3 | E37: 139.3995 | F37: 167.99996 | H37: =D37+F37-G37 -> 167.99996 | I37: 167.99996 | J37: =I37*E37 -> 23419.11 | K37: =I37/H37 -> 1 | M37: =TRUNC((L37*E37),3) -> 0 | N37: =L37/H37 -> 0 | O37: =I37+L37 -> 167.99996 | P37: =TRUNC((J37+M37),3) -> 23419.11 | Q37: =K37+N37 -> 1
A38: 3.18 | B38: Tirante de Aço CA-50, diâmetro de 25mm (1"), para comprimentos até 6m | C38: m | E38: 179.97961 | F38: 40 | H38: =D38+F38-G38 -> 40 | I38: 40 | J38: =I38*E38 -> 7199.1846 | K38: =I38/H38 -> 1 | M38: =TRUNC((L38*E38),3) -> 0 | N38: =L38/H38 -> 0 | O38: =I38+L38 -> 40 | P38: =TRUNC((J38+M38),3) -> 7199.184 | Q38: =K38+N38 -> 1
A39: 3.19 | B39: Fornecimento, preparo e aplicação de concreto ciclópico Fck=15MPa com 30% de pedra de mão | C39: m3 | E39: 838.64768 | F39: 112.5 | H39: =D39+F39-G39 -> 112.5 | I39: 112.5 | J39: =I39*E39 -> 94347.864 | K39: =I39/H39 -> 1 | M39: =TRUNC((L39*E39),3) -> 0 | N39: =L39/H39 -> 0 | O39: =I39+L39 -> 112.5 | P39: =TRUNC((J39+M39),3) -> 94347.863 | Q39: =K39+N39 -> 1
A40: 3.20 | B40: Encamisamento metálico de estacas, diâmetro 380mm em chapa de 6.3mm, preenchido c/ concreto auto adensável (20MPa) | C40: m | E40: 1255.7374 | F40: 24 | H40: =D40+F40-G40 -> 24 | I40: 24 | J40: =I40*E40 -> 30137.697 | K40: =I40/H40 -> 1 | M40: =TRUNC((L40*E40),3) -> 0 | N40: =L40/H40 -> 0 | O40: =I40+L40 -> 24 | P40: =TRUNC((J40+M40),3) -> 30137.697 | Q40: =K40+N40 -> 1
A41: 4 | B41: INSTALAÇÃO DO CANTEIRO DE OBRAS | M41: =SUM(M42:M52) -> 9701.44 | P41: =SUM(P42:P52) -> 151259.54 | R41: =M41*$R$5 -> 10520.683 | T41: =R41-M41 -> 819.24269
...

Sheet MEMÓRIA DE CÁLCULO 19ª MEDIÇÃO
B2: PREFEITURA MUNICIPAL DE SÃO ROQUE DO CANAÃ
B8: MEMÓRIA DE CÁLCULO 19ª MEDIÇÃO
B9: OBRA: CONSTRUÇÃO DO PARQUE MUNICIPAL MULTIUSO DE SÃO ROQUE DO CANAÃ | D9: DATA: 03/06/2025
B10: LOCAL: BAIRRO VILA VERDE, SÃO ROQUE DO CANAÃ
B11: ITEM | C11: DESCRIÇÃO | D11: UND | E11: QUANT.
B12: 3 | C12: =VLOOKUP(B12,'MEDIÇÃO 19'!$A$10:$C$436,2,0) -> OBRAS DE ARTES CORRENTES E DRENAGEM
B13: 3.14 | C13: =VLOOKUP(B13,'MEDIÇÃO 19'!$A$10:$C$436,2,0) -> FORNECIMENTO E APLICAÇÃO DE CONCRETO USINADO FCK=30 MPA - CONSIDERANDO BOMBEAMENTO (5% DE PERDAS JÁ INCLUÍDO NO CUSTO) (6% DE TAXA P/ CONCR. BOMBEAVEL) | D13: =VLOOKUP(B13,'MEDIÇÃO 19'!$A$10:$C$436,3,0) -> M3 | E13: =SUM(D14) -> 7.408
B14: 6,18 m² x 1,20 m = 7,41m³ | D14: =VLOOKUP($B13,'MEDIÇÃO 19'!A23:Q462,12,0) -> 7.408
B16: 4 | C16: =VLOOKUP(B16,'MEDIÇÃO 19'!$A$10:$C$436,2,0) -> INSTALAÇÃO DO CANTEIRO DE OBRAS
B17: 4.7 | C17: =VLOOKUP(B17,'MEDIÇÃO 19'!$A$10:$C$436,2,0) -> Mobilização e desmobilização de conteiner locado para barracão de obra | D17: =VLOOKUP(B17,'MEDIÇÃO 19'!$A$10:$C$436,3,0) -> Un | E17: =SUM(D18) -> 4
B18: 4,00 unidades | D18: =VLOOKUP($B17,'MEDIÇÃO 19'!A25:Q464,12,0) -> 4
C24: __________________________________________________
C25: PEDRO JAYME LANI JUNIOR
C26: Assessor de Assuntos de Gestão
C27: Engenheiro Civil
C28: CREA ES 20109/D
C29: Fiscal da Obra
