Workbook

Sheet MEDIÇÃO 7
A1: PREFEITURA MUNICIPAL DE SO ROQUE DO CANA Estado do Esprito Santo SECRETARIA MUNICIPAL DE OBRAS E SERVIÇOS URBANOS – SETOR DE ENGENHARIA
A13: BOLETIM DE | F13: =I18 -> MEDIÇÃO 07 | K13: DATA: 08/07/2025
A14: OBRA: CONSTRUÇÃO, REFORMA, MELHORIA, ADEQUAÇÃO E AMPLIAÇÃO DA PONTE SOBRE O RIO SANTA MARIA DO DOCE COM CABEÇAS E TABULEIRO EM CONCRETO ARMADO, CORTADA PELA VIA ES-080 | D14: CONTRATO Nº: | F14: 136/2024 | H14: Assinatura: 05/11/2024 | K14: INÍCIO: | M14: 45628
K15: TÉRMINO: | M15: 46108
A16: LOCAL: DISTRITO SEDE - SÃO ROQUE DO CANAÃ | D16: PERÍODO: | F16: 45809 | H16: a | I16: 45838 | K16: PRAZO: | M16: 480 DIAS | W16: item | X16: sem reajuste | Y16: com reajuste | Z16: reajustado
A17: EMPREITEIRA: AMF ENGENHARIA E SERVIÇOS LTDA | F17: =I18 -> MEDIÇÃO 07 | I17: =L124 -> 323407.23 | K17: % MÊS: | L17: =I124 -> 0.081594539 | M17: % ACUM: | N17: =I125 -> 0.43089401 | W17: 1 | X17: =SUM(O21:O22) -> 0 | Y17: =SUM(P21:P22) -> 0 | Z17: =Y17-X17 -> 0
A18: ITEM | B18: ESPECIFICAÇÃO | C18: UNID. | D18: QUANT. | E18: PREÇO UNIT R$ | F18: ACUMULADO ANTERIOR | I18: MEDIÇÃO 07 | L18: TOTAL MEDIDO | W18: 2 | X18: =SUM(O24:O43) -> 0 | Y18: =SUM(P24:P43) -> 0 | Z18: =Y18-X18 -> 0
F19: QUANT. | G19: TOTAL | H19: % | I19: QUANT. | J19: TOTAL | K19: % | L19: QUANT. | M19: TOTAL | N19: % | W19: 3 | X19: =SUM(O46:O76) -> 0 | Y19: =SUM(P46:P76) -> 0 | Z19: =Y19-X19 -> 0
A20: 1 | B20: SERVIÇOS PRELIMINARES | J20: =SUM(J21:J22) -> 0 | M20: =SUM(M21:M22) -> 215776.27 | W20: 4 | X20: =SUM(O78:O93) -> 0 | Y20: =SUM(P78:P93) -> 0 | Z20: =Y20-X20 -> 0
A21: 1.1 | B21: PROJETO ESTRUTURAL FINAL DE ENGENHARIA DE OBRAS-DE-ARTE ESPECIAIS (PONTES,VIADUTOS E PASSARELAS) EM CONCRETO ARMADO E/OU PROTENDIDO OU ESTRUTURA DE ACO,COM AREA DE PROJECAO HORIZONTAL DE 501 ATE 5.000M2,APRESENTADO NOS PADROES DA CONTRATANTEObservacao: 9% - DESPESAS ADMINISTRATIVAS E DE MATERIAIS | C21: M2 | D21: 803.43 | E21: 153.97332 | F21: 803.43 | G21: =F21*E21 -> 123706.78 | H21: =F21/D21 -> 1 | J21: =I21*E21 -> 0 | K21: =I21/D21 -> 0 | L21: =F21+I21 -> 803.43 | M21: =G21+J21 -> 123706.78 | N21: =H21+K21 -> 1 | W21: 5 | X21: =SUM(O95:O107) -> 0 | Y21: =SUM(P95:P107) -> 0 | Z21: =Y21-X21 -> 0
A22: 1.2 | B22: Inspeção das fundações da ponte | C22: Und | D22: 2 | E22: 46034.746 | F22: 2 | G22: =F22*E22 -> 92069.492 | H22: =F22/D22 -> 1 | J22: =I22*E22 -> 0 | K22: =I22/D22 -> 0 | L22: =F22+I22 -> 2 | M22: =G22+J22 -> 92069.492 | N22: =H22+K22 -> 1 | W22: 6 | X22: =SUM(O110:O118) -> 0 | Y22: =SUM(P110:P118) -> 0 | Z22: =Y22-X22 -> 0
A23: 2 | B23: CANTEIRO DE OBRA | J23: =SUM(J24:J43) -> 5339.5975 | M23: =SUM(M24:M43) -> 356583.53 | W23: 7 | X23: =SUM(O120) -> 0 | Y23: =SUM(P120) -> 0 | Z23: =Y23-X23 -> 0
A24: 2.1 | B24: Limpeza, desmatamento e destocamento de árvores com diâmetro até 15 cm, com trator de esteira | C24: m² | D24: 682.5 | E24: 0.65248289 | F24: 682.5 | G24: =F24*E24 -> 445.31957 | H24: =F24/D24 -> 1 | J24: =I24*E24 -> 0 | K24: =I24/D24 -> 0 | L24: =F24+I24 -> 682.5 | M24: =G24+J24 -> 445.31957 | N24: =H24+K24 -> 1 | X24: =SUM(X17:X23) -> 0 | Y24: =SUM(Y17:Y23) -> 0 | Z24: =Y24-X24 -> 0
A25: 2.2 | B25: Hidrossemeadura simples em terrenos planos | C25: m² | D25: 682.5 | E25: 6.6823248 | F25: 0 | G25: =F25*E25 -> 0 | H25: =F25/D25 -> 0 | J25: =I25*E25 -> 0 | K25: =I25/D25 -> 0 | L25: =F25+I25 -> 0 | M25: =G25+J25 -> 0 | N25: =H25+K25 -> 0
A26: 2.3 | B26: Aluguel de container p/ escritório c/ ar condicionado e banheiro, isolam.térmico e acústico, 2 luminárias, janela de vidro, tomada p/ comput. e telef. | C26: Mes | D26: 16 | E26: 914.69852 | F26: 6 | G26: =F26*E26 -> 5488.1911 | H26: =F26/D26 -> 0.375 | I26: 1 | J26: =I26*E26 -> 914.69852 | K26: =I26/D26 -> 0.0625 | L26: =F26+I26 -> 7 | M26: =G26+J26 -> 6402.8896 | N26: =H26+K26 -> 0.4375
A27: 2.4 | B27: Aluguel de container para almoxarifado | C27: Mes | D27: 32 | E27: 614.34639 | F27: 12 | G27: =F27*E27 -> 7372.1567 | H27: =F27/D27 -> 0.375 | I27: 2 | J27: =I27*E27 -> 1228.6928 | K27: =I27/D27 -> 0.0625 | L27: =F27+I27 -> 14 | M27: =G27+J27 -> 8600.8495 | N27: =H27+K27 -> 0.4375
A28: 2.5 | B28: Aluguel de container tipo refeitório (2 unidades acopladas), c/ 2 aparelhos de ar condicionado, 4 lumináriase 4 janelas de vidro | C28: Mes | D28: 16 | E28: 1649.5143 | F28: 6 | G28: =F28*E28 -> 9897.0855 | H28: =F28/D28 -> 0.375 | I28: 1 | J28: =I28*E28 -> 1649.5143 | K28: =I28/D28 -> 0.0625 | L28: =F28+I28 -> 7 | M28: =G28+J28 -> 11546.6 | N28: =H28+K28 -> 0.4375
A29: 2.6 | B29: Aluguel de container tipo vestiário, 2 luminárias, piso especial e janela | C29: Mes | D29: 16 | E29: 687.48448 | F29: 6 | G29: =F29*E29 -> 4124.9069 | H29: =F29/D29 -> 0.375 | I29: 1 | J29: =I29*E29 -> 687.48448 | K29: =I29/D29 -> 0.0625 | L29: =F29+I29 -> 7 | M29: =G29+J29 -> 4812.3913 | N29: =H29+K29 -> 0.4375
A30: 2.7 | B30: Aluguel de container tipo sanitário com 3 vasos sanitários, lavatório, mictório, 5 chuveiros, 2 venezianas e piso especial | C30: Mes | D30: 16 | E30: 859.20747 | F30: 6 | G30: =F30*E30 -> 5155.2448 | H30: =F30/D30 -> 0.375 | I30: 1 | J30: =I30*E30 -> 859.20747 | K30: =I30/D30 -> 0.0625 | L30: =F30+I30 -> 7 | M30: =G30+J30 -> 6014.4523 | N30: =H30+K30 -> 0.4375
A31: 2.8 | B31: Barracão em chapa compensada 12mm e pont. 8x8cm, piso cimentado e cobertura de telhas fibrocimento 6mm, incl. ponto de luz | C31: m² | D31: 215 | E31: 570.04505 | F31: 215 | G31: =F31*E31 -> 122559.69 | H31: =F31/D31 -> 1 | J31: =I31*E31 -> 0 | K31: =I31/D31 -> 0 | L31: =F31+I31 -> 215 | M31: =G31+J31 -> 122559.69 | N31: =H31+K31 -> 1
A32: 2.9 | B32: Galpão em peças de madeira 8x8cm e contravent. de 5x7cm, cobertura de telhas de fibroc. de 6mm, incl. ponto e cabo de alimentação da máquina | C32: m² | D32: 70 | E32: 288.29994 | F32: 70 | G32: =F32*E32 -> 20180.996 | H32: =F32/D32 -> 1 | J32: =I32*E32 -> 0 | K32: =I32/D32 -> 0 | L32: =F32+I32 -> 70 | M32: =G32+J32 -> 20180.996 | N32: =H32+K32 -> 1
A33: 2.10 | B33: Galpão para corte e armação com área de 6.00m2, em peças de madeira 8x8cm e contraventamento de 5x7cm, cobertura de telhas de fibroc. de 6mm, inclusive ponto e cabo de alimentação da máquina, conf. projeto (1 utilização) | C33: m² | D33: 105 | E33: 288.30227 | F33: 105 | G33: =F33*E33 -> 30271.738 | H33: =F33/D33 -> 1 | J33: =I33*E33 -> 0 | K33: =I33/D33 -> 0 | L33: =F33+I33 -> 105 | M33: =G33+J33 -> 30271.738 | N33: =H33+K33 -> 1
A34: 2.11 | B34: Rede de água c/ padrão de entrada d'água diâm. 3/4" conf. CESAN, incl. tubos e conexões p/ aliment., distrib., extravas. e limp., cons. o padrão a 25m | C34: m | D34: 125 | E34: 49.19121 | F34: 125 | G34: =F34*E34 -> 6148.9013 | H34: =F34/D34 -> 1 | J34: =I34*E34 -> 0 | K34: =I34/D34 -> 0 | L34: =F34+I34 -> 125 | M34: =G34+J34 -> 6148.9013 | N34: =H34+K34 -> 1
A35: 2.12 | B35: Rede de esgoto, contendo fossa e filtro, incl. tubos e conexões de ligação entre caixas, considerando distância de 25m | C35: m | D35: 125 | E35: 357.11064 | F35: 125 | G35: =F35*E35 -> 44638.83 | H35: =F35/D35 -> 1 | J35: =I35*E35 -> 0 | K35: =I35/D35 -> 0 | L35: =F35+I35 -> 125 | M35: =G35+J35 -> 44638.83 | N35: =H35+K35 -> 1
A36: 2.13 | B36: Rede de luz, incl. padrão entr. energia trifás. cabo ligação até barracões, quadro distrib., disj. e chave de força, cons. 20m entre padrão entr.e QDG | C36: m | D36: 125 | E36: 456.66303 | F36: 125 | G36: =F36*E36 -> 57082.878 | H36: =F36/D36 -> 1 | J36: =I36*E36 -> 0 | K36: =I36/D36 -> 0 | L36: =F36+I36 -> 125 | M36: =G36+J36 -> 57082.878 | N36: =H36+K36 -> 1
A37: 2.14 | B37: Reservatório de fibra de vidro de 1000 L, incl. suporte em madeira de 7x12cm, elevado de 4m | C37: UND | D37: 2 | E37: 2606.8867 | F37: 2 | G37: =F37*E37 -> 5213.7733 | H37: =F37/D37 -> 1 | J37: =I37*E37 -> 0 | K37: =I37/D37 -> 0 | L37: =F37+I37 -> 2 | M37: =G37+J37 -> 5213.7733 | N37: =H37+K37 -> 1
A38: 2.15 | B38: Sistema separador de água e óleo | C38: UND | D38: 1 | E38: 6083.1205 | F38: 1 | G38: =F38*E38 -> 6083.1205 | H38: =F38/D38 -> 1 | J38: =I38*E38 -> 0 | K38: =I38/D38 -> 0 | L38: =F38+I38 -> 1 | M38: =G38+J38 -> 6083.1205 | N38: =H38+K38 -> 1
A39: 2.16 | B39: Canaleta de concreto retangular com grelha em barra de aço | C39: m | D39: 30 | E39: 172.68297 | F39: 0 | G39: =F39*E39 -> 0 | H39: =F39/D39 -> 0 | J39: =I39*E39 -> 0 | K39: =I39/D39 -> 0 | L39: =F39+I39 -> 0 | M39: =G39+J39 -> 0 | N39: =H39+K39 -> 0
A40: 2.17 | B40: Cerca de arame farpado 4 fios com mourões a cada 2,0 m, esticadores de madeira, a cada 20,0 m, inclusive transporte de mourão e arame farpado) | C40: m | D40: 400 | E40: 19.319493 | F40: 400 | G40: =F40*E40 -> 7727.7974 | H40: =F40/D40 -> 1 | J40: =I40*E40 -> 0 | K40: =I40/D40 -> 0 | L40: =F40+I40 -> 400 | M40: =G40+J40 -> 7727.7974 | N40: =H40+K40 -> 1
A41: 2.18 | B41: Placa de obra nas dimensões de 3,0 x 6,0 m, padrão DER-ES | C41: m² | D41: 38 | E41: 223.93663 | F41: 38 | G41: =F41*E41 -> 8509.5919 | H41: =F41/D41 -> 1 | J41: =I41*E41 -> 0 | K41: =I41/D41 -> 0 | L41: =F41+I41 -> 38 | M41: =G41+J41 -> 8509.5919 | N41: =H41+K41 -> 1
A42: 2.19 | B42: Pó de pedra inclusive fornecimento, espalhamento e transporte | C42: m³ | D42: 52.5 | E42: 62.255868 | F42: 52.5 | G42: =F42*E42 -> 3268.4331 | H42: =F42/D42 -> 1 | J42: =I42*E42 -> 0 | K42: =I42/D42 -> 0 | L42: =F42+I42 -> 52.5 | M42: =G42+J42 -> 3268.4331 | N42: =H42+K42 -> 1
A43: 2.20 | B43: Mobilização e desmobilização de container de 51 km até 150 km | C43: Ud | D43: 10 | E43: 1415.0554 | F43: 5 | G43: =F43*E43 -> 7075.277 | H43: =F43/D43 -> 0.5 | J43: =I43*E43 -> 0 | K43: =I43/D43 -> 0 | L43: =F43+I43 -> 5 | M43: =G43+J43 -> 7075.277 | N43: =H43+K43 -> 0.5
A44: 3 | B44: SUPERESTRUTURA PONTE OAE | J44: =SUM(J46:J76) -> 296938.4 | M44: =SUM(M46:M76) -> 859228.55
A45: 3.1 | B45: DEMOLIÇÃO DA PASSARELA/RECUPERAÇÃO DAS ARMADURAS REMANESCENTES
A46: 3.1.1 | B46: DEMOLICAO E REMOCAO DE ESTRUTURAS METALICAS TRELICADAS DE VERGALHOES E/OU PERFIS LEVES DE ACO,MEDIDAS PELO PESO REMOVIDO Observacao: 3%-DESGASTE DE FERRAMENTAS E EPI | C46: kg | D46: 42173.177 | E46: 2.9780999 | F46: 42173.177 | G46: =F46*E46 -> 125595.93 | H46: =F46/D46 -> 1 | J46: =I46*E46 -> 0 | K46: =I46/D46 -> 0 | L46: =F46+I46 -> 42173.177 | M46: =G46+J46 -> 125595.93 | N46: =H46+K46 -> 1
A47: 3.1.2 | B47: Demolição de concreto armado | C47: m³ | D47: 37.65796 | E47: 556.99717 | F47: 37.65796 | G47: =F47*E47 -> 20975.377 | H47: =F47/D47 -> 1 | J47: =I47*E47 -> 0 | K47: =I47/D47 -> 0 | L47: =F47+I47 -> 37.65796 | M47: =G47+J47 -> 20975.377 | N47: =H47+K47 -> 1
A48: 3.1.3 | B48: CORTE COM MACARICO MANUAL DE OXIACETILENO,EM CHAPA DE ACO NA ESPESSURA DE 1/2" Observacao: 3%-DESGASTE DE FERRAMENTAS E EPI | C48: m | D48: 199.08 | E48: 12.717042 | F48: 199.08 | G48: =F48*E48 -> 2531.7086 | H48: =F48/D48 -> 1 | J48: =I48*E48 -> 0 | K48: =I48/D48 -> 0 | L48: =F48+I48 -> 199.08 | M48: =G48+J48 -> 2531.7086 | N48: =H48+K48 -> 1
A49: 3.1.4 | B49: Corte em concreto com discos diamantados para pisos e lajes profundidade de corte 5 cm | C49: m | D49: 313.656 | E49: 27.921999 | F49: 313.656 | G49: =F49*E49 -> 8757.9025 | H49: =F49/D49 -> 1 | J49: =I49*E49 -> 0 | K49: =I49/D49 -> 0 | L49: =F49+I49 -> 313.656 | M49: =G49+J49 -> 8757.9025 | N49: =H49+K49 -> 1
A50: 3.1.5 | B50: Limpeza de aço com lixamento e escovação com escova de aço, até a completa remoção de partículas soltas, materiais indesejáveis e corrosão | C50: m² | D50: 72.6852 | E50: 21.993545 | F50: 72.6852 | G50: =F50*E50 -> 1598.6052 | H50: =F50/D50 -> 1 | J50: =I50*E50 -> 0 | K50: =I50/D50 -> 0 | L50: =F50+I50 -> 72.6852 | M50: =G50+J50 -> 1598.6052 | N50: =H50+K50 -> 1
A51: 3.1.6 | B51: Recuperação estrutural com uso de argamassa polimérica (espessura média=3,5 cm) | C51: m² | D51: 72.6852 | E51: 339.86109 | F51: 72.6852 | G51: =F51*E51 -> 24702.871 | H51: =F51/D51 -> 1 | J51: =I51*E51 -> 0 | K51: =I51/D51 -> 0 | L51: =F51+I51 -> 72.6852 | M51: =G51+J51 -> 24702.871 | N51: =H51+K51 -> 1
...

Sheet MEMO CALCULO 07
B2: PREFEITURA MUNICIPAL DE SÃO ROQUE DO CANAÃ
B8: MEMÓRIA DE CÁLCULO 7ª MEDIÇÃO
B9: OBRA:CONSTRUÇÃO, REFORMA, MELHORIA, ADEQUAÇÃO E AMPLIAÇÃO DA PONTE SOBRE O RIO SANTA MARIA DO DOCE COM CABEÇAS E TABULEIRO EM CONCRETO ARMADO, CORTADA PELA VIA ES-080 | D9: DATA: 08/07/2025
B10: LOCAL: DISTRITO SEDE - SÃO ROQUE DO CANAÃ
B11: ITEM | C11: DESCRIÇÃO | D11: UND | E11: QUANT.
B12: 2 | C12: =VLOOKUP(B12,'MEDIÇÃO 7'!$A$20:$C$121,2,0) -> CANTEIRO DE OBRA
B13: 2.3 | C13: =VLOOKUP(B13,'MEDIÇÃO 7'!$A$20:$C$121,2,0) -> Aluguel de container p/ escritório c/ ar condicionado e banheiro, isolam.térmico e acústico, 2 luminárias, janela de vidro, tomada p/ comput. e telef. | D13: =VLOOKUP(B13,'MEDIÇÃO 7'!$A$20:$C$97,3,0) -> Mes | E13: =SUM(D14) -> 1
B14: 1,00 mês | D14: =VLOOKUP($B13,'MEDIÇÃO 7'!$A$20:$J$121,9,0) -> 1
B15: 2.4 | C15: =VLOOKUP(B15,'MEDIÇÃO 7'!$A$20:$C$121,2,0) -> Aluguel de container para almoxarifado | D15: =VLOOKUP(B15,'MEDIÇÃO 7'!$A$20:$C$97,3,0) -> Mes | E15: =SUM(D16) -> 2
B16: 2,00 unidades por meses | D16: =VLOOKUP($B15,'MEDIÇÃO 7'!$A$20:$J$121,9,0) -> 2
B17: 2.5 | C17: =VLOOKUP(B17,'MEDIÇÃO 7'!$A$20:$C$121,2,0) -> Aluguel de container tipo refeitório (2 unidades acopladas), c/ 2 aparelhos de ar condicionado, 4 lumináriase 4 janelas de vidro | D17: =VLOOKUP(B17,'MEDIÇÃO 7'!$A$20:$C$97,3,0) -> Mes | E17: =SUM(D18) -> 1
B18: 1,00 mês | D18: =VLOOKUP($B17,'MEDIÇÃO 7'!$A$20:$J$121,9,0) -> 1
B19: 2.6 | C19: =VLOOKUP(B19,'MEDIÇÃO 7'!$A$20:$C$121,2,0) -> Aluguel de container tipo vestiário, 2 luminárias, piso especial e janela | D19: =VLOOKUP(B19,'MEDIÇÃO 7'!$A$20:$C$97,3,0) -> Mes | E19: =SUM(D20) -> 1
B20: 1,00 mês | D20: =VLOOKUP($B19,'MEDIÇÃO 7'!$A$20:$J$121,9,0) -> 1
B21: 2.7 | C21: =VLOOKUP(B21,'MEDIÇÃO 7'!$A$20:$C$121,2,0) -> Aluguel de container tipo sanitário com 3 vasos sanitários, lavatório, mictório, 5 chuveiros, 2 venezianas e piso especial | D21: =VLOOKUP(B21,'MEDIÇÃO 7'!$A$20:$C$97,3,0) -> Mes | E21: =SUM(D22) -> 1
B22: 1,00 mês | D22: =VLOOKUP($B21,'MEDIÇÃO 7'!$A$20:$J$121,9,0) -> 1
B24: 3 | C24: =VLOOKUP(B24,'MEDIÇÃO 7'!$A$20:$C$121,2,0) -> SUPERESTRUTURA PONTE OAE
B25: 3.2 | C25: =VLOOKUP(B25,'MEDIÇÃO 7'!$A$20:$C$121,2,0) -> RETIRADA DO ASFALTO E SOLO/INSERÇÃO DOS PERFIS E TAMPONAMENTO COM PÓ DE BRITA
B26: 3.2.1 | C26: =VLOOKUP(B26,'MEDIÇÃO 7'!$A$20:$C$121,2,0) -> Remoção manual de revestimento asfáltico | D26: =VLOOKUP(B26,'MEDIÇÃO 7'!$A$20:$C$97,3,0) -> m³ | E26: =SUM(D27) -> 10
B27: 10,00 m³ | D27: =VLOOKUP($B26,'MEDIÇÃO 7'!$A$20:$J$121,9,0) -> 10
B28: 3.2.2 | C28: =VLOOKUP(B28,'MEDIÇÃO 7'!$A$20:$C$121,2,0) -> Escavação, carga e transporte de material de 1º categoria | D28: =VLOOKUP(B28,'MEDIÇÃO 7'!$A$20:$C$97,3,0) -> m³ | E28: =SUM(D29) -> 250
B29: 250,00 m³ | D29: =VLOOKUP($B28,'MEDIÇÃO 7'!$A$20:$J$121,9,0) -> 250
B30: 3.2.3 | C30: =VLOOKUP(B30,'MEDIÇÃO 7'!$A$20:$C$121,2,0) -> Viga metálica em perfil laminado ou soldado em aço estrutural, com conexões parafusadas, inclusos mão de obra, transporte e içamento utilizando guindaste - fornecimento e instalação | D30: =VLOOKUP(B30,'MEDIÇÃO 7'!$A$20:$C$97,3,0) -> kg | E30: =SUM(D31) -> 2500
B31: 2.500,00 m³ | D31: =VLOOKUP($B30,'MEDIÇÃO 7'!$A$20:$J$121,9,0) -> 2500
B32: 3.2.4 | C32: =VLOOKUP(B32,'MEDIÇÃO 7'!$A$20:$C$121,2,0) -> Solda com maçarico oxiacetileno de chapas de aço de 12,5 mm | D32: =VLOOKUP(B32,'MEDIÇÃO 7'!$A$20:$C$97,3,0) -> m | E32: =SUM(D33) -> 60
B33: 60,00 m | D33: =VLOOKUP($B32,'MEDIÇÃO 7'!$A$20:$J$121,9,0) -> 60
B34: 3.2.5 | C34: =VLOOKUP(B34,'MEDIÇÃO 7'!$A$20:$C$121,2,0) -> Chumbador de expansão controlada por torque para concreto D = 20 mm - fornecimento e instalação | D34: =VLOOKUP(B34,'MEDIÇÃO 7'!$A$20:$C$97,3,0) -> und | E34: =SUM(D35) -> 180
B35: 180,00 unidades | D35: =VLOOKUP($B34,'MEDIÇÃO 7'!$A$20:$J$121,9,0) -> 180
B36: 3.2.6 | C36: =VLOOKUP(B36,'MEDIÇÃO 7'!$A$20:$C$121,2,0) -> Fornecimento e aplicação de adesivo estrutural à base de resina epóxi | D36: =VLOOKUP(B36,'MEDIÇÃO 7'!$A$20:$C$97,3,0) -> kg | E36: =SUM(D37) -> 15
B37: 15,00 kg | D37: =VLOOKUP($B36,'MEDIÇÃO 7'!$A$20:$J$121,9,0) -> 15
B38: 3.2.7 | C38: =VLOOKUP(B38,'MEDIÇÃO 7'!$A$20:$C$121,2,0) -> Pó de pedra inclusive fornecimento, espalhamento e transporte | D38: =VLOOKUP(B38,'MEDIÇÃO 7'!$A$20:$C$97,3,0) -> m³ | E38: =SUM(D39) -> 25
B39: 25,00 m³ | D39: =VLOOKUP($B38,'MEDIÇÃO 7'!$A$20:$J$121,9,0) -> 25
B40: 3.2.8 | C40: =VLOOKUP(B40,'MEDIÇÃO 7'!$A$20:$C$121,2,0) -> Mobilização e desmobilização de caminhão basculante (máximo) | D40: =VLOOKUP(B40,'MEDIÇÃO 7'!$A$20:$C$97,3,0) -> h | E40: =SUM(D41) -> 30
B41: 30,00 horas | D41: =VLOOKUP($B40,'MEDIÇÃO 7'!$A$20:$J$121,9,0) -> 30
B42: 3.3 | C42: =VLOOKUP(B42,'MEDIÇÃO 7'!$A$20:$C$121,2,0) -> EXECUÇÃO DA NOVA SUPERESTRUTURA
B43: 3.3.13 | C43: =VLOOKUP(B43,'MEDIÇÃO 7'!$A$20:$C$121,2,0) -> Execução do arcos centrais da ponte | D43: =VLOOKUP(B43,'MEDIÇÃO 7'!$A$20:$C$97,3,0) -> und | E43: =SUM(D44) -> 0.5
B44: 0,50 unidades | D44: =VLOOKUP($B43,'MEDIÇÃO 7'!$A$20:$J$121,9,0) -> 0.5
B46: 7 | C46: =VLOOKUP(B46,'MEDIÇÃO 7'!$A$20:$C$121,2,0) -> ADMINISTRAÇÃO LOCAL
B47: 7.1 | C47: =VLOOKUP(B47,'MEDIÇÃO 7'!$A$20:$C$121,2,0) -> Administração local, inclusive vigilância | D47: =VLOOKUP(B47,'MEDIÇÃO 7'!$A$20:$C$120,3,0) -> UND | E47: =SUM(D48) -> 0.081594538
B48: Valor da 7ª medição sem adm Local/ (Valor do contrato-adm local) =0,081594538 | D48: =VLOOKUP($B47,'MEDIÇÃO 7'!$A$20:$J$121,9,0) -> 0.081594538
...
