Workbook

Sheet MEDIÇÃO 2
A1: PREFEITURA MUNICIPAL DE SO ROQUE DO CANA Estado do Esprito Santo SECRETARIA MUNICIPAL DE OBRAS E SERVIÇOS URBANOS – SETOR DE ENGENHARIA
A13: BOLETIM DE | E13: =I18 -> MEDIÇÃO 02 | K13: DATA: 20/03/2025
A14: Obra: REFORMA DE QUATRO QUADRAS POLIESPORTIVAS LOCALIZADAS EM SÃO JACINTO, VILA VERDE, SÃO BENTO E CÓRREGO SAÚDE, REFORMA E AMPLIAÇÃO DE UMA QUADRA POLIESPORTIVA, LOCALIZADA NA COMUNIDADE DE ALTO SANTA LUZIA, DISTRITO DE SANTA JÚLIA, NESTE MUNICÍPIO. | D14: CONTRATO Nº: | F14: 128/2024 | H14: Assinatura: 18/10/2024 | K14: INÍCIO: | M14: 45654
K15: TÉRMINO: | M15: 45729
A16: LOCAL: AVENIDA SEVERINO SIMONASSI, DISTRITO DE SÃO JACINTO; RUA JOSÉ CARLOS VOLPI, VILA VERDE; AVENIDA CATARINA GUIDONI VOLPI, SÃO BENTO; RODOVIA ES-080, COMUNIDADE DE NOSSA SENHORA DA SAÚDE, DISTRITO DE SÃO JACINTO; COMUNIDADE DE SANTA LUZIA, ZONA RURAL, DISTRITO DE SANTA JÚLIA. SÃO ROQUE DO CANAÃ | D16: PERÍODO: | F16: 45689 | H16: a | I16: 45729 | K16: PRAZO: | M16: 360 DIAS
A17: EMPREITEIRA: CONSÓRCIO CINCO QUADRAS | F17: =I18 -> MEDIÇÃO 02 | I17: =L238 -> 97806.93 | K17: % MÊS: | L17: =H238 -> 0.057686187 | M17: % ACUM: | N17: =H239 -> 0.09521582
A18: ITEM | B18: ESPECIFICAÇÃO | C18: UNID. | D18: QUANT. | E18: PREÇO UNIT R$ | F18: ACUMULADO ANTERIOR | I18: MEDIÇÃO 02 | L18: TOTAL MEDIDO
F19: QUANT. | G19: TOTAL | H19: % | I19: QUANT. | J19: TOTAL | K19: % | L19: QUANT. | M19: TOTAL | N19: %
A20: 1 | B20: INSTALAÇÃO DO CANTEIRO DE OBRAS | J20: =SUM(J21:J23) -> 4312.4918 | M20: =SUM(M21:M23) -> 7032.3884
A21: 1.1 | B21: Placa de obra nas dimensões de 2.0 x 4.0 m, padrão DER | C21: m2 | D21: 40 | E21: 366.28103 | F21: 0 | G21: =F21*E21 -> 0 | H21: =F21/D21 -> 0 | J21: =I21*E21 -> 0 | K21: =I21/D21 -> 0 | L21: =F21+I21 -> 0 | M21: =G21+J21 -> 0 | N21: =H21+K21 -> 0
A22: 1.2 | B22: Mobilização e desmobilização de conteiner locado para barracão de obra | C22: und | D22: 5 | E22: 1923.599 | F22: 1 | G22: =F22*E22 -> 1923.599 | H22: =F22/D22 -> 0.2 | I22: 1 | J22: =I22*E22 -> 1923.599 | K22: =I22/D22 -> 0.2 | L22: =F22+I22 -> 2 | M22: =G22+J22 -> 3847.198 | N22: =H22+K22 -> 0.4
A23: 1.3 | B23: Aluguel mensal container para almoxarifado, incl. porta, 2 janelas, 1 pt iluminação, Isolamento térmico (teto), piso em comp. Naval pintado, cert. NR18, incl. laudo descontaminação. | C23: ms | D23: 12 | E23: 796.29759 | F23: 1 | G23: =F23*E23 -> 796.29759 | H23: =F23/D23 -> 0.083333333 | I23: 3 | J23: =I23*E23 -> 2388.8928 | K23: =I23/D23 -> 0.25 | L23: =F23+I23 -> 4 | M23: =G23+J23 -> 3185.1904 | N23: =H23+K23 -> 0.33333333
A24: 2 | B24: SERVIÇOS PRELIMINARES | J24: =SUM(J25:J51) -> 7077.5343 | M24: =SUM(M25:M51) -> 20957.758
A25: 2.1 | B25: Remoção de pintura antiga a óleo ou esmalte | C25: m2 | D25: 58.95 | E25: 14.431877 | F25: 0 | G25: =F25*E25 -> 0 | H25: =F25/D25 -> 0 | J25: =I25*E25 -> 0 | K25: =I25/D25 -> 0 | L25: =F25+I25 -> 0 | M25: =G25+J25 -> 0 | N25: =H25+K25 -> 0
A26: 2.2 | B26: Retirada de pontos elétricos (luminárias, interruptores e tomadas) | C26: und | D26: 67 | E26: 11.634313 | F26: 0 | G26: =F26*E26 -> 0 | H26: =F26/D26 -> 0 | I26: 12 | J26: =I26*E26 -> 139.61176 | K26: =I26/D26 -> 0.17910448 | L26: =F26+I26 -> 12 | M26: =G26+J26 -> 139.61176 | N26: =H26+K26 -> 0.17910448
A27: 2.3 | B27: Retirada de caixas/quadros elétricos | C27: und | D27: 4 | E27: 15.797354 | F27: 0 | G27: =F27*E27 -> 0 | H27: =F27/D27 -> 0 | J27: =I27*E27 -> 0 | K27: =I27/D27 -> 0 | L27: =F27+I27 -> 0 | M27: =G27+J27 -> 0 | N27: =H27+K27 -> 0
A28: 2.4 | B28: Retirada de disjuntor | C28: und | D28: 19 | E28: 21.725525 | F28: 0 | G28: =F28*E28 -> 0 | H28: =F28/D28 -> 0 | J28: =I28*E28 -> 0 | K28: =I28/D28 -> 0 | L28: =F28+I28 -> 0 | M28: =G28+J28 -> 0 | N28: =H28+K28 -> 0
A29: 2.5 | B29: Retirada de vidros quebrados | C29: m2 | D29: 2.94 | E29: 3.752288 | F29: 0 | G29: =F29*E29 -> 0 | H29: =F29/D29 -> 0 | I29: 2.94 | J29: =I29*E29 -> 11.031727 | K29: =I29/D29 -> 1 | L29: =F29+I29 -> 2.94 | M29: =G29+J29 -> 11.031727 | N29: =H29+K29 -> 1
A30: 2.6 | B30: Demolição de revestimento com azulejos | C30: m2 | D30: 127.76 | E30: 53.164814 | F30: 0 | G30: =F30*E30 -> 0 | H30: =F30/D30 -> 0 | J30: =I30*E30 -> 0 | K30: =I30/D30 -> 0 | L30: =F30+I30 -> 0 | M30: =G30+J30 -> 0 | N30: =H30+K30 -> 0
A31: 2.7 | B31: Retirada de portas e janelas de madeira, inclusive batentes | C31: m2 | D31: 13.02 | E31: 17.007412 | F31: 0 | G31: =F31*E31 -> 0 | H31: =F31/D31 -> 0 | J31: =I31*E31 -> 0 | K31: =I31/D31 -> 0 | L31: =F31+I31 -> 0 | M31: =G31+J31 -> 0 | N31: =H31+K31 -> 0
A32: 2.8 | B32: Retirada de bandeira de porta | C32: und | D32: 2 | E32: 32.327404 | F32: 0 | G32: =F32*E32 -> 0 | H32: =F32/D32 -> 0 | J32: =I32*E32 -> 0 | K32: =I32/D32 -> 0 | L32: =F32+I32 -> 0 | M32: =G32+J32 -> 0 | N32: =H32+K32 -> 0
A33: 2.9 | B33: Lixamento de parede com pintura antiga PVA para recebimento de nova camada de tinta | C33: m2 | D33: 946.29 | E33: 4.0076212 | F33: 0 | G33: =F33*E33 -> 0 | H33: =F33/D33 -> 0 | I33: 475.22 | J33: =I33*E33 -> 1904.5017 | K33: =I33/D33 -> 0.50219277 | L33: =F33+I33 -> 475.22 | M33: =G33+J33 -> 1904.5017 | N33: =H33+K33 -> 0.50219277
A34: 2.10 | B34: Retirada de revestimento antigo em reboco | C34: m2 | D34: 550.74 | E34: 10.635183 | F34: 148.92 | G34: =F34*E34 -> 1583.7915 | H34: =F34/D34 -> 0.27039983 | I34: 22.24 | J34: =I34*E34 -> 236.52647 | K34: =I34/D34 -> 0.040382031 | L34: =F34+I34 -> 171.16 | M34: =G34+J34 -> 1820.3179 | N34: =H34+K34 -> 0.31078186
A35: 2.11 | B35: Retirada de aparelhos sanitários | C35: und | D35: 13 | E35: 21.99196 | F35: 0 | G35: =F35*E35 -> 0 | H35: =F35/D35 -> 0 | J35: =I35*E35 -> 0 | K35: =I35/D35 -> 0 | L35: =F35+I35 -> 0 | M35: =G35+J35 -> 0 | N35: =H35+K35 -> 0
A36: 2.12 | B36: Demolição de alvenaria | C36: m3 | D36: 4.281 | E36: 63.788895 | F36: 0 | G36: =F36*E36 -> 0 | H36: =F36/D36 -> 0 | J36: =I36*E36 -> 0 | K36: =I36/D36 -> 0 | L36: =F36+I36 -> 0 | M36: =G36+J36 -> 0 | N36: =H36+K36 -> 0
A37: 2.13 | B37: Limpeza de pisos e revestimentos cerâmicos | C37: m2 | D37: 169.49 | E37: 26.632363 | F37: 0 | G37: =F37*E37 -> 0 | H37: =F37/D37 -> 0 | J37: =I37*E37 -> 0 | K37: =I37/D37 -> 0 | L37: =F37+I37 -> 0 | M37: =G37+J37 -> 0 | N37: =H37+K37 -> 0
A38: 2.14 | B38: Retirada de pintura antiga a base de PVA | C38: m2 | D38: 877.84 | E38: 6.8162864 | F38: 0 | G38: =F38*E38 -> 0 | H38: =F38/D38 -> 0 | J38: =I38*E38 -> 0 | K38: =I38/D38 -> 0 | L38: =F38+I38 -> 0 | M38: =G38+J38 -> 0 | N38: =H38+K38 -> 0
A39: 2.15 | B39: Demolição de piso cimentado inclusive lastro de concreto | C39: m2 | D39: 7.8 | E39: 27.642595 | F39: 7.8 | G39: =F39*E39 -> 215.61224 | H39: =F39/D39 -> 1 | J39: =I39*E39 -> 0 | K39: =I39/D39 -> 0 | L39: =F39+I39 -> 7.8 | M39: =G39+J39 -> 215.61224 | N39: =H39+K39 -> 1
A40: 2.16 | B40: Corte de capoeira fina, a foice (manual) | C40: m2 | D40: 32.5 | E40: 1.4542891 | F40: 0 | G40: =F40*E40 -> 0 | H40: =F40/D40 -> 0 | J40: =I40*E40 -> 0 | K40: =I40/D40 -> 0 | L40: =F40+I40 -> 0 | M40: =G40+J40 -> 0 | N40: =H40+K40 -> 0
A41: 2.17 | B41: Demolição de piso revestido com cerâmica | C41: m2 | D41: 50.61 | E41: 14.887036 | F41: 0 | G41: =F41*E41 -> 0 | H41: =F41/D41 -> 0 | J41: =I41*E41 -> 0 | K41: =I41/D41 -> 0 | L41: =F41+I41 -> 0 | M41: =G41+J41 -> 0 | N41: =H41+K41 -> 0
A42: 2.18 | B42: Demolição manual de concreto simples (EMOP 05.001.001) | C42: m3 | D42: 11.68 | E42: 299.82779 | F42: 0 | G42: =F42*E42 -> 0 | H42: =F42/D42 -> 0 | J42: =I42*E42 -> 0 | K42: =I42/D42 -> 0 | L42: =F42+I42 -> 0 | M42: =G42+J42 -> 0 | N42: =H42+K42 -> 0
A43: 2.19 | B43: Retirada de bancada de pia | C43: m2 | D43: 0.85 | E43: 26.388132 | F43: 0 | G43: =F43*E43 -> 0 | H43: =F43/D43 -> 0 | J43: =I43*E43 -> 0 | K43: =I43/D43 -> 0 | L43: =F43+I43 -> 0 | M43: =G43+J43 -> 0 | N43: =H43+K43 -> 0
A44: 2.20 | B44: Remoção de cobertura em telha metálica, exclusive estrutura | C44: m2 | D44: 47.78 | E44: 9.2364011 | F44: 0 | G44: =F44*E44 -> 0 | H44: =F44/D44 -> 0 | J44: =I44*E44 -> 0 | K44: =I44/D44 -> 0 | L44: =F44+I44 -> 0 | M44: =G44+J44 -> 0 | N44: =H44+K44 -> 0
A45: 2.21 | B45: Lixamento manual em superfícies metálicas em obra | C45: m2 | D45: 3836.31 | E45: 9.0965229 | F45: 1206.58 | G45: =F45*E45 -> 10975.683 | H45: =F45/D45 -> 0.31451577 | I45: 526.12 | J45: =I45*E45 -> 4785.8626 | K45: =I45/D45 -> 0.1371422 | L45: =F45+I45 -> 1732.7 | M45: =G45+J45 -> 15761.545 | N45: =H45+K45 -> 0.45165797
A46: 2.22 | B46: Remoção de tela galvanizada | C46: m2 | D46: 663.08 | E46: 3.7467372 | F46: 294.96 | G46: =F46*E46 -> 1105.1376 | H46: =F46/D46 -> 0.4448332 | J46: =I46*E46 -> 0 | K46: =I46/D46 -> 0 | L46: =F46+I46 -> 294.96 | M46: =G46+J46 -> 1105.1376 | N46: =H46+K46 -> 0.4448332
A47: 2.23 | B47: Retirada de grades, gradis, alambrados, cercas e portões | C47: m2 | D47: 46.55 | E47: 5.6206609 | F47: 0 | G47: =F47*E47 -> 0 | H47: =F47/D47 -> 0 | J47: =I47*E47 -> 0 | K47: =I47/D47 -> 0 | L47: =F47+I47 -> 0 | M47: =G47+J47 -> 0 | N47: =H47+K47 -> 0
A48: 2.24 | B48: Remoção de cabos elétricos, de forma manual, sem reaproveitamento | C48: m | D48: 619.56 | E48: 0.63500258 | F48: 0 | G48: =F48*E48 -> 0 | H48: =F48/D48 -> 0 | J48: =I48*E48 -> 0 | K48: =I48/D48 -> 0 | L48: =F48+I48 -> 0 | M48: =G48+J48 -> 0 | N48: =H48+K48 -> 0
A49: 2.25 | B49: Remoção de calha de zinco | C49: m | D49: 28.4 | E49: 11.241322 | F49: 0 | G49: =F49*E49 -> 0 | H49: =F49/D49 -> 0 | J49: =I49*E49 -> 0 | K49: =I49/D49 -> 0 | L49: =F49+I49 -> 0 | M49: =G49+J49 -> 0 | N49: =H49+K49 -> 0
A50: 2.26 | B50: Serviço de soldagem para recuperação de tirantes | C50: Kg | D50: 50.5 | E50: 1.399408 | F50: 0 | G50: =F50*E50 -> 0 | H50: =F50/D50 -> 0 | J50: =I50*E50 -> 0 | K50: =I50/D50 -> 0 | L50: =F50+I50 -> 0 | M50: =G50+J50 -> 0 | N50: =H50+K50 -> 0
A51: 2.27 | B51: Limpeza de superfície com jato de alta pressão. | C51: m2 | D51: 75.8 | E51: 1.6995755 | F51: 0 | G51: =F51*E51 -> 0 | H51: =F51/D51 -> 0 | J51: =I51*E51 -> 0 | K51: =I51/D51 -> 0 | L51: =F51+I51 -> 0 | M51: =G51+J51 -> 0 | N51: =H51+K51 -> 0
...

Sheet MEMO CALCULO 02
B2: PREFEITURA MUNICIPAL DE SÃO ROQUE DO CANAÃ
B8: MEMÓRIA DE CÁLCULO 2ª MEDIÇÃO
B9: OBRA: REFORMA DE QUATRO QUADRAS POLIESPORTIVAS LOCALIZADAS EM SÃO JACINTO, VILA VERDE, SÃO BENTO E CÓRREGO SAÚDE, REFORMA E AMPLIAÇÃO DE UMA QUADRA POLIESPORTIVA, LOCALIZADA NA COMUNIDADE DE ALTO SANTA LUZIA, DISTRITO DE SANTA JÚLIA, NESTE MUNICÍPIO. | D9: DATA: 20/03/2025
B10: LOCAL: AVENIDA SEVERINO SIMONASSI, DISTRITO DE SÃO JACINTO; RUA JOSÉ CARLOS VOLPI, VILA VERDE; AVENIDA CATARINA GUIDONI VOLPI, SÃO BENTO; RODOVIA ES-080, COMUNIDADE DE NOSSA SENHORA DA SAÚDE, DISTRITO DE SÃO JACINTO; COMUNIDADE DE SANTA LUZIA, ZONA RURAL, DISTRITO DE SANTA JÚLIA. SÃO ROQUE DO CANAÃ
B11: ITEM | C11: DESCRIÇÃO | D11: UND | E11: QUANT.
B12: 1 | C12: =VLOOKUP(B12,'MEDIÇÃO 2'!$A$20:$C$234,2,0) -> INSTALAÇÃO DO CANTEIRO DE OBRAS
B13: 1.2 | C13: =VLOOKUP($B13,'MEDIÇÃO 2'!$A$20:$C$233,2,0) -> Mobilização e desmobilização de conteiner locado para barracão de obra | D13: =VLOOKUP($B13,'MEDIÇÃO 2'!$A$20:$C$233,3,0) -> und | E13: =SUM(D14:D15) -> 1
B14: Quadra São Jacinto: já instalado | D14: 0
B15: Quadra Nossa Senhora da Saúde : 1,00 und | D15: 1
B16: 1.3 | C16: =VLOOKUP($B16,'MEDIÇÃO 2'!$A$20:$C$233,2,0) -> Aluguel mensal container para almoxarifado, incl. porta, 2 janelas, 1 pt iluminação, Isolamento térmico (teto), piso em comp. Naval pintado, cert. NR18, incl. laudo descontaminação. | D16: =VLOOKUP($B16,'MEDIÇÃO 2'!$A$20:$C$233,3,0) -> ms | E16: =SUM(D17:D18) -> 3
B17: Quadra São Jacinto: 1,00 und | D17: 1
B18: Quadra Nossa Senhora da Saúde : 2,00 und | D18: 2
B20: 2 | C20: =VLOOKUP(B20,'MEDIÇÃO 2'!$A$20:$C$234,2,0) -> SERVIÇOS PRELIMINARES
B21: 2.2 | C21: =VLOOKUP($B21,'MEDIÇÃO 2'!$A$20:$C$233,2,0) -> Retirada de pontos elétricos (luminárias, interruptores e tomadas) | D21: =VLOOKUP($B21,'MEDIÇÃO 2'!$A$20:$C$233,3,0) -> und | E21: 12
B22: QUADRA NOSSA SENHORA DA SAÚDE
B23: Retirada de 12 pontos elétricos – refletores | D23: 12
B24: 2.5 | C24: =VLOOKUP($B24,'MEDIÇÃO 2'!$A$20:$C$233,2,0) -> Retirada de vidros quebrados | D24: =VLOOKUP($B24,'MEDIÇÃO 2'!$A$20:$C$233,3,0) -> m2 | E24: 2.94
B25: QUADRA SÃO JACINTO
B26: Retirada dos vidros dos banheiros: (4,90 m x 0,60 m) = 2,94 m² | D26: 2.94
B27: 2.9 | C27: =VLOOKUP($B27,'MEDIÇÃO 2'!$A$20:$C$233,2,0) -> Lixamento de parede com pintura antiga PVA para recebimento de nova camada de tinta | D27: =VLOOKUP($B27,'MEDIÇÃO 2'!$A$20:$C$233,3,0) -> m2 | E27: =SUM(D27:D51) -> 475.22
B28: Laje parte interna: (5,80 m x 8,20 m) = 47,56 m + ( 3,12 m x 2,550 m) = 7,96 m² | D28: 55.52
B29: Laje do corredor dos vestiários: (1,05 m x 8,20 m) = 8,61 m² | D29: 8.61
B30: Paredes da arquibancada: (28,10 m x 1,50 m) = 42,15 m² | D30: 42.15
B31: Paredes laterais da quadra: ( 2,49 m x 2,65 m ) x 2 lados= 13,20 m² | D31: 13.2
B32: Parede externa do lado das arquibancadas: (2,40 m x 2,80 m) = 6,72 m² | D32: 6.72
B33: Parede externa do lado das arquibancadas: ( 1,65 m x 2,80 m)= 4,62 m² | D33: 4.62
B34: Parede do banheiro: (8,15 m x 2,70 m) = 22,00 m – 4,20 m das portas (2x1,00 m x 2,10 m) = 17,81 m² | D34: 17.81
B35: Mureta externa da quadra: ( 51,55 m x 0,92 m) = 47,43 m² | D35: 47.43
B36: Paredes externas dos vestiários: descontar básculas: (21,50 m x 2,82) – 5,15 m ( 0,50 m x 0,60 m) + ( 0,50 m x 0,60 m) + ( 2,10 m x 0,60 m) + ( 1,80 m x 0,60 m) + ( 2,53 m x 0,60 m) + (1,16 m x 0,60 m) = 55,50 m² | D36: 55.5
B38: Padrão de energia: 6,40 m² | D38: 6.4
B39: QUADRA NOSSA SENHORA DA SAÚDE
B40: Parede interna: (27,80m x 0,50 m x 2 lados) = 27,80 m² | D40: 27.8
B41: Parede interna: (18,25m x 0,50 m x 2 lados) = 18,25 m² | D41: 18.25
B42: Parede externa: (14,20m x 2,50 m) = 35,50 m² | D42: 35.5
B43: Parede externa: (14,20m x 230 m) = 32,66 m² | D43: 32.66
B44: Parede externa: (9,58m x 2,25 m) = 21,52 m² | D44: 21.54
B45: Parede externa: (9,58m x 2,25 m) = 21,52 m² | D45: 21.54
B46: Parede externa: (19,15m x 1,50 m) = 28,53 m² | D46: 28.73
B47: Rampa = 4,80 m² | D47: 4.8
B48: Pilaretes: (1,20m x 0,25 m x 24 unds) = 7,20 m² | D48: 7.2
...
