Workbook
Name Print_Area_0: 'MEDIÇÃO 14'!$A$1:$Q$269

Sheet MEDIÇÃO 14
A1: PREFEITURA MUNICIPAL DE SO ROQUE DO CANA Estado do Esprito Santo SECRETARIA MUNICIPAL DE OBRAS E SERVIÇOS URBANOS – SETOR DE ENGENHARIA
A13: BOLETIM DE | H13: =L18 -> MEDIÇÃO 14 | N13: DATA: 30/03/2026
A14: Obra: REFORMA DE QUATRO QUADRAS POLIESPORTIVAS LOCALIZADAS EM SÃO JACINTO, VILA VERDE, SÃO BENTO E CÓRREGO SAÚDE, REFORMA E AMPLIAÇÃO DE UMA QUADRA POLIESPORTIVA, LOCALIZADA NA COMUNIDADE DE ALTO SANTA LUZIA, DISTRITO DE SANTA JÚLIA, NESTE MUNICÍPIO. | D14: CONTRATO Nº: | I14: 128/2024 | K14: Assinatura: 18/10/2024 | N14: INÍCIO: | P14: 45654
N15: TÉRMINO: | P15: 46168
A16: LOCAL: AVENIDA SEVERINO SIMONASSI, DISTRITO DE SÃO JACINTO; RUA JOSÉ CARLOS VOLPI, VILA VERDE; AVENIDA CATARINA GUIDONI VOLPI, SÃO BENTO; RODOVIA ES-080, COMUNIDADE DE NOSSA SENHORA DA SAÚDE, DISTRITO DE SÃO JACINTO; COMUNIDADE DE SANTA LUZIA, ZONA RURAL, DISTRITO DE SANTA JÚLIA. SÃO ROQUE DO CANAÃ | D16: PERÍODO: | I16: 46064 | K16: a | L16: 46093 | N16: PRAZO: | P16: 360 DIAS + 90 DIAS + 90 DIAS
A17: EMPREITEIRA: CONSÓRCIO CINCO QUADRAS | I17: =L18 -> MEDIÇÃO 14 | L17: =O266 -> 51510.245 | N17: % MÊS: | O17: =K266 -> 0.0275078 | P17: % ACUM: | Q17: =K267 -> 0.63449456
A18: ITEM | B18: ESPECIFICAÇÃO | C18: UNID. | D18: QUANT. | E18: 1º REPLANILHAMENTO | H18: PREÇO UNIT R$ | I18: ACUMULADO ANTERIOR | L18: MEDIÇÃO 14 | O18: TOTAL MEDIDO
E19: ACRÉSCIMO | F19: DECRÉSCIMO | G19: QUANT. ATUALIZADA | I19: QUANT. | J19: TOTAL | K19: % | L19: QUANT. | M19: TOTAL | N19: % | O19: QUANT. | P19: TOTAL | Q19: %
A20: 1 | B20: INSTALAÇÃO DO CANTEIRO DE OBRAS | M20: =SUM(M21:M23) -> 2930.2483 | P20: =SUM(P21:P23) -> 30939.409
A21: 1.1 | B21: Placa de obra nas dimensões de 2.0 x 4.0 m, padrão DER | C21: m2 | D21: 40 | E21: 0 | G21: =D21+E21-F21 -> 40 | H21: 366.28103 | I21: 32 | J21: =I21*H21 -> 11720.993 | K21: =I21/G21 -> 0.8 | L21: =IFERROR(VLOOKUP(A21,'MEMO CALCULO 14'!$B$12:$E$343,4,0),0) -> 8 | M21: =L21*H21 -> 2930.2483 | N21: =L21/G21 -> 0.2 | O21: =I21+L21 -> 40 | P21: =J21+M21 -> 14651.241 | Q21: =K21+N21 -> 1
A22: 1.2 | B22: Mobilização e desmobilização de conteiner locado para barracão de obra | C22: und | D22: 5 | E22: 0 | G22: =D22+E22-F22 -> 5 | H22: 1923.599 | I22: 3.5 | J22: =I22*H22 -> 6732.5965 | K22: =I22/G22 -> 0.7 | L22: =IFERROR(VLOOKUP(A22,'MEMO CALCULO 14'!$B$12:$E$343,4,0),0) -> 0 | M22: =L22*H22 -> 0 | N22: =L22/G22 -> 0 | O22: =I22+L22 -> 3.5 | P22: =J22+M22 -> 6732.5965 | Q22: =K22+N22 -> 0.7
A23: 1.3 | B23: Aluguel mensal container para almoxarifado, incl. porta, 2 janelas, 1 pt iluminação, Isolamento térmico (teto), piso em comp. Naval pintado, cert. NR18, incl. laudo descontaminação. | C23: ms | D23: 12 | E23: 0 | G23: =D23+E23-F23 -> 12 | H23: 796.29759 | I23: 12 | J23: =I23*H23 -> 9555.5711 | K23: =I23/G23 -> 1 | L23: =IFERROR(VLOOKUP(A23,'MEMO CALCULO 14'!$B$12:$E$343,4,0),0) -> 0 | M23: =L23*H23 -> 0 | N23: =L23/G23 -> 0 | O23: =I23+L23 -> 12 | P23: =J23+M23 -> 9555.5711 | Q23: =K23+N23 -> 1
A24: 2 | B24: SERVIÇOS PRELIMINARES | M24: =SUM(M25:M51) -> 0 | P24: =SUM(P25:P51) -> 79297.492
A25: 2.1 | B25: Remoção de pintura antiga a óleo ou esmalte | C25: m2 | D25: 58.95 | E25: 0 | G25: =D25+E25-F25 -> 58.95 | H25: 14.431877 | I25: 44.15 | J25: =I25*H25 -> 637.16736 | K25: =I25/G25 -> 0.74893978 | L25: =IFERROR(VLOOKUP(A25,'MEMO CALCULO 14'!$B$12:$E$343,4,0),0) -> 0 | M25: =L25*H25 -> 0 | N25: =L25/G25 -> 0 | O25: =I25+L25 -> 44.15 | P25: =J25+M25 -> 637.16736 | Q25: =K25+N25 -> 0.74893978
A26: 2.2 | B26: Retirada de pontos elétricos (luminárias, interruptores e tomadas) | C26: und | D26: 67 | E26: 0 | G26: =D26+E26-F26 -> 67 | H26: 11.634313 | I26: 67 | J26: =I26*H26 -> 779.49897 | K26: =I26/G26 -> 1 | L26: =IFERROR(VLOOKUP(A26,'MEMO CALCULO 14'!$B$12:$E$343,4,0),0) -> 0 | M26: =L26*H26 -> 0 | N26: =L26/G26 -> 0 | O26: =I26+L26 -> 67 | P26: =J26+M26 -> 779.49897 | Q26: =K26+N26 -> 1
A27: 2.3 | B27: Retirada de caixas/quadros elétricos | C27: und | D27: 4 | E27: 0 | G27: =D27+E27-F27 -> 4 | H27: 15.797354 | I27: 4 | J27: =I27*H27 -> 63.189417 | K27: =I27/G27 -> 1 | L27: =IFERROR(VLOOKUP(A27,'MEMO CALCULO 14'!$B$12:$E$343,4,0),0) -> 0 | M27: =L27*H27 -> 0 | N27: =L27/G27 -> 0 | O27: =I27+L27 -> 4 | P27: =J27+M27 -> 63.189417 | Q27: =K27+N27 -> 1
A28: 2.4 | B28: Retirada de disjuntor | C28: und | D28: 19 | E28: 0 | G28: =D28+E28-F28 -> 19 | H28: 21.725525 | I28: 19 | J28: =I28*H28 -> 412.78498 | K28: =I28/G28 -> 1 | L28: =IFERROR(VLOOKUP(A28,'MEMO CALCULO 14'!$B$12:$E$343,4,0),0) -> 0 | M28: =L28*H28 -> 0 | N28: =L28/G28 -> 0 | O28: =I28+L28 -> 19 | P28: =J28+M28 -> 412.78498 | Q28: =K28+N28 -> 1
A29: 2.5 | B29: Retirada de vidros quebrados | C29: m2 | D29: 2.94 | E29: 0 | G29: =D29+E29-F29 -> 2.94 | H29: 3.752288 | I29: 2.94 | J29: =I29*H29 -> 11.031727 | K29: =I29/G29 -> 1 | L29: =IFERROR(VLOOKUP(A29,'MEMO CALCULO 14'!$B$12:$E$343,4,0),0) -> 0 | M29: =L29*H29 -> 0 | N29: =L29/G29 -> 0 | O29: =I29+L29 -> 2.94 | P29: =J29+M29 -> 11.031727 | Q29: =K29+N29 -> 1
A30: 2.6 | B30: Demolição de revestimento com azulejos | C30: m2 | D30: 127.76 | E30: 0 | G30: =D30+E30-F30 -> 127.76 | H30: 53.164814 | I30: 127.76 | J30: =I30*H30 -> 6792.3366 | K30: =I30/G30 -> 1 | L30: =IFERROR(VLOOKUP(A30,'MEMO CALCULO 14'!$B$12:$E$343,4,0),0) -> 0 | M30: =L30*H30 -> 0 | N30: =L30/G30 -> 0 | O30: =I30+L30 -> 127.76 | P30: =J30+M30 -> 6792.3366 | Q30: =K30+N30 -> 1
A31: 2.7 | B31: Retirada de portas e janelas de madeira, inclusive batentes | C31: m2 | D31: 13.02 | E31: 0 | G31: =D31+E31-F31 -> 13.02 | H31: 17.007412 | I31: 13.02 | J31: =I31*H31 -> 221.4365 | K31: =I31/G31 -> 1 | L31: =IFERROR(VLOOKUP(A31,'MEMO CALCULO 14'!$B$12:$E$343,4,0),0) -> 0 | M31: =L31*H31 -> 0 | N31: =L31/G31 -> 0 | O31: =I31+L31 -> 13.02 | P31: =J31+M31 -> 221.4365 | Q31: =K31+N31 -> 1
A32: 2.8 | B32: Retirada de bandeira de porta | C32: und | D32: 2 | E32: 0 | G32: =D32+E32-F32 -> 2 | H32: 32.327404 | I32: 2 | J32: =I32*H32 -> 64.654808 | K32: =I32/G32 -> 1 | L32: =IFERROR(VLOOKUP(A32,'MEMO CALCULO 14'!$B$12:$E$343,4,0),0) -> 0 | M32: =L32*H32 -> 0 | N32: =L32/G32 -> 0 | O32: =I32+L32 -> 2 | P32: =J32+M32 -> 64.654808 | Q32: =K32+N32 -> 1
A33: 2.9 | B33: Lixamento de parede com pintura antiga PVA para recebimento de nova camada de tinta | C33: m2 | D33: 946.29 | E33: 0 | G33: =D33+E33-F33 -> 946.29 | H33: 4.0076212 | I33: 946.29 | J33: =I33*H33 -> 3792.3718 | K33: =I33/G33 -> 1 | L33: =IFERROR(VLOOKUP(A33,'MEMO CALCULO 14'!$B$12:$E$343,4,0),0) -> 0 | M33: =L33*H33 -> 0 | N33: =L33/G33 -> 0 | O33: =I33+L33 -> 946.29 | P33: =J33+M33 -> 3792.3718 | Q33: =K33+N33 -> 1
A34: 2.10 | B34: Retirada de revestimento antigo em reboco | C34: m2 | D34: 550.74 | E34: 0 | G34: =D34+E34-F34 -> 550.74 | H34: 10.635183 | I34: 550.74 | J34: =I34*H34 -> 5857.2207 | K34: =I34/G34 -> 1 | L34: =IFERROR(VLOOKUP(A34,'MEMO CALCULO 14'!$B$12:$E$343,4,0),0) -> 0 | M34: =L34*H34 -> 0 | N34: =L34/G34 -> 0 | O34: =I34+L34 -> 550.74 | P34: =J34+M34 -> 5857.2207 | Q34: =K34+N34 -> 1
A35: 2.11 | B35: Retirada de aparelhos sanitários | C35: und | D35: 13 | E35: 0 | G35: =D35+E35-F35 -> 13 | H35: 21.99196 | I35: 13 | J35: =I35*H35 -> 285.89548 | K35: =I35/G35 -> 1 | L35: =IFERROR(VLOOKUP(A35,'MEMO CALCULO 14'!$B$12:$E$343,4,0),0) -> 0 | M35: =L35*H35 -> 0 | N35: =L35/G35 -> 0 | O35: =I35+L35 -> 13 | P35: =J35+M35 -> 285.89548 | Q35: =K35+N35 -> 1
A36: 2.12 | B36: Demolição de alvenaria | C36: m3 | D36: 4.281 | E36: 0 | G36: =D36+E36-F36 -> 4.281 | H36: 63.788895 | I36: 4.28 | J36: =I36*H36 -> 273.01647 | K36: =I36/G36 -> 0.99976641 | L36: =IFERROR(VLOOKUP(A36,'MEMO CALCULO 14'!$B$12:$E$343,4,0),0) -> 0 | M36: =L36*H36 -> 0 | N36: =L36/G36 -> 0 | O36: =I36+L36 -> 4.28 | P36: =J36+M36 -> 273.01647 | Q36: =K36+N36 -> 0.99976641
... A51: 2.27 | B51: Limpeza de superfície com jato de alta pressão. | C51: m2 | D51: 75.8 | E51: 3075.01 | G51: =D51+E51-F51 -> 3150.81 | H51: 1.6995755 | I51: 3150.81 | J51: =I51*H51 -> 5355.0395 | K51: =I51/G51 -> 1 | L51: =IFERROR(VLOOKUP(A51,'MEMO CALCULO 14'!$B$12:$E$343,4,0),0) -> 0 | M51: =L51*H51 -> 0 | N51: =L51/G51 -> 0 | O51: =I51+L51 -> 3150.81 | P51: =J51+M51 -> 5355.0395 | Q51: =K51+N51 -> 1
A52: 3 | B52: MOVIMENTAÇÃO DE TERRA | M52: =SUM(M53:M55) -> 0 | P52: =SUM(P53:P55) -> 6910.4963
A53: 3.1.1 | B53: Escavação manual em material de 1a. categoria, até 1.50 m de profundidade | C53: m3 | D53: 57.839 | E53: 9.36 | G53: =D53+E53-F53 -> 67.199 | H53: 60.90252 | I53: 67.198 | J53: =I53*H53 -> 4092.5275 | K53: =I53/G53 -> 0.99998512 | L53: =IFERROR(VLOOKUP(A53,'MEMO CALCULO 14'!$B$12:$E$343,4,0),0) -> 0 | M53: =L53*H53 -> 0 | N53: =L53/G53 -> 0 | O53: =I53+L53 -> 67.198 | P53: =J53+M53 -> 4092.5275 | Q53: =K53+N53 -> 0.99998512
A54: 3.1.2 | B54: Reaterro apiloado de cavas de fundação, em camadas de 20 cm | C54: m3 | D54: 7.59 | E54: 6.65 | G54: =D54+E54-F54 -> 14.24 | H54: 65.587329 | I54: 14.24 | J54: =I54*H54 -> 933.96357 | K54: =I54/G54 -> 1 | L54: =IFERROR(VLOOKUP(A54,'MEMO CALCULO 14'!$B$12:$E$343,4,0),0) -> 0 | M54: =L54*H54 -> 0 | N54: =L54/G54 -> 0 | O54: =I54+L54 -> 14.24 | P54: =J54+M54 -> 933.96357 | Q54: =K54+N54 -> 1
A55: 3.1.3 | B55: Aterro manual de valas com solo argilo-arenoso e compactação mecanizada | C55: m3 | D55: 35.56 | E55: 0 | G55: =D55+E55-F55 -> 35.56 | H55: 81.984562 | I55: 22.98 | J55: =I55*H55 -> 1884.0052 | K55: =I55/G55 -> 0.64623172 | L55: =IFERROR(VLOOKUP(A55,'MEMO CALCULO 14'!$B$12:$E$343,4,0),0) -> 0 | M55: =L55*H55 -> 0 | N55: =L55/G55 -> 0 | O55: =I55+L55 -> 22.98 | P55: =J55+M55 -> 1884.0052 | Q55: =K55+N55 -> 0.64623172
A56: 4 | B56: INFRAESTRUTURA E SUPERESTRUTURA | M56: =SUM(M58:M70) -> 41451.74 | P56: =SUM(P58:P70) -> 94644.372
A57: 4.1 | B57: INFRAESTRUTURA
A58: 4.1.1 | B58: Fornecimento, preparo e aplicação de concreto magro com consumo mínimo de cimento de 250 kg/m3 (brita 1 e 2) - (5% de perdas já incluído no custo) | C58: m3 | D58: 1.118925 | E58: 1.62 | G58: =D58+E58-F58 -> 2.738925 | H58: 732.25122 | I58: 2.738925 | J58: =I58*H58 -> 2005.5812 | K58: =I58/G58 -> 1 | L58: =IFERROR(VLOOKUP(A58,'MEMO CALCULO 14'!$B$12:$E$343,4,0),0) -> 0 | M58: =L58*H58 -> 0 | N58: =L58/G58 -> 0 | O58: =I58+L58 -> 2.738925 | P58: =J58+M58 -> 2005.5812 | Q58: =K58+N58 -> 1
A59: 4.1.2 | B59: Fôrma de chapa compensada resinada 12mm, levando-se em conta a utilização 3 vezes (incluido o material, corte, montagem, escoramento e desfôrma) | C59: m2 | D59: 102.98 | E59: 32.34 | G59: =D59+E59-F59 -> 135.32 | H59: 92.164185 | I59: 133.09 | J59: =I59*H59 -> 12266.131 | K59: =I59/G59 -> 0.98352054 | L59: =IFERROR(VLOOKUP(A59,'MEMO CALCULO 14'!$B$12:$E$343,4,0),0) -> 2.23 | M59: =L59*H59 -> 205.52613 | N59: =L59/G59 -> 0.016479456 | O59: =I59+L59 -> 135.32 | P59: =J59+M59 -> 12471.658 | Q59: =K59+N59 -> 1
A60: 4.1.3 | B60: Fornecimento, dobragem e colocação em fôrma, de armadura CA-60 B fina, diâmetro de 4.0 a 7.0mm | C60: kg | D60: 271.12 | E60: 72.02 | G60: =D60+E60-F60 -> 343.14 | H60: 12.333704 | I60: 343.14 | J60: =I60*H60 -> 4232.1872 | K60: =I60/G60 -> 1 | L60: =IFERROR(VLOOKUP(A60,'MEMO CALCULO 14'!$B$12:$E$343,4,0),0) -> 0 | M60: =L60*H60 -> 0 | N60: =L60/G60 -> 0 | O60: =I60+L60 -> 343.14 | P60: =J60+M60 -> 4232.1872 | Q60: =K60+N60 -> 1
A61: 4.1.4 | B61: Fornecimento, dobragem e colocação em fôrma, de armadura CA-50 A média, diâmetro de 6.3 a 10.0 mm | C61: kg | D61: 487.91 | E61: 223.01 | G61: =D61+E61-F61 -> 710.92 | H61: 11.856342 | I61: 710.92 | J61: =I61*H61 -> 8428.9105 | K61: =I61/G61 -> 1 | L61: =IFERROR(VLOOKUP(A61,'MEMO CALCULO 14'!$B$12:$E$343,4,0),0) -> 0 | M61: =L61*H61 -> 0 | N61: =L61/G61 -> 0 | O61: =I61+L61 -> 710.92 | P61: =J61+M61 -> 8428.9105 | Q61: =K61+N61 -> 1
A62: 4.1.5 | B62: Fornecimento, dobragem e colocação em fôrma, de armadura CA-50 A grossa diâmetro de 12.5 a 25.0 mm (1/2 a 1") | C62: kg | D62: 222.05 | E62: 0 | G62: =D62+E62-F62 -> 222.05 | H62: 12.511327 | I62: 142.27 | J62: =I62*H62 -> 1779.9865 | K62: =I62/G62 -> 0.64071155 | L62: =IFERROR(VLOOKUP(A62,'MEMO CALCULO 14'!$B$12:$E$343,4,0),0) -> 0 | M62: =L62*H62 -> 0 | N62: =L62/G62 -> 0 | O62: =I62+L62 -> 142.27 | P62: =J62+M62 -> 1779.9865 | Q62: =K62+N62 -> 0.64071155
A63: 4.1.6 | B63: Fornecimento, preparo e aplicação de concreto Fck=25 MPa (brita 1 e 2) - (5% de perdas já incluído no custo) | C63: m3 | D63: 14.67 | E63: 5.13 | G63: =D63+E63-F63 -> 19.8 | H63: 807.55232 | I63: 19.8 | J63: =I63*H63 -> 15989.536 | K63: =I63/G63 -> 1 | L63: =IFERROR(VLOOKUP(A63,'MEMO CALCULO 14'!$B$12:$E$343,4,0),0) -> 0 | M63: =L63*H63 -> 0 | N63: =L63/G63 -> 0 | O63: =I63+L63 -> 19.8 | P63: =J63+M63 -> 15989.536 | Q63: =K63+N63 -> 1
A64: 4.1.7 | B64: Aplicação de lona plástica para execução de pavimentos de concreto | C64: m² | D64: 69.32 | E64: 0 | G64: =D64+E64-F64 -> 69.32 | H64: 1.6606872 | I64: 69.32 | J64: =I64*H64 -> 115.11883 | K64: =I64/G64 -> 1 | L64: =IFERROR(VLOOKUP(A64,'MEMO CALCULO 14'!$B$12:$E$343,4,0),0) -> 0 | M64: =L64*H64 -> 0 | N64: =L64/G64 -> 0 | O64: =I64+L64 -> 69.32 | P64: =J64+M64 -> 115.11883 | Q64: =K64+N64 -> 1
A65: 4.2 | B65: SUPERESTRUTURA
...

Sheet MEMO CALCULO 14
B2: PREFEITURA MUNICIPAL DE SÃO ROQUE DO CANAÃ
B8: MEMÓRIA DE CÁLCULO 14ª MEDIÇÃO
B9: OBRA: REFORMA DE QUATRO QUADRAS POLIESPORTIVAS LOCALIZADAS EM SÃO JACINTO, VILA VERDE, SÃO BENTO E CÓRREGO SAÚDE, REFORMA E AMPLIAÇÃO DE UMA QUADRA POLIESPORTIVA, LOCALIZADA NA COMUNIDADE DE ALTO SANTA LUZIA, DISTRITO DE SANTA JÚLIA, NESTE MUNICÍPIO. | D9: DATA: 30/03/2026
B10: LOCAL: AVENIDA SEVERINO SIMONASSI, DISTRITO DE SÃO JACINTO; RUA JOSÉ CARLOS VOLPI, VILA VERDE; AVENIDA CATARINA GUIDONI VOLPI, SÃO BENTO; RODOVIA ES-080, COMUNIDADE DE NOSSA SENHORA DA SAÚDE, DISTRITO DE SÃO JACINTO; COMUNIDADE DE SANTA LUZIA, ZONA RURAL, DISTRITO DE SANTA JÚLIA. SÃO ROQUE DO CANAÃ
B11: ITEM | C11: DESCRIÇÃO | D11: UND | E11: QUANT.
B12: 1 | C12: =VLOOKUP(B12,'MEDIÇÃO 14'!$A$20:$C$262,2,0) -> INSTALAÇÃO DO CANTEIRO DE OBRAS
B13: 1.1 | C13: =VLOOKUP($B13,'MEDIÇÃO 14'!$A$20:$C$233,2,0) -> Placa de obra nas dimensões de 2.0 x 4.0 m, padrão DER | D13: =VLOOKUP($B13,'MEDIÇÃO 14'!$A$20:$C$233,3,0) -> m2 | E13: =D15 -> 8
B14: QUADRA SANTA LUZIA
B15: Placa de Obra: 2,00 m x 4,00 m = 8,00 m² | D15: 8
B17: 4 | C17: =VLOOKUP(B17,'MEDIÇÃO 14'!$A$20:$C$262,2,0) -> INFRAESTRUTURA E SUPERESTRUTURA
B18: 4.1.2 | C18: =VLOOKUP($B18,'MEDIÇÃO 14'!$A$20:$C$233,2,0) -> Fôrma de chapa compensada resinada 12mm, levando-se em conta a utilização 3 vezes (incluido o material, corte, montagem, escoramento e desfôrma) | D18: =VLOOKUP($B18,'MEDIÇÃO 14'!$A$20:$C$233,3,0) -> m2 | E18: =SUM(D20) -> 2.23
B19: QUADRA SANTA LUZIA
B20: laje do pavimento térreo: (13,46 m x 0,06 m x 2 lados) + (5,15 m x 0,06 m x 2 lados) = 2,23 m² | D20: 2.23
B21: 4.2.1 | C21: =VLOOKUP($B21,'MEDIÇÃO 14'!$A$20:$C$233,2,0) -> Fornecimento, dobragem e colocação em fôrma, de armadura CA-50 A média, diâmetro de 6.3 a 10.0 mm | D21: =VLOOKUP($B21,'MEDIÇÃO 14'!$A$20:$C$233,3,0) -> kg | E21: =SUM(D24:D47) -> 560.26
B22: QUADRA SANTA LUZIA (REAL EXECUTADO CONFORME PROJETO E ORIENTAÇÃO DA FISCALIZAÇÃO)
B23: Vigas pavimento inferior diâmetro 10,00 mm
B24: Executado conforme in loco: ((5,2*8)+(20,8-8)+20,8+1,6+1,2) + dobras (8*4*0,1)+(4*4*0,1).: 82,80 m x 2 barras = 165,60 m x 0,617 kg/m = 102,18 kg (medidas externas da viga + dobras) | D24: 102.18
B25: Vigas pavimento inferior diâmetro 5.0 mm
B26: Estribos = 73,20 m (sem dobras) / 0,15 m = 488,00 estribos x 1,06 m = 517,28 m x 0,154 kg/m = 79,66 kg | D26: 79.66
B27: Vigas do pavimento do palco com seção diminuída (8,00 m) – 15x40 cm
B28: Ferragem: 8,20 m x 2 barras = 16,40 m x 0,617 kg/m = 10,12 kg | D28: 10.12
B29: Estribos = 8,00 m (sem dobras) / 0,15 m = 53,00 estribos x 1,06 m = 56,18 m x 0,154 kg/m = 8,65 kg | D29: 8.65
B30: Vigas curtas armadura inferior (1,6 m +1,2 m) – 15x40 cm
B31: Ferragem: 2,80 m x 2 barras = 5,60 m x 0,617 kg/m = 3,46 kg | D31: 3.46
B32: Diâmetro de 6.3 mm (laje)
B33: Estribos = ((5,30+7,90)/0,30)x5,20m.: 228,80 m x 0,245 kg.: 56,06 Kg + ((5,20)/0,30)x7,50m.: 127,50 m x 0,245 kg.: 31,24 Kg.: 87,30 kg | D33: 87.3
B34: P 01 = P 02 = P 11 = P 12 - PILARES 15x30 – 8 barras 10 mm
B35: Arranque+Subsolo: 1,00 m + 0,20 m (dobra da esteira) + 0,40 m (espera) + 2,60 m + 0,40 m (espera).: 4,60 m
B36: 8 barras x 4 Pilares x 4,60 m x 0,617 kg/m.: 90,82 Kg | D36: 90.82
B37: P 05 = P 06 = P 09 = P 10 - PILARES 15x35 – 8 barras 10 mm
B38: Arranque+Subsolo: 1,00 m + 0,20 m (dobra da esteira) + 0,40 m (espera) + 2,60 m + 0,40 m (espera).: 4,60 m
B39: 8 barras x 4 Pilares x 4,60 m x 0,617 kg/m.: 90,82 Kg | D39: 90.82
B40: P 03 = P 07 - PILARES 15x40 – 8 barras 10 mm
B41: Arranque+Subsolo: 1,00 m + 0,20 m (dobra da esteira) + 0,40 m (espera) + 2,60 m + 0,40 m (espera).: 4,60 m
B42: 8 barras x 2 Pilares x 4,60 m x 0,617 kg/m.: 45,41 Kg | D42: 45.41
B43: ESTRIBOS DOS PILARES DO PALCO DE SANTA LUZIA
B44: P 01 = P 02 = P 11 = P 12 - (15x30): 0,86 m x 24 estribos (3,60m/0,15m) x 4 Pilares x 0,154 Kg/m.: 12,71 Kg | D44: 12.71
B45: P 05 = P 06 = P 09 = P 10 - (15x35): 0,96 m x 24 estribos (3,60m/0,15m) x 4 Pilares x 0,154 Kg/m.: 14,19 Kg | D45: 14.19
B46: P 04 = P 08 - PILARES 20x30 - (20x30): 0,96 m x 24 estribos (3,60m/0,15m) x 2 Pilares x 0,154 Kg/m.: 7,10 Kg | D46: 7.1
B47: P 03 = P 07 - PILARES 15x40 – (15x40): 1,06 m x 24 estribos (3,60m/0,15m) x 2 Pilares x 0,154 Kg/m.: 7,84 Kg | D47: 7.84
...
