Workbook

Sheet MEDIÇÃO 1
A1: PREFEITURA MUNICIPAL DE SO ROQUE DO CANA Estado do Esprito Santo SECRETARIA MUNICIPAL DE OBRAS E SERVIÇOS URBANOS – SETOR DE ENGENHARIA
A13: BOLETIM DE | E13: =I18 -> MEDIÇÃO 01 | K13: DATA: 24/02/2025
A14: Obra: REFORMA E AMPLIAÇÃO DA ‘’EMEI SÃO ROQUE’’, NESTE MUNICÍPIO. | D14: CONTRATO Nº: | F14: 164/2024 | H14: Assinatura: 18/12/2024 | K14: INÍCIO: | M14: 45659
K15: TÉRMINO: | M15: 45749
A16: LOCAL: RUA LOURENÇO ROLDI, N° 436, BAIRRO SÃO ROQUINHO, SÃO ROQUE DO CANAÃ | D16: PERÍODO: | F16: 45659 | H16: a | I16: 45695 | K16: PRAZO: | M16: 90 DIAS
A17: EMPREITEIRA: MENDONÇA CONSTRUÇÕES LTDA | F17: =I18 -> MEDIÇÃO 01 | I17: =L289 -> 151346.04 | K17: % MÊS: | L17: =H289 -> 0.31269843 | M17: % ACUM: | N17: =H290 -> 0.31269843
A18: ITEM | B18: ESPECIFICAÇÃO | C18: UNID. | D18: QUANT. | E18: PREÇO UNIT R$ | F18: ACUMULADO ANTERIOR | I18: MEDIÇÃO 01 | L18: TOTAL MEDIDO
F19: QUANT. | G19: TOTAL | H19: % | I19: QUANT. | J19: TOTAL | K19: % | L19: QUANT. | M19: TOTAL | N19: %
A20: 1 | B20: INSTALAÇÃO DO CANTEIRO DE OBRAS | J20: =SUM(J21:J23) -> 2339.1127 | M20: =SUM(M21:M23) -> 2339.1127
A21: 1.1 | B21: Placa de obra nas dimensões de 2.0 x 4.0 m, padrão DER | C21: m2 | D21: 8 | E21: 254.81764 | F21: 0 | G21: =F21*E21 -> 0 | H21: =IFERROR(F21/D21,0) -> 0 | I21: =IFERROR(VLOOKUP(A21,'MEMO CALCULO 01'!$B$2:$E$248,4,0),0) -> 8 | J21: =I21*E21 -> 2038.5411 | K21: =IFERROR(I21/D21,0) -> 1 | L21: =F21+I21 -> 8 | M21: =G21+J21 -> 2038.5411 | N21: =H21+K21 -> 1
A22: 1.2 | B22: Tapume Telha Metálica Ondulada em aço galvalume 0,50mm Branca h=2,20m, incl. montagem estr. mad. 8"x8", c/adesivo "DER-ES" 60x60cm a cada 10m, incl. faixas pint. esmalte sint. cores azul c/ h=30cm e rosa c/ h=10cm (Reaproveitamento 2x) | C22: m | D22: 0 | E22: 158.56243 | F22: 0 | G22: =F22*E22 -> 0 | H22: =IFERROR(F22/D22,0) -> 0 | I22: =IFERROR(VLOOKUP(A22,'MEMO CALCULO 01'!$B$2:$E$248,4,0),0) -> 0 | J22: =I22*E22 -> 0 | K22: =IFERROR(I22/D22,0) -> 0 | L22: =F22+I22 -> 0 | M22: =G22+J22 -> 0 | N22: =H22+K22 -> 0
A23: 1.3 | B23: Locação de andaime metálico para trabalho em fachada de edifíco (aluguel de 1 m² por 1 mês) inclusive frete, montagem e desmontagem | C23: m2 | D23: 12.25 | E23: 24.536456 | F23: 0 | G23: =F23*E23 -> 0 | H23: =IFERROR(F23/D23,0) -> 0 | I23: =IFERROR(VLOOKUP(A23,'MEMO CALCULO 01'!$B$2:$E$248,4,0),0) -> 12.25 | J23: =I23*E23 -> 300.57159 | K23: =IFERROR(I23/D23,0) -> 1 | L23: =F23+I23 -> 12.25 | M23: =G23+J23 -> 300.57159 | N23: =H23+K23 -> 1
A24: 2 | B24: SERVIÇOS PRELIMINARES | J24: =SUM(J25:J50) -> 0 | M24: =SUM(M25:M50) -> 0
A25: 2.1 | B25: Demolição de revestimento com azulejos | C25: m2 | D25: 8.11 | E25: 52.241252 | F25: 0 | G25: =F25*E25 -> 0 | H25: =IFERROR(F25/D25,0) -> 0 | I25: =IFERROR(VLOOKUP(A25,'MEMO CALCULO 01'!$B$2:$E$248,4,0),0) -> 0 | J25: =I25*E25 -> 0 | K25: =IFERROR(I25/D25,0) -> 0 | L25: =F25+I25 -> 0 | M25: =G25+J25 -> 0 | N25: =H25+K25 -> 0
A26: 2.2 | B26: Lixamento de parede com pintura antiga PVA para recebimento de nova camada de tinta | C26: m2 | D26: 0 | E26: 3.926664 | F26: 0 | G26: =F26*E26 -> 0 | H26: =IFERROR(F26/D26,0) -> 0 | I26: =IFERROR(VLOOKUP(A26,'MEMO CALCULO 01'!$B$2:$E$248,4,0),0) -> 0 | J26: =I26*E26 -> 0 | K26: =IFERROR(I26/D26,0) -> 0 | L26: =F26+I26 -> 0 | M26: =G26+J26 -> 0 | N26: =H26+K26 -> 0
A27: 2.3 | B27: Demolição de piso revestido com cerâmica | C27: m2 | D27: 0 | E27: 14.626304 | F27: 0 | G27: =F27*E27 -> 0 | H27: =IFERROR(F27/D27,0) -> 0 | I27: =IFERROR(VLOOKUP(A27,'MEMO CALCULO 01'!$B$2:$E$248,4,0),0) -> 0 | J27: =I27*E27 -> 0 | K27: =IFERROR(I27/D27,0) -> 0 | L27: =F27+I27 -> 0 | M27: =G27+J27 -> 0 | N27: =H27+K27 -> 0
A28: 2.4 | B28: Retirada de grades, gradis, alambrados, cercas e portões | C28: m2 | D28: 0 | E28: 18.417924 | F28: 0 | G28: =F28*E28 -> 0 | H28: =IFERROR(F28/D28,0) -> 0 | I28: =IFERROR(VLOOKUP(A28,'MEMO CALCULO 01'!$B$2:$E$248,4,0),0) -> 0 | J28: =I28*E28 -> 0 | K28: =IFERROR(I28/D28,0) -> 0 | L28: =F28+I28 -> 0 | M28: =G28+J28 -> 0 | N28: =H28+K28 -> 0
A29: 2.5 | B29: Retirada de revestimento antigo em reboco | C29: m2 | D29: 50.99 | E29: 10.450328 | F29: 0 | G29: =F29*E29 -> 0 | H29: =IFERROR(F29/D29,0) -> 0 | I29: =IFERROR(VLOOKUP(A29,'MEMO CALCULO 01'!$B$2:$E$248,4,0),0) -> 0 | J29: =I29*E29 -> 0 | K29: =IFERROR(I29/D29,0) -> 0 | L29: =F29+I29 -> 0 | M29: =G29+J29 -> 0 | N29: =H29+K29 -> 0
A30: 2.6 | B30: Retirada de portas e janelas de madeira, inclusive batentes | C30: m2 | D30: 0 | E30: 16.714292 | F30: 0 | G30: =F30*E30 -> 0 | H30: =IFERROR(F30/D30,0) -> 0 | I30: =IFERROR(VLOOKUP(A30,'MEMO CALCULO 01'!$B$2:$E$248,4,0),0) -> 0 | J30: =I30*E30 -> 0 | K30: =IFERROR(I30/D30,0) -> 0 | L30: =F30+I30 -> 0 | M30: =G30+J30 -> 0 | N30: =H30+K30 -> 0
A31: 2.7 | B31: Retirada de esquadrias metálicas | C31: m2 | D31: 0 | E31: 10.450328 | F31: 0 | G31: =F31*E31 -> 0 | H31: =IFERROR(F31/D31,0) -> 0 | I31: =IFERROR(VLOOKUP(A31,'MEMO CALCULO 01'!$B$2:$E$248,4,0),0) -> 0 | J31: =I31*E31 -> 0 | K31: =IFERROR(I31/D31,0) -> 0 | L31: =F31+I31 -> 0 | M31: =G31+J31 -> 0 | N31: =H31+K31 -> 0
A32: 2.8 | B32: Retirada de aparelhos sanitários | C32: und | D32: 0 | E32: 21.60704 | F32: 0 | G32: =F32*E32 -> 0 | H32: =IFERROR(F32/D32,0) -> 0 | I32: =IFERROR(VLOOKUP(A32,'MEMO CALCULO 01'!$B$2:$E$248,4,0),0) -> 0 | J32: =I32*E32 -> 0 | K32: =IFERROR(I32/D32,0) -> 0 | L32: =F32+I32 -> 0 | M32: =G32+J32 -> 0 | N32: =H32+K32 -> 0
A33: 2.9 | B33: Retirada de torneiras e registros | C33: und | D33: 0 | E33: 11.187876 | F33: 0 | G33: =F33*E33 -> 0 | H33: =IFERROR(F33/D33,0) -> 0 | I33: =IFERROR(VLOOKUP(A33,'MEMO CALCULO 01'!$B$2:$E$248,4,0),0) -> 0 | J33: =I33*E33 -> 0 | K33: =IFERROR(I33/D33,0) -> 0 | L33: =F33+I33 -> 0 | M33: =G33+J33 -> 0 | N33: =H33+K33 -> 0
A34: 2.10 | B34: Retirada de rodapé de madeira ou cerâmica | C34: m | D34: 0 | E34: 2.430792 | F34: 0 | G34: =F34*E34 -> 0 | H34: =IFERROR(F34/D34,0) -> 0 | I34: =IFERROR(VLOOKUP(A34,'MEMO CALCULO 01'!$B$2:$E$248,4,0),0) -> 0 | J34: =I34*E34 -> 0 | K34: =IFERROR(I34/D34,0) -> 0 | L34: =F34+I34 -> 0 | M34: =G34+J34 -> 0 | N34: =H34+K34 -> 0
A35: 2.11 | B35: Demolição de alvenaria | C35: m3 | D35: 0.3 | E35: 62.69158 | F35: 0 | G35: =F35*E35 -> 0 | H35: =IFERROR(F35/D35,0) -> 0 | I35: =IFERROR(VLOOKUP(A35,'MEMO CALCULO 01'!$B$2:$E$248,4,0),0) -> 0 | J35: =I35*E35 -> 0 | K35: =IFERROR(I35/D35,0) -> 0 | L35: =F35+I35 -> 0 | M35: =G35+J35 -> 0 | N35: =H35+K35 -> 0
A36: 2.12 | B36: Retirada de bancada de pia | C36: m2 | D36: 0 | E36: 25.928448 | F36: 0 | G36: =F36*E36 -> 0 | H36: =IFERROR(F36/D36,0) -> 0 | I36: =IFERROR(VLOOKUP(A36,'MEMO CALCULO 01'!$B$2:$E$248,4,0),0) -> 0 | J36: =I36*E36 -> 0 | K36: =IFERROR(I36/D36,0) -> 0 | L36: =F36+I36 -> 0 | M36: =G36+J36 -> 0 | N36: =H36+K36 -> 0
... A50: 2.26 | B50: Lixamento manual em superfícies metálicas em obra | C50: m2 | D50: 115.68 | E50: 8.8640516 | F50: 0 | G50: =F50*E50 -> 0 | H50: =IFERROR(F50/D50,0) -> 0 | I50: =IFERROR(VLOOKUP(A50,'MEMO CALCULO 01'!$B$2:$E$248,4,0),0) -> 0 | J50: =I50*E50 -> 0 | K50: =IFERROR(I50/D50,0) -> 0 | L50: =F50+I50 -> 0 | M50: =G50+J50 -> 0 | N50: =H50+K50 -> 0
A51: 3 | B51: INFRAESTRUTURA | J51: =SUM(J52:J60) -> 0 | M51: =SUM(M52:M60) -> 0
A52: 3.1.1 | B52: Escavação manual em material de 1a. categoria, até 1.50 m de profundidade | C52: m3 | D52: 3.72 | E52: 59.855656 | F52: 0 | G52: =F52*E52 -> 0 | H52: =IFERROR(F52/D52,0) -> 0 | I52: =IFERROR(VLOOKUP(A52,'MEMO CALCULO 01'!$B$2:$E$248,4,0),0) -> 0 | J52: =I52*E52 -> 0 | K52: =IFERROR(I52/D52,0) -> 0 | L52: =F52+I52 -> 0 | M52: =G52+J52 -> 0 | N52: =H52+K52 -> 0
A53: 3.1.2 | B53: Pintura impermeabilizante com igolflex ou equivalente a 3 demãos | C53: m2 | D53: 12.51 | E53: 45.582544 | F53: 0 | G53: =F53*E53 -> 0 | H53: =IFERROR(F53/D53,0) -> 0 | I53: =IFERROR(VLOOKUP(A53,'MEMO CALCULO 01'!$B$2:$E$248,4,0),0) -> 0 | J53: =I53*E53 -> 0 | K53: =IFERROR(I53/D53,0) -> 0 | L53: =F53+I53 -> 0 | M53: =G53+J53 -> 0 | N53: =H53+K53 -> 0
A54: 3.1.3 | B54: Fornecimento, preparo e aplicação de concreto magro com consumo mínimo de cimento de 250 kg/m3 (brita 1 e 2) - (5% de perdas já incluído no custo) | C54: m3 | D54: 0.22 | E54: 692.03817 | F54: 0 | G54: =F54*E54 -> 0 | H54: =IFERROR(F54/D54,0) -> 0 | I54: =IFERROR(VLOOKUP(A54,'MEMO CALCULO 01'!$B$2:$E$248,4,0),0) -> 0 | J54: =I54*E54 -> 0 | K54: =IFERROR(I54/D54,0) -> 0 | L54: =F54+I54 -> 0 | M54: =G54+J54 -> 0 | N54: =H54+K54 -> 0
A55: 3.1.4 | B55: Fôrma de tábua de madeira de 2.5 x 30.0 cm para fundações, levando-se em conta a utilização 5 vezes (incluido o material, corte, montagem, escoramento e desforma) | C55: m2 | D55: 12.51 | E55: 86.313892 | F55: 0 | G55: =F55*E55 -> 0 | H55: =IFERROR(F55/D55,0) -> 0 | I55: =IFERROR(VLOOKUP(A55,'MEMO CALCULO 01'!$B$2:$E$248,4,0),0) -> 0 | J55: =I55*E55 -> 0 | K55: =IFERROR(I55/D55,0) -> 0 | L55: =F55+I55 -> 0 | M55: =G55+J55 -> 0 | N55: =H55+K55 -> 0
A56: 3.1.5 | B56: Fornecimento, preparo e aplicação de concreto Fck=25 MPa (brita 1 e 2) - (5% de perdas já incluído no custo) | C56: m3 | D56: 1.54 | E56: 758.4071 | F56: 0 | G56: =F56*E56 -> 0 | H56: =IFERROR(F56/D56,0) -> 0 | I56: =IFERROR(VLOOKUP(A56,'MEMO CALCULO 01'!$B$2:$E$248,4,0),0) -> 0 | J56: =I56*E56 -> 0 | K56: =IFERROR(I56/D56,0) -> 0 | L56: =F56+I56 -> 0 | M56: =G56+J56 -> 0 | N56: =H56+K56 -> 0
A57: 3.1.6 | B57: Fornecimento, dobragem e colocação em fôrma, de armadura CA-50 A média, diâmetro de 6.3 a 10.0 mm | C57: kg | D57: 103.62 | E57: 11.79038 | F57: 0 | G57: =F57*E57 -> 0 | H57: =IFERROR(F57/D57,0) -> 0 | I57: =IFERROR(VLOOKUP(A57,'MEMO CALCULO 01'!$B$2:$E$248,4,0),0) -> 0 | J57: =I57*E57 -> 0 | K57: =IFERROR(I57/D57,0) -> 0 | L57: =F57+I57 -> 0 | M57: =G57+J57 -> 0 | N57: =H57+K57 -> 0
A58: 3.1.7 | B58: Fornecimento, dobragem e colocação em fôrma, de armadura CA-60 B fina, diâmetro de 4.0 a 7.0mm | C58: kg | D58: 22.33 | E58: 12.548704 | F58: 0 | G58: =F58*E58 -> 0 | H58: =IFERROR(F58/D58,0) -> 0 | I58: =IFERROR(VLOOKUP(A58,'MEMO CALCULO 01'!$B$2:$E$248,4,0),0) -> 0 | J58: =I58*E58 -> 0 | K58: =IFERROR(I58/D58,0) -> 0 | L58: =F58+I58 -> 0 | M58: =G58+J58 -> 0 | N58: =H58+K58 -> 0
A59: 3.1.8 | B59: Aterro com areia em áreas de calçada, inclusive fornecimento e adensamento | C59: m3 | D59: 0 | E59: 189.09276 | F59: 0 | G59: =F59*E59 -> 0 | H59: =IFERROR(F59/D59,0) -> 0 | I59: =IFERROR(VLOOKUP(A59,'MEMO CALCULO 01'!$B$2:$E$248,4,0),0) -> 0 | J59: =I59*E59 -> 0 | K59: =IFERROR(I59/D59,0) -> 0 | L59: =F59+I59 -> 0 | M59: =G59+J59 -> 0 | N59: =H59+K59 -> 0
A60: 3.1.9 | B60: Reaterro apiloado de cavas de fundação, em camadas de 20 cm | C60: m3 | D60: 0 | E60: 64.467928 | F60: 0 | G60: =F60*E60 -> 0 | H60: =IFERROR(F60/D60,0) -> 0 | I60: =IFERROR(VLOOKUP(A60,'MEMO CALCULO 01'!$B$2:$E$248,4,0),0) -> 0 | J60: =I60*E60 -> 0 | K60: =IFERROR(I60/D60,0) -> 0 | L60: =F60+I60 -> 0 | M60: =G60+J60 -> 0 | N60: =H60+K60 -> 0
A61: 4 | B61: SUPERESTRUTURA | J61: =SUM(J62:J70) -> 0 | M61: =SUM(M62:M70) -> 0
A62: 4.1 | B62: Fôrma em chapa de madeira compensada plastificada 12mm para estrutura em geral, 5 reaproveitamentos, reforçada com sarrafos de madeira 2.5x10cm (incl material, corte, montagem, escoras em eucalipto e desforma) | C62: m2 | D62: 18.8 | E62: 106.27963 | F62: 0 | G62: =F62*E62 -> 0 | H62: =IFERROR(F62/D62,0) -> 0 | I62: =IFERROR(VLOOKUP(A62,'MEMO CALCULO 01'!$B$2:$E$248,4,0),0) -> 0 | J62: =I62*E62 -> 0 | K62: =IFERROR(I62/D62,0) -> 0 | L62: =F62+I62 -> 0 | M62: =G62+J62 -> 0 | N62: =H62+K62 -> 0
A63: 4.2 | B63: Fornecimento, dobragem e colocação em fôrma, de armadura CA-50 A média, diâmetro de 6.3 a 10.0 mm | C63: kg | D63: 75.52 | E63: 11.79038 | F63: 0 | G63: =F63*E63 -> 0 | H63: =IFERROR(F63/D63,0) -> 0 | I63: =IFERROR(VLOOKUP(A63,'MEMO CALCULO 01'!$B$2:$E$248,4,0),0) -> 0 | J63: =I63*E63 -> 0 | K63: =IFERROR(I63/D63,0) -> 0 | L63: =F63+I63 -> 0 | M63: =G63+J63 -> 0 | N63: =H63+K63 -> 0
A64: 4.3 | B64: Fornecimento, dobragem e colocação em fôrma, de armadura CA-60 B fina, diâmetro de 4.0 a 7.0mm | C64: kg | D64: 46.77 | E64: 12.548704 | F64: 0 | G64: =F64*E64 -> 0 | H64: =IFERROR(F64/D64,0) -> 0 | I64: =IFERROR(VLOOKUP(A64,'MEMO CALCULO 01'!$B$2:$E$248,4,0),0) -> 0 | J64: =I64*E64 -> 0 | K64: =IFERROR(I64/D64,0) -> 0 | L64: =F64+I64 -> 0 | M64: =G64+J64 -> 0 | N64: =H64+K64 -> 0
...

Sheet MEMO CALCULO 01
B2: PREFEITURA MUNICIPAL DE SÃO ROQUE DO CANAÃ
B8: MEMÓRIA DE CÁLCULO 1ª MEDIÇÃO
B9: OBRA: REFORMA E AMPLIAÇÃO DA ‘’EMEI SÃO ROQUE’’, NESTE MUNICÍPIO. | D9: DATA: 24/02/2025
B10: LOCAL: RUA LOURENÇO ROLDI, N° 436, BAIRRO SÃO ROQUINHO, SÃO ROQUE DO CANAÃ
B11: ITEM | C11: DESCRIÇÃO | D11: UND | E11: QUANT.
B12: 1 | C12: =VLOOKUP(B12,'MEDIÇÃO 1'!$A$20:$C$286,2,0) -> INSTALAÇÃO DO CANTEIRO DE OBRAS
B13: 1.1 | C13: =VLOOKUP($B13,'MEDIÇÃO 1'!$A$20:$C$285,2,0) -> Placa de obra nas dimensões de 2.0 x 4.0 m, padrão DER | D13: =VLOOKUP($B13,'MEDIÇÃO 1'!$A$20:$C$285,3,0) -> m2 | E13: =SUM(D14) -> 8
B14: 2,00 x 4,00 m = 8,00 m² (PLACA NOVA) | D14: 8
B15: 1.3 | C15: =VLOOKUP($B15,'MEDIÇÃO 1'!$A$20:$C$285,2,0) -> Locação de andaime metálico para trabalho em fachada de edifíco (aluguel de 1 m² por 1 mês) inclusive frete, montagem e desmontagem | D15: =VLOOKUP($B15,'MEDIÇÃO 1'!$A$20:$C$285,3,0) -> m2 | E15: =SUM(D16) -> 12.25
B16: Fundos da escola: 16,35 m (comprimento) x 6,00 m (pé direito) = 98,10 m² /8 meses = 12,25 m² | D16: 12.25
B18: 2 | C18: =VLOOKUP(B18,'MEDIÇÃO 1'!$A$20:$C$286,2,0) -> SERVIÇOS PRELIMINARES
B19: 2.5 | C19: =VLOOKUP($B19,'MEDIÇÃO 1'!$A$20:$C$285,2,0) -> Retirada de revestimento antigo em reboco | D19: =VLOOKUP($B19,'MEDIÇÃO 1'!$A$20:$C$285,3,0) -> m2 | E19: 0
B20: ÁREA EXTERNA
B21: Fachada: Área: 9,85 (Extensão)*1,10m (altura) | D21: 10.84
B22: Área da fachada lateral (rua) conforme croqui: 14,12 m² | D22: 14.12
B23: 2.17 | C23: =VLOOKUP($B23,'MEDIÇÃO 1'!$A$20:$C$285,2,0) -> Apicoamento de superfície com revestimento em argamassa | D23: =VLOOKUP($B23,'MEDIÇÃO 1'!$A$20:$C$285,3,0) -> m2 | E23: =D24 -> 0
B24: NÃO REALIZADO | D24: 0
B25: 2.26 | C25: =VLOOKUP($B25,'MEDIÇÃO 1'!$A$20:$C$285,2,0) -> Lixamento manual em superfícies metálicas em obra | D25: =VLOOKUP($B25,'MEDIÇÃO 1'!$A$20:$C$285,3,0) -> m2 | E25: 0
B26: Portões
B27: Portões área externa (escada): (1,42 m x 1,80 m) x 2 lados x 2 portões = 10,22 m² | D27: 10.22
B28: Área de serviço: 2,10 m x 0,85 m x 2 lados = 3,36 m² | D28: 3.36
B29: Grades janelas
B30: Sala dos professores: 2,63 m x 1,50 m x 2 lados = 7,88 m² | D30: 7.88
B31: Secretaria: (janela) 3,00 m x 1,60 m x 2 lados + (guichê) 1,50 m x 0,50 m x 2 lados = 11,10 m² | D31: 11.1
B32: Coordenação (sala de atividades 04): 1,40 m x 1,60 m x 2 lados = 4,48 m² | D32: 4.48
B33: Direção (sala de atividades 04): 1,20 m x 1,00 m x 2 lados = 2,40 m² | D33: 2.4
B34: Sala 01: 5,70 m x 1,50 m x 2 lados = 17,10 m² | D34: 17.1
B35: Sala 02: 5,70 m x 1,50 m x 2 lados = 17,10 m² | D35: 17.1
B36: Sala 03: 5,70 m x 1,50 m x 2 lados = 17,10 m² | D36: 17.1
B37: Sala 05: (2,45 m x 1,60 m) + (2,55 m x 1,60 m) x 2 lados = 16,00 m² | D37: 16
B38: Sala 06: 2,98 m x 1,50 m x 2 lados = 8,94 m² | D38: 8.94
B39: NÃO REALIZADO
B41: 4 | C41: =VLOOKUP(B41,'MEDIÇÃO 1'!$A$20:$C$286,2,0) -> SUPERESTRUTURA
B42: 4.1 | C42: =VLOOKUP($B42,'MEDIÇÃO 1'!$A$20:$C$285,2,0) -> Fôrma em chapa de madeira compensada plastificada 12mm para estrutura em geral, 5 reaproveitamentos, reforçada com sarrafos de madeira 2.5x10cm (incl material, corte, montagem, escoras em eucalipto e desforma) | D42: =VLOOKUP($B42,'MEDIÇÃO 1'!$A$20:$C$285,3,0) -> m2 | E42: 0
B43: ADITIVO (ACRÉSCIMO)
B44: Forma para a viga sobre o muro: ((7,13 m + 11,80 m + 15,00 m + 5,50 m + 7,92 m) (perímetro) x 0,10 m (altura)) x 2 lados = 9,47 m² | D44: 9.47
B45: Prolongamento da altura útil: Conforme Anexo II: 4,32 m² | D45: 4.32
B46: 4.2 | C46: =VLOOKUP($B46,'MEDIÇÃO 1'!$A$20:$C$285,2,0) -> Fornecimento, dobragem e colocação em fôrma, de armadura CA-50 A média, diâmetro de 6.3 a 10.0 mm | D46: =VLOOKUP($B46,'MEDIÇÃO 1'!$A$20:$C$285,3,0) -> kg | E46: 0
B47: ADITIVO (ACRÉSCIMO)
B48: Viga sobre o muro
...
