Workbook

Sheet MEDIÇÃO 4
A1: PREFEITURA MUNICIPAL DE SO ROQUE DO CANA Estado do Esprito Santo SECRETARIA MUNICIPAL DE OBRAS E SERVIÇOS URBANOS – SETOR DE ENGENHARIA
A13: BOLETIM DE | H13: =L18 -> MEDIÇÃO 04 | N13: DATA: 18/06/2025
A14: Obra: REFORMA E AMPLIAÇÃO DA ‘’EMEI SÃO ROQUE’’, NESTE MUNICÍPIO. | D14: CONTRATO Nº: | I14: 164/2024 | K14: Assinatura: 18/12/2024 | N14: INÍCIO: | P14: 45659
N15: TÉRMINO: | P15: 45840
A16: LOCAL: RUA LOURENÇO ROLDI, N° 436, BAIRRO SÃO ROQUINHO, SÃO ROQUE DO CANAÃ | D16: PERÍODO: | I16: 45762 | K16: a | L16: 45820 | N16: PRAZO: | P16: 90 DIAS
A17: EMPREITEIRA: MENDONÇA CONSTRUÇÕES LTDA | I17: =L18 -> MEDIÇÃO 04 | L17: =O305 -> 118603.08 | N17: % MÊS: | O17: =K305 -> 0.19706932 | P17: % ACUM: | Q17: =K306 -> 0.6881874
A18: ITEM | B18: ESPECIFICAÇÃO | C18: UNID. | D18: QUANT. | E18: 1º REPLANILHAMENTO | H18: PREÇO UNIT R$ | I18: ACUMULADO ANTERIOR | L18: MEDIÇÃO 04 | O18: TOTAL MEDIDO
E19: ACRÉSCIMO | F19: DECRÉSCIMO | G19: QUANT. ATUALIZADA | I19: QUANT. | J19: TOTAL | K19: % | L19: QUANT. | M19: TOTAL | N19: % | O19: QUANT. | P19: TOTAL | Q19: %
A20: 1 | B20: INSTALAÇÃO DO CANTEIRO DE OBRAS | M20: =SUM(M21:M23) -> 0 | P20: =SUM(P21:P23) -> 2339.1127
A21: 1.1 | B21: Placa de obra nas dimensões de 2.0 x 4.0 m, padrão DER | C21: m2 | D21: 8 | E21: 0 | G21: =D21+E21-F21 -> 8 | H21: 254.81764 | I21: 8 | J21: =I21*H21 -> 2038.5411 | K21: =I21/G21 -> 1 | L21: =IFERROR(VLOOKUP(A21,'MEMO CALCULO 04'!$B$2:$E$504,4,0),0) -> 0 | M21: =L21*H21 -> 0 | N21: =L21/G21 -> 0 | O21: =I21+L21 -> 8 | P21: =J21+M21 -> 2038.5411 | Q21: =K21+N21 -> 1
A22: 1.2 | B22: Tapume Telha Metálica Ondulada em aço galvalume 0,50mm Branca h=2,20m, incl. montagem estr. mad. 8"x8", c/adesivo "DER-ES" 60x60cm a cada 10m, incl. faixas pint. esmalte sint. cores azul c/ h=30cm e rosa c/ h=10cm (Reaproveitamento 2x) | C22: m | D22: 0 | E22: 0 | G22: =D22+E22-F22 -> 0 | H22: 158.56243 | I22: 0 | J22: =I22*H22 -> 0 | K22: 0 | L22: =IFERROR(VLOOKUP(A22,'MEMO CALCULO 04'!$B$2:$E$504,4,0),0) -> 0 | M22: =L22*H22 -> 0 | N22: 0 | O22: =I22+L22 -> 0 | P22: =J22+M22 -> 0 | Q22: =K22+N22 -> 0
A23: 1.3 | B23: Locação de andaime metálico para trabalho em fachada de edifíco (aluguel de 1 m² por 1 mês) inclusive frete, montagem e desmontagem | C23: m2 | D23: 12.25 | E23: 0 | G23: =D23+E23-F23 -> 12.25 | H23: 24.536456 | I23: 12.25 | J23: =I23*H23 -> 300.57159 | K23: =I23/G23 -> 1 | L23: =IFERROR(VLOOKUP(A23,'MEMO CALCULO 04'!$B$2:$E$504,4,0),0) -> 0 | M23: =L23*H23 -> 0 | N23: =L23/G23 -> 0 | O23: =I23+L23 -> 12.25 | P23: =J23+M23 -> 300.57159 | Q23: =K23+N23 -> 1
A24: 2 | B24: SERVIÇOS PRELIMINARES | M24: =SUM(M25:M50) -> 1073.5099 | P24: =SUM(P25:P50) -> 2978.1946
A25: 2.1 | B25: Demolição de revestimento com azulejos | C25: m2 | D25: 8.11 | E25: 0 | G25: =D25+E25-F25 -> 8.11 | H25: 52.241252 | I25: 0.12 | J25: =I25*H25 -> 6.2689502 | K25: =I25/G25 -> 0.014796547 | L25: =IFERROR(VLOOKUP(A25,'MEMO CALCULO 04'!$B$2:$E$504,4,0),0) -> 0 | M25: =L25*H25 -> 0 | N25: =L25/G25 -> 0 | O25: =I25+L25 -> 0.12 | P25: =J25+M25 -> 6.2689502 | Q25: =K25+N25 -> 0.014796547
A26: 2.2 | B26: Lixamento de parede com pintura antiga PVA para recebimento de nova camada de tinta | C26: m2 | D26: 0 | E26: 0 | G26: =D26+E26-F26 -> 0 | H26: 3.926664 | I26: 0 | J26: =I26*H26 -> 0 | K26: 0 | L26: =IFERROR(VLOOKUP(A26,'MEMO CALCULO 04'!$B$2:$E$504,4,0),0) -> 0 | M26: =L26*H26 -> 0 | N26: 0 | O26: =I26+L26 -> 0 | P26: =J26+M26 -> 0 | Q26: =K26+N26 -> 0
A27: 2.3 | B27: Demolição de piso revestido com cerâmica | C27: m2 | D27: 0 | E27: 0 | G27: =D27+E27-F27 -> 0 | H27: 14.626304 | I27: 0 | J27: =I27*H27 -> 0 | K27: 0 | L27: =IFERROR(VLOOKUP(A27,'MEMO CALCULO 04'!$B$2:$E$504,4,0),0) -> 0 | M27: =L27*H27 -> 0 | N27: 0 | O27: =I27+L27 -> 0 | P27: =J27+M27 -> 0 | Q27: =K27+N27 -> 0
A28: 2.4 | B28: Retirada de grades, gradis, alambrados, cercas e portões | C28: m2 | D28: 0 | E28: 0 | G28: =D28+E28-F28 -> 0 | H28: 18.417924 | I28: 0 | J28: =I28*H28 -> 0 | K28: 0 | L28: =IFERROR(VLOOKUP(A28,'MEMO CALCULO 04'!$B$2:$E$504,4,0),0) -> 0 | M28: =L28*H28 -> 0 | N28: 0 | O28: =I28+L28 -> 0 | P28: =J28+M28 -> 0 | Q28: =K28+N28 -> 0
A29: 2.5 | B29: Retirada de revestimento antigo em reboco | C29: m2 | D29: 50.99 | E29: 83.525 | G29: =D29+E29-F29 -> 134.515 | H29: 10.450328 | I29: 0 | J29: =I29*H29 -> 0 | K29: =I29/G29 -> 0 | L29: =IFERROR(VLOOKUP(A29,'MEMO CALCULO 04'!$B$2:$E$504,4,0),0) -> 83.525 | M29: =L29*H29 -> 872.86365 | N29: =L29/G29 -> 0.62093447 | O29: =I29+L29 -> 83.525 | P29: =J29+M29 -> 872.86365 | Q29: =K29+N29 -> 0.62093447
A30: 2.6 | B30: Retirada de portas e janelas de madeira, inclusive batentes | C30: m2 | D30: 0 | E30: 0 | G30: =D30+E30-F30 -> 0 | H30: 16.714292 | I30: 0 | J30: =I30*H30 -> 0 | K30: 0 | L30: =IFERROR(VLOOKUP(A30,'MEMO CALCULO 04'!$B$2:$E$504,4,0),0) -> 0 | M30: =L30*H30 -> 0 | N30: 0 | O30: =I30+L30 -> 0 | P30: =J30+M30 -> 0 | Q30: =K30+N30 -> 0
A31: 2.7 | B31: Retirada de esquadrias metálicas | C31: m2 | D31: 0 | E31: 0 | G31: =D31+E31-F31 -> 0 | H31: 10.450328 | I31: 0 | J31: =I31*H31 -> 0 | K31: 0 | L31: =IFERROR(VLOOKUP(A31,'MEMO CALCULO 04'!$B$2:$E$504,4,0),0) -> 0 | M31: =L31*H31 -> 0 | N31: 0 | O31: =I31+L31 -> 0 | P31: =J31+M31 -> 0 | Q31: =K31+N31 -> 0
A32: 2.8 | B32: Retirada de aparelhos sanitários | C32: und | D32: 0 | E32: 0 | G32: =D32+E32-F32 -> 0 | H32: 21.60704 | I32: 0 | J32: =I32*H32 -> 0 | K32: 0 | L32: =IFERROR(VLOOKUP(A32,'MEMO CALCULO 04'!$B$2:$E$504,4,0),0) -> 0 | M32: =L32*H32 -> 0 | N32: 0 | O32: =I32+L32 -> 0 | P32: =J32+M32 -> 0 | Q32: =K32+N32 -> 0
A33: 2.9 | B33: Retirada de torneiras e registros | C33: und | D33: 0 | E33: 0 | G33: =D33+E33-F33 -> 0 | H33: 11.187876 | I33: 0 | J33: =I33*H33 -> 0 | K33: 0 | L33: =IFERROR(VLOOKUP(A33,'MEMO CALCULO 04'!$B$2:$E$504,4,0),0) -> 0 | M33: =L33*H33 -> 0 | N33: 0 | O33: =I33+L33 -> 0 | P33: =J33+M33 -> 0 | Q33: =K33+N33 -> 0
A34: 2.10 | B34: Retirada de rodapé de madeira ou cerâmica | C34: m | D34: 0 | E34: 0 | G34: =D34+E34-F34 -> 0 | H34: 2.430792 | I34: 0 | J34: =I34*H34 -> 0 | K34: 0 | L34: =IFERROR(VLOOKUP(A34,'MEMO CALCULO 04'!$B$2:$E$504,4,0),0) -> 0 | M34: =L34*H34 -> 0 | N34: 0 | O34: =I34+L34 -> 0 | P34: =J34+M34 -> 0 | Q34: =K34+N34 -> 0
A35: 2.11 | B35: Demolição de alvenaria | C35: m3 | D35: 0.3 | E35: 0 | G35: =D35+E35-F35 -> 0.3 | H35: 62.69158 | I35: 0 | J35: =I35*H35 -> 0 | K35: 0 | L35: =IFERROR(VLOOKUP(A35,'MEMO CALCULO 04'!$B$2:$E$504,4,0),0) -> 0 | M35: =L35*H35 -> 0 | N35: =L35/G35 -> 0 | O35: =I35+L35 -> 0 | P35: =J35+M35 -> 0 | Q35: =K35+N35 -> 0
A36: 2.12 | B36: Retirada de bancada de pia | C36: m2 | D36: 0 | E36: 0 | G36: =D36+E36-F36 -> 0 | H36: 25.928448 | I36: 0 | J36: =I36*H36 -> 0 | K36: 0 | L36: =IFERROR(VLOOKUP(A36,'MEMO CALCULO 04'!$B$2:$E$504,4,0),0) -> 0 | M36: =L36*H36 -> 0 | N36: 0 | O36: =I36+L36 -> 0 | P36: =J36+M36 -> 0 | Q36: =K36+N36 -> 0
A37: 2.13 | B37: Retirada de caixas/quadros elétricos | C37: und | D37: 0 | E37: 0 | G37: =D37+E37-F37 -> 0 | H37: 15.519672 | I37: 0 | J37: =I37*H37 -> 0 | K37: 0 | L37: =IFERROR(VLOOKUP(A37,'MEMO CALCULO 04'!$B$2:$E$504,4,0),0) -> 0 | M37: =L37*H37 -> 0 | N37: 0 | O37: =I37+L37 -> 0 | P37: =J37+M37 -> 0 | Q37: =K37+N37 -> 0
A38: 2.14 | B38: Remoção de telhas cerâmicas, tipo colonial, inclusive cumeeiras | C38: m2 | D38: 0 | E38: 0 | G38: =D38+E38-F38 -> 0 | H38: 24.951976 | I38: 0 | J38: =I38*H38 -> 0 | K38: 0 | L38: =IFERROR(VLOOKUP(A38,'MEMO CALCULO 04'!$B$2:$E$504,4,0),0) -> 0 | M38: =L38*H38 -> 0 | N38: 0 | O38: =I38+L38 -> 0 | P38: =J38+M38 -> 0 | Q38: =K38+N38 -> 0
A39: 2.15 | B39: Demolição manual de concreto simples (EMOP 05.001.001) | C39: m3 | D39: 0.0045 | E39: 0 | G39: =D39+E39-F39 -> 0.0045 | H39: 294.68678 | I39: 0 | J39: =I39*H39 -> 0 | K39: =I39/G39 -> 0 | L39: =IFERROR(VLOOKUP(A39,'MEMO CALCULO 04'!$B$2:$E$504,4,0),0) -> 0 | M39: =L39*H39 -> 0 | N39: =L39/G39 -> 0 | O39: =I39+L39 -> 0 | P39: =J39+M39 -> 0 | Q39: =K39+N39 -> 0
A40: 2.16 | B40: Remoção de pintura antiga a óleo ou esmalte | C40: m2 | D40: 7.1 | E40: 0 | G40: =D40+E40-F40 -> 7.1 | H40: 13.888756 | I40: 0 | J40: =I40*H40 -> 0 | K40: =I40/G40 -> 0 | L40: =IFERROR(VLOOKUP(A40,'MEMO CALCULO 04'!$B$2:$E$504,4,0),0) -> 0 | M40: =L40*H40 -> 0 | N40: =L40/G40 -> 0 | O40: =I40+L40 -> 0 | P40: =J40+M40 -> 0 | Q40: =K40+N40 -> 0
A41: 2.17 | B41: Apicoamento de superfície com revestimento em argamassa | C41: m2 | D41: 108.32 | E41: 0 | G41: =D41+E41-F41 -> 108.32 | H41: 10.450328 | I41: 0 | J41: =I41*H41 -> 0 | K41: =I41/G41 -> 0 | L41: =IFERROR(VLOOKUP(A41,'MEMO CALCULO 04'!$B$2:$E$504,4,0),0) -> 19.2 | M41: =L41*H41 -> 200.6463 | N41: =L41/G41 -> 0.17725258 | O41: =I41+L41 -> 19.2 | P41: =J41+M41 -> 200.6463 | Q41: =K41+N41 -> 0.17725258
A42: 2.18 | B42: Remoção de pintura antiga a base de óleo ou esmalte sobre esquadrias | C42: m2 | D42: 55.35 | E42: 0 | G42: =D42+E42-F42 -> 55.35 | H42: 20.329316 | I42: 50.4 | J42: =I42*H42 -> 1024.5975 | K42: =I42/G42 -> 0.91056911 | L42: =IFERROR(VLOOKUP(A42,'MEMO CALCULO 04'!$B$2:$E$504,4,0),0) -> 0 | M42: =L42*H42 -> 0 | N42: =L42/G42 -> 0 | O42: =I42+L42 -> 50.4 | P42: =J42+M42 -> 1024.5975 | Q42: =K42+N42 -> 0.91056911
A43: 2.19 | B43: Retirada de pontos elétricos (luminárias, interruptores e tomadas) | C43: und | D43: 0 | E43: 0 | G43: =D43+E43-F43 -> 0 | H43: 11.187876 | I43: 0 | J43: =I43*H43 -> 0 | K43: 0 | L43: =IFERROR(VLOOKUP(A43,'MEMO CALCULO 04'!$B$2:$E$504,4,0),0) -> 0 | M43: =L43*H43 -> 0 | N43: 0 | O43: =I43+L43 -> 0 | P43: =J43+M43 -> 0 | Q43: =K43+N43 -> 0
A44: 2.20 | B44: Retirada de tanque de cimento | C44: und | D44: 0 | E44: 0 | G44: =D44+E44-F44 -> 0 | H44: 25.928448 | I44: 0 | J44: =I44*H44 -> 0 | K44: 0 | L44: =IFERROR(VLOOKUP(A44,'MEMO CALCULO 04'!$B$2:$E$504,4,0),0) -> 0 | M44: =L44*H44 -> 0 | N44: 0 | O44: =I44+L44 -> 0 | P44: =J44+M44 -> 0 | Q44: =K44+N44 -> 0
A45: 2.21 | B45: Reassentamento de paralelepípedos, rejuntamento com argamassa, com reaproveitamento dos paralelepípedos - incluso retirada e colocação do material. | C45: m2 | D45: 6 | E45: 0 | G45: =D45+E45-F45 -> 6 | H45: 53.318947 | I45: 0 | J45: =I45*H45 -> 0 | K45: =I45/G45 -> 0 | L45: =IFERROR(VLOOKUP(A45,'MEMO CALCULO 04'!$B$2:$E$504,4,0),0) -> 0 | M45: =L45*H45 -> 0 | N45: =L45/G45 -> 0 | O45: =I45+L45 -> 0 | P45: =J45+M45 -> 0 | Q45: =K45+N45 -> 0
A46: 2.22 | B46: Remoção de luminárias, de forma manual, sem reaproveitamento | C46: und | D46: 0 | E46: 0 | G46: =D46+E46-F46 -> 0 | H46: 1.5665104 | I46: 0 | J46: =I46*H46 -> 0 | K46: 0 | L46: =IFERROR(VLOOKUP(A46,'MEMO CALCULO 04'!$B$2:$E$504,4,0),0) -> 0 | M46: =L46*H46 -> 0 | N46: 0 | O46: =I46+L46 -> 0 | P46: =J46+M46 -> 0 | Q46: =K46+N46 -> 0
A47: 2.23 | B47: Remoção de interruptores/tomadas elétricas, de forma manual, sem reaproveitamento | C47: und | D47: 0 | E47: 0 | G47: =D47+E47-F47 -> 0 | H47: 0.5827668 | I47: 0 | J47: =I47*H47 -> 0 | K47: 0 | L47: =IFERROR(VLOOKUP(A47,'MEMO CALCULO 04'!$B$2:$E$504,4,0),0) -> 0 | M47: =L47*H47 -> 0 | N47: 0 | O47: =I47+L47 -> 0 | P47: =J47+M47 -> 0 | Q47: =K47+N47 -> 0
A48: 2.24 | B48: Remoção de ventilador | C48: und | D48: 0 | E48: 0 | G48: =D48+E48-F48 -> 0 | H48: 4.7462772 | I48: 0 | J48: =I48*H48 -> 0 | K48: 0 | L48: =IFERROR(VLOOKUP(A48,'MEMO CALCULO 04'!$B$2:$E$504,4,0),0) -> 0 | M48: =L48*H48 -> 0 | N48: 0 | O48: =I48+L48 -> 0 | P48: =J48+M48 -> 0 | Q48: =K48+N48 -> 0
A49: 2.25 | B49: Remoção de grelha para ralo | C49: und | D49: 0 | E49: 0 | G49: =D49+E49-F49 -> 0 | H49: 2.7611304 | I49: 0 | J49: =I49*H49 -> 0 | K49: 0 | L49: =IFERROR(VLOOKUP(A49,'MEMO CALCULO 04'!$B$2:$E$504,4,0),0) -> 0 | M49: =L49*H49 -> 0 | N49: 0 | O49: =I49+L49 -> 0 | P49: =J49+M49 -> 0 | Q49: =K49+N49 -> 0
A50: 2.26 | B50: Lixamento manual em superfícies metálicas em obra | C50: m2 | D50: 115.68 | E50: 0 | G50: =D50+E50-F50 -> 115.68 | H50: 8.8640516 | I50: 98.58 | J50: =I50*H50 -> 873.81821 | K50: =I50/G50 -> 0.85217842 | L50: =IFERROR(VLOOKUP(A50,'MEMO CALCULO 04'!$B$2:$E$504,4,0),0) -> 0 | M50: =L50*H50 -> 0 | N50: =L50/G50 -> 0 | O50: =I50+L50 -> 98.58 | P50: =J50+M50 -> 873.81821 | Q50: =K50+N50 -> 0.85217842
A51: 3 | B51: INFRAESTRUTURA | M51: =SUM(M52:M60) -> 4001.2143 | P51: =SUM(P52:P60) -> 4001.2143
...

Sheet MEMO CALCULO 04
B2: PREFEITURA MUNICIPAL DE SÃO ROQUE DO CANAÃ
B8: MEMÓRIA DE CÁLCULO 4ª MEDIÇÃO
B9: OBRA: REFORMA E AMPLIAÇÃO DA ‘’EMEI SÃO ROQUE’’, NESTE MUNICÍPIO. | D9: DATA: 17/06/2025
B10: LOCAL: RUA LOURENÇO ROLDI, N° 436, BAIRRO SÃO ROQUINHO, SÃO ROQUE DO CANAÃ
B11: ITEM | C11: DESCRIÇÃO | D11: UND | E11: QUANT.
B12: 2 | C12: =VLOOKUP(B12,'MEDIÇÃO 4'!$A$20:$C$302,2,0) -> SERVIÇOS PRELIMINARES
B13: 2.5 | C13: =VLOOKUP($B13,'MEDIÇÃO 4'!$A$20:$C$285,2,0) -> Retirada de revestimento antigo em reboco | D13: =VLOOKUP($B13,'MEDIÇÃO 4'!$A$20:$C$285,3,0) -> m2 | E13: =D14 -> 83.525
B14: muro lateral do vizinho. Total.: (2,68+3,52)*8/2+(3,82+3,52)*2,9/2+(3,82+1,6)*6,2/2+(2,03+1,6)*8/2+(2,16+2,03)*8/2.: 83,53 m² | D14: =(2.68+3.52)*8/2+(3.82+3.52)*2.9/2+(3.82+1.6)*6.2/2+(2.03+1.6)*8/2+(2.16+2.03)*8/2 -> 83.525
B15: 2.17 | C15: =VLOOKUP($B15,'MEDIÇÃO 4'!$A$20:$C$285,2,0) -> Apicoamento de superfície com revestimento em argamassa | D15: =VLOOKUP($B15,'MEDIÇÃO 4'!$A$20:$C$285,3,0) -> m2 | E15: =D16 -> 19.2
B16: Fachada da escolha: Apicoamento para substituição da pintura por pastilha: (9,85 m x (3,07 m – 1,12 m) (pé direito externo – altura do revestimento já previsto) = 19,20 m² | D16: 19.2
B18: 3 | C18: =VLOOKUP(B18,'MEDIÇÃO 4'!$A$20:$C$302,2,0) -> INFRAESTRUTURA
B19: 3.1.1 | C19: =VLOOKUP($B19,'MEDIÇÃO 4'!$A$20:$C$285,2,0) -> Escavação manual em material de 1a. categoria, até 1.50 m de profundidade | D19: =VLOOKUP($B19,'MEDIÇÃO 4'!$A$20:$C$285,3,0) -> m3 | E19: =D20 -> 0.7878
B20: mureta do parquinho. Total.: (8+5,13)*0,3*0,2: 0,79 m³ | D20: =(8+5.13)*0.3*0.2 -> 0.7878
B21: 3.1.2 | C21: =VLOOKUP($B21,'MEDIÇÃO 4'!$A$20:$C$285,2,0) -> Pintura impermeabilizante com igolflex ou equivalente a 3 demãos | D21: =VLOOKUP($B21,'MEDIÇÃO 4'!$A$20:$C$285,3,0) -> m2 | E21: =D22 -> 12.51
B22: Viga da mureta: (14,92 m + 1,73 m + 1,97 m + 5,40 m - 1,10 m) x 0,20 x 2 lados (lado externo e base) + (1,10 m + 1,00 m) x (0,20 m x 3 lados) (lado interno, externo e base no portão e rampa) + (14,92 m + 1,73 m + 1,97 m - 1,10 m) x ((0,75 m - 0,43 m) + 0,20 m) (lado interno do muro frontal) + (5,40 m x (((1,20 + 1,60)/2) - 0,43 m) + 0,20 m) = 25,86 m² – 13,35 m² (6ª medição empresa anterior).: 12,51 m² (saldo utilizado no muro esterno do lado da escada | D22: 12.51
B23: 3.1.3 | C23: =VLOOKUP($B23,'MEDIÇÃO 4'!$A$20:$C$285,2,0) -> Fornecimento, preparo e aplicação de concreto magro com consumo mínimo de cimento de 250 kg/m3 (brita 1 e 2) - (5% de perdas já incluído no custo) | D23: =VLOOKUP($B23,'MEDIÇÃO 4'!$A$20:$C$285,3,0) -> m3 | E23: =SUM(D24:D25) -> 0.22
B24: Sapatas (0,60 m x 0,60 m) ampliação: 0,60 m x 0,60 m x 0,05 m x 10 sapatas = 0,18 m³ – 0,11 m³ (7ª medição empresa anterior).: 0,07 m³ | D24: 0.07
B25: Viga inferior (foi considerado 2,5 cm a mais de cada lado da viga) = 0,20 m + 0,025 m + 0,025 m = 0,25 m: (14,92 m + 1,73 m + 3,22 m + 5,40 m) x 0,25 m x 0,05 m = 0,31 m³ – 0,16 m³ (7ª medição empresa anterior).: 0,15 m³ | D25: 0.15
B26: 3.1.4 | C26: =VLOOKUP($B26,'MEDIÇÃO 4'!$A$20:$C$285,2,0) -> Fôrma de tábua de madeira de 2.5 x 30.0 cm para fundações, levando-se em conta a utilização 5 vezes (incluido o material, corte, montagem, escoramento e desforma) | D26: =VLOOKUP($B26,'MEDIÇÃO 4'!$A$20:$C$285,3,0) -> m2 | E26: =D27 -> 7.88
B27: mureta do parquinho. Total.: 8*2*0,3+5,13*2*0,3.: 7,88m³ | D27: 7.88
B28: 3.1.5 | C28: =VLOOKUP($B28,'MEDIÇÃO 4'!$A$20:$C$285,2,0) -> Fornecimento, preparo e aplicação de concreto Fck=25 MPa (brita 1 e 2) - (5% de perdas já incluído no custo) | D28: =VLOOKUP($B28,'MEDIÇÃO 4'!$A$20:$C$285,3,0) -> m3 | E28: =SUM(D29:D32) -> 2.7278
B29: mureta do parquinho - viga + 1 sapata (1x1x0,4). Total.: (8*0,3*0,2+5,13*0,3*0,2+0,4).: 1,19 m³ | D29: =8*0.3*0.2+5.13*0.3*0.2+0.4 -> 1.1878
B30: Sapatas: 0,60 m x 0,60 m x 0,20 m x 10 sapatas = 0,72 m³ – 0,43 m³.: | D30: =0.72-0.43 -> 0.29 | E30: =SUM(D30:D32) -> 1.54
B31: P1 = P2 = P3 = P4 = P5 = P6 = P7: (0,75 m + 0,20 m + 0,60 m) x 0,20 m x 0,20 m x 7 pilaretes = 0,43 m³ – 0,19 m³ | D31: =0.43-0.19 -> 0.24
B32: Vigas: (14,92 m + 1,53 m + 1,48 m + 5,40 m - 1,10 m) x 0,20 m x 0,20 x 2 vigas = 1,78 m³ – 0,77 m³: | D32: =1.78-0.77 -> 1.01
B33: 3.1.6 | C33: =VLOOKUP($B33,'MEDIÇÃO 4'!$A$20:$C$285,2,0) -> Fornecimento, dobragem e colocação em fôrma, de armadura CA-50 A média, diâmetro de 6.3 a 10.0 mm | D33: =VLOOKUP($B33,'MEDIÇÃO 4'!$A$20:$C$285,3,0) -> kg | E33: =D34 -> 32.40484
B34: mureta do parquinho – viga. Total.: (8+5,13)*4*0,617.: 32,40 kg | D34: =(8+5.13)*4*0.617 -> 32.40484
B35: 3.1.7 | C35: =VLOOKUP($B35,'MEDIÇÃO 4'!$A$20:$C$285,2,0) -> Fornecimento, dobragem e colocação em fôrma, de armadura CA-60 B fina, diâmetro de 4.0 a 7.0mm | D35: =VLOOKUP($B35,'MEDIÇÃO 4'!$A$20:$C$285,3,0) -> kg | E35: =D36 -> 8.014552
B36: mureta do parquinho – viga.: (8+5,13)/0,15*0,84*0,109.: 8,01 kg | D36: =(8+5.13)/0.15*0.84*0.109 -> 8.014552
B38: 4 | C38: =VLOOKUP(B38,'MEDIÇÃO 4'!$A$20:$C$302,2,0) -> SUPERESTRUTURA
B39: 4.1 | C39: =VLOOKUP($B39,'MEDIÇÃO 4'!$A$20:$C$285,2,0) -> Fôrma em chapa de madeira compensada plastificada 12mm para estrutura em geral, 5 reaproveitamentos, reforçada com sarrafos de madeira 2.5x10cm (incl material, corte, montagem, escoras em eucalipto e desforma) | D39: =VLOOKUP($B39,'MEDIÇÃO 4'!$A$20:$C$285,3,0) -> m2 | E39: =SUM(D40:D42) -> 31.36
B40: Viga área coberta inferior + pilares (muro da face da rua (suporte da cinta para apoio dos cobogós)).: 9,20*0,3*2+2,5*(0,2*2+0,3*2)*3.: 13,02 m² | D40: 13.02
B41: Recuperação de Pilares.: Pilares do Muro paralelo ao vizinho: 2,70 + 3,15 + 3,48 + 3,85 + 2,90 + 6 Pilares * 2,25.: 29,58m x 0,30 m | C41: ilares do Muro paralelo ao vizinho: 2,70 + 3,15 + 3,48 + 3,85 + 2,90 + 6 Pilares * 2,25.: 29,58m | D41: 8.87
B42: Forma para a viga sobre o muro: ((7,13 m + 11,80 m + 15,00 m + 5,50 m + 7,92 m) (perímetro) x 0,10 m (altura)) x 2 lados = 9,47 m² | D42: 9.47
B43: 4.2 | C43: =VLOOKUP($B43,'MEDIÇÃO 4'!$A$20:$C$285,2,0) -> Fornecimento, dobragem e colocação em fôrma, de armadura CA-50 A média, diâmetro de 6.3 a 10.0 mm | D43: =VLOOKUP($B43,'MEDIÇÃO 4'!$A$20:$C$285,3,0) -> kg | E43: =D44 -> 46.89
B44: Viga área coberta inferior + pilares. 9,20*5*0,617+2,5*3*4*0,617.: 46,89 kg | D44: 46.89
B45: 4.3 | C45: =VLOOKUP($B45,'MEDIÇÃO 4'!$A$20:$C$285,2,0) -> Fornecimento, dobragem e colocação em fôrma, de armadura CA-60 B fina, diâmetro de 4.0 a 7.0mm | D45: =VLOOKUP($B45,'MEDIÇÃO 4'!$A$20:$C$285,3,0) -> kg | E45: =D46 -> 10.19
B46: Viga área coberta inferior + estribos pilares. Total.: (9,2/0,15)*0,84*0,109+(((2,5*3)/0,15)*0,84*0,109).: 10,19 kg | D46: 10.19
B47: 4.4 | C47: =VLOOKUP($B47,'MEDIÇÃO 4'!$A$20:$C$285,2,0) -> Fornecimento, preparo e aplicação de concreto Fck=25 MPa (brita 1 e 2) - (5% de perdas já incluído no custo) | D47: =VLOOKUP($B47,'MEDIÇÃO 4'!$A$20:$C$285,3,0) -> m3 | E47: 1.89
B48: Viga área coberta inferior + pilares. Total.: 9,15*0,15*0,3+3*2,5*0,2*0,3.: 0,86 m³ | D48: 0.86
...
