Workbook

Sheet MEDIÇÃO 2
A1: PREFEITURA MUNICIPAL DE SO ROQUE DO CANA Estado do Esprito Santo SECRETARIA MUNICIPAL DE OBRAS E SERVIÇOS URBANOS – SETOR DE ENGENHARIA
A13: BOLETIM DE | E13: =I18 -> MEDIÇÃO 02 | K13: DATA: 04/06/2025
A14: OBRA: CONSTRUÇÃO DE UM CENTRO DE CONVIVÊNCIA E FORTALECIMENTO DE VÍNCULOS | D14: CONTRATO Nº: | F14: 037/2025 | H14: Assinatura: 24/03/2025 | K14: INÍCIO: | M14: 45747
K15: TÉRMINO: | M15: 45987
A16: LOCAL: DISTRITO DE SÃO JACINTO, SÃO ROQUE DO CANAÃ-ES | D16: PERÍODO: | F16: 45784 | H16: a | I16: 45806 | K16: PRAZO: | M16: 240 DIAS
A17: EMPREITEIRA: DELFIN CONSTRUTORA LTDA | F17: =I18 -> MEDIÇÃO 02 | I17: =L202 -> 42880.508 | K17: % MÊS: | L17: =H202 -> 0.050507076 | M17: % ACUM: | N17: =H203 -> 0.13282195
A18: ITEM | B18: ESPECIFICAÇÃO | C18: UNID. | D18: QUANT. | E18: PREÇO UNIT R$ | F18: ACUMULADO ANTERIOR | I18: MEDIÇÃO 02 | L18: TOTAL MEDIDO
F19: QUANT. | G19: TOTAL | H19: % | I19: QUANT. | J19: TOTAL | K19: % | L19: QUANT. | M19: TOTAL | N19: %
A20: 1 | B20: INSTALAÇÃO DO CANTEIRO DE OBRAS | J20: =SUM(J21:J23) -> 0 | M20: =SUM(M21:M23) -> 22521.215
A21: 1.1 | B21: Placa de obra nas dimensões de 2.0 x 4.0 m, padrão der | C21: m2 | D21: 8 | E21: 371.19907 | F21: 8 | G21: =F21*E21 -> 2969.5925 | H21: =F21/D21 -> 1 | J21: =I21*E21 -> 0 | K21: =I21/D21 -> 0 | L21: =F21+I21 -> 8 | M21: =G21+J21 -> 2969.5925 | N21: =H21+K21 -> 1
A22: 1.2 | B22: Barracão para almoxarifado área de 10.90m2, de chapa de compensado de 12mm e pontalete 8x8cm, piso cimentado e cobertura de telhas de fibrocimento de 6mm, incl. Ponto de luz, conf. Projeto (1 utilização) | C22: m2 | D22: 10.9 | E22: 688.29704 | F22: 10.9 | G22: =F22*E22 -> 7502.4377 | H22: =F22/D22 -> 1 | J22: =I22*E22 -> 0 | K22: =I22/D22 -> 0 | L22: =F22+I22 -> 10.9 | M22: =G22+J22 -> 7502.4377 | N22: =H22+K22 -> 1
A23: 1.3 | B23: Tapume telha metálica ondulada em aço galvalume 0,50mm branca h=2,20m, incl. Montagem estr. Mad. 8"x8", c/adesivo "der-es" 60x60cm a cada 10m, incl. Faixas pint. Esmalte sint. Cores azul c/ h=30cm e rosa c/ h=10cm (reaproveitamento 2x) | C23: m | D23: 78 | E23: 154.47673 | F23: 78 | G23: =F23*E23 -> 12049.185 | H23: =F23/D23 -> 1 | J23: =I23*E23 -> 0 | K23: =I23/D23 -> 0 | L23: =F23+I23 -> 78 | M23: =G23+J23 -> 12049.185 | N23: =H23+K23 -> 1
A24: 2 | B24: SERVIÇOS PRELIMINARES | J24: =SUM(J25:J25) -> 0 | M24: =SUM(M25:M25) -> 2647.9789
A25: 2.1 | B25: Locação de obra com gabarito de madeira | C25: m2 | D25: 223.46 | E25: 11.849901 | F25: 223.46 | G25: =F25*E25 -> 2647.9789 | H25: =F25/D25 -> 1 | J25: =I25*E25 -> 0 | K25: =I25/D25 -> 0 | L25: =F25+I25 -> 223.46 | M25: =G25+J25 -> 2647.9789 | N25: =H25+K25 -> 1
A26: 3 | B26: MOVIMENTAÇÃO DE TERRA | J26: =SUM(J27:J29) -> 0 | M26: =SUM(M27:M29) -> 4619.0096
A27: 3.1 | B27: Escavação manual em material de 1a. Categoria, até 1.50 m de profundidade | C27: m3 | D27: 46.46 | E27: 61.719763 | F27: 42.61825 | G27: =F27*E27 -> 2630.3883 | H27: =F27/D27 -> 0.91731059 | J27: =I27*E27 -> 0 | K27: =I27/D27 -> 0 | L27: =F27+I27 -> 42.61825 | M27: =G27+J27 -> 2630.3883 | N27: =H27+K27 -> 0.91731059
A28: 3.2 | B28: Reaterro apiloado de cavas de fundação, em camadas de 20 cm | C28: m3 | D28: 33.05 | E28: 66.464615 | F28: 29.92 | G28: =F28*E28 -> 1988.6213 | H28: =F28/D28 -> 0.90529501 | J28: =I28*E28 -> 0 | K28: =I28/D28 -> 0 | L28: =F28+I28 -> 29.92 | M28: =G28+J28 -> 1988.6213 | N28: =H28+K28 -> 0.90529501
A29: 3.3 | B29: Aterro com areia em áreas de calçada, inclusive fornecimento e adensamento | C29: m3 | D29: 13.4 | E29: 197.60841 | F29: 0 | G29: =F29*E29 -> 0 | H29: =F29/D29 -> 0 | J29: =I29*E29 -> 0 | K29: =I29/D29 -> 0 | L29: =F29+I29 -> 0 | M29: =G29+J29 -> 0 | N29: =H29+K29 -> 0
A30: 4 | B30: INFRAESTRUTURA | J30: =SUM(J31:J37) -> 0 | M30: =SUM(M31:M37) -> 36588.838
A31: 4.1 | B31: Fornecimento, preparo e aplicação de concreto magro com consumo mínimo de cimento de 250 kg/m3 (brita 1 e 2) - (5% de perdas já incluído no custo) | C31: m3 | D31: 2.1 | E31: 742.09241 | F31: 1.994 | G31: =F31*E31 -> 1479.7323 | H31: =F31/D31 -> 0.94952381 | J31: =I31*E31 -> 0 | K31: =I31/D31 -> 0 | L31: =F31+I31 -> 1.994 | M31: =G31+J31 -> 1479.7323 | N31: =H31+K31 -> 0.94952381
A32: 4.2 | B32: Fornecimento, preparo e aplicação de concreto fck=20 mpa (brita 1 e 2) - (5% de perdas já incluído no custo) | C32: m3 | D32: 14.41 | E32: 791.70546 | F32: 0 | G32: =F32*E32 -> 0 | H32: =F32/D32 -> 0 | J32: =I32*E32 -> 0 | K32: =I32/D32 -> 0 | L32: =F32+I32 -> 0 | M32: =G32+J32 -> 0 | N32: =H32+K32 -> 0
A33: 4.3 | B33: Fôrma de chapa compensada resinada 12mm, levando-se em conta a utilização 3 vezes (incluido o material, corte, montagem, escoramento e desfôrma) | C33: m2 | D33: 133.88 | E33: 93.405102 | F33: 133.88 | G33: =F33*E33 -> 12505.075 | H33: =F33/D33 -> 1 | J33: =I33*E33 -> 0 | K33: =I33/D33 -> 0 | L33: =F33+I33 -> 133.88 | M33: =G33+J33 -> 12505.075 | N33: =H33+K33 -> 1
A34: 4.4 | B34: Fornecimento, preparo e aplicação de concreto fck=25 mpa (brita 1 e 2) - (5% de perdas já incluído no custo) | C34: m3 | D34: 13.8 | E34: 818.40137 | F34: 12.84725 | G34: =F34*E34 -> 10514.207 | H34: =F34/D34 -> 0.93096014 | J34: =I34*E34 -> 0 | K34: =I34/D34 -> 0 | L34: =F34+I34 -> 12.84725 | M34: =G34+J34 -> 10514.207 | N34: =H34+K34 -> 0.93096014
A35: 4.5 | B35: Fornecimento, dobragem e colocação em fôrma, de armadura ca-60 b fina, diâmetro de 4.0 a 7.0mm | C35: kg | D35: 545.35 | E35: 12.498038 | F35: 159.29267 | G35: =F35*E35 -> 1990.8458 | H35: =F35/D35 -> 0.29209254 | J35: =I35*E35 -> 0 | K35: =I35/D35 -> 0 | L35: =F35+I35 -> 159.29267 | M35: =G35+J35 -> 1990.8458 | N35: =H35+K35 -> 0.29209254
A36: 4.6 | B36: Fornecimento, dobragem e colocação em fôrma, de armadura ca-50 a média, diâmetro de 6.3 a 10.0 mm | C36: kg | D36: 873.41 | E36: 12.021107 | F36: 840.10385 | G36: =F36*E36 -> 10098.978 | H36: =F36/D36 -> 0.96186653 | J36: =I36*E36 -> 0 | K36: =I36/D36 -> 0 | L36: =F36+I36 -> 840.10385 | M36: =G36+J36 -> 10098.978 | N36: =H36+K36 -> 0.96186653
A37: 4.7 | B37: Aplicação de lona plástica para execução de pavimentos de concreto | C37: m² | D37: 223.46 | E37: 1.663144 | F37: 0 | G37: =F37*E37 -> 0 | H37: =F37/D37 -> 0 | J37: =I37*E37 -> 0 | K37: =I37/D37 -> 0 | L37: =F37+I37 -> 0 | M37: =G37+J37 -> 0 | N37: =H37+K37 -> 0
A38: 5 | B38: SUPERESTRUTURA | J38: =SUM(J39:J44) -> 14277.236 | M38: =SUM(M39:M44) -> 14277.236
A39: 5.1 | B39: Fôrma em chapa de madeira compensada plastificada 12mm para estrutura em geral, 5 reaproveitamentos, reforçada com sarrafos de madeira 2.5x10cm (incl material, corte, montagem, escoras em eucalipto e desforma) | C39: m2 | D39: 319.31 | E39: 111.30836 | F39: 0 | G39: =F39*E39 -> 0 | H39: =F39/D39 -> 0 | I39: =IFERROR(VLOOKUP(A39,'MEMO CALCULO 02'!$B$2:$E$307,4,0),0) -> 53.46 | J39: =I39*E39 -> 5950.5448 | K39: =I39/D39 -> 0.16742351 | L39: =F39+I39 -> 53.46 | M39: =G39+J39 -> 5950.5448 | N39: =H39+K39 -> 0.16742351
A40: 5.2 | B40: Fornecimento, preparo e aplicação de concreto fck=25 mpa (brita 1 e 2) - (5% de perdas já incluído no custo) | C40: m3 | D40: 21.99 | E40: 938.86925 | F40: 0 | G40: =F40*E40 -> 0 | H40: =F40/D40 -> 0 | I40: =IFERROR(VLOOKUP(A40,'MEMO CALCULO 02'!$B$2:$E$307,4,0),0) -> 2.67 | J40: =I40*E40 -> 2506.7809 | K40: =I40/D40 -> 0.12141883 | L40: =F40+I40 -> 2.67 | M40: =G40+J40 -> 2506.7809 | N40: =H40+K40 -> 0.12141883
A41: 5.3 | B41: Fornecimento, dobragem e colocação em fôrma, de armadura ca-60 b fina, diâmetro de 4.0 a 7.0mm | C41: kg | D41: 323.46 | E41: 12.498038 | F41: 0 | G41: =F41*E41 -> 0 | H41: =F41/D41 -> 0 | I41: =IFERROR(VLOOKUP(A41,'MEMO CALCULO 02'!$B$2:$E$307,4,0),0) -> 108.53493 | J41: =I41*E41 -> 1356.4737 | K41: =I41/D41 -> 0.3355436 | L41: =F41+I41 -> 108.53493 | M41: =G41+J41 -> 1356.4737 | N41: =H41+K41 -> 0.3355436
A42: 5.4 | B42: Fornecimento, dobragem e colocação em fôrma, de armadura ca-50 a média, diâmetro de 6.3 a 10.0 mm | C42: kg | D42: 1141.22 | E42: 12.021107 | F42: 0 | G42: =F42*E42 -> 0 | H42: =F42/D42 -> 0 | I42: =IFERROR(VLOOKUP(A42,'MEMO CALCULO 02'!$B$2:$E$307,4,0),0) -> 371.3 | J42: =I42*E42 -> 4463.437 | K42: =I42/D42 -> 0.32535357 | L42: =F42+I42 -> 371.3 | M42: =G42+J42 -> 4463.437 | N42: =H42+K42 -> 0.32535357
A43: 5.5 | B43: Laje pré-fabricada treliçada, sobrecarga 300 kg/m2, vão de 3.5m a 4.3m, capeamento 4cm, esp. 12cm, fck = 150 kg/cm2 | C43: m2 | D43: 306.44 | E43: 161.01924 | F43: 0 | G43: =F43*E43 -> 0 | H43: =F43/D43 -> 0 | I43: =IFERROR(VLOOKUP(A43,'MEMO CALCULO 02'!$B$2:$E$307,4,0),0) -> 0 | J43: =I43*E43 -> 0 | K43: =I43/D43 -> 0 | L43: =F43+I43 -> 0 | M43: =G43+J43 -> 0 | N43: =H43+K43 -> 0
A44: 5.6 | B44: Pintura impermeabilizante com igolflex ou equivalente a 3 demãos | C44: m2 | D44: 23.73 | E44: 54.137783 | F44: 0 | G44: =F44*E44 -> 0 | H44: =F44/D44 -> 0 | I44: =IFERROR(VLOOKUP(A44,'MEMO CALCULO 02'!$B$2:$E$307,4,0),0) -> 0 | J44: =I44*E44 -> 0 | K44: =I44/D44 -> 0 | L44: =F44+I44 -> 0 | M44: =G44+J44 -> 0 | N44: =H44+K44 -> 0
A45: 6 | B45: PAREDES E PAINÉIS | J45: =SUM(J46:J50) -> 26388.354 | M45: =SUM(M46:M50) -> 26388.354
A46: 6.1.1 | B46: Alvenaria de blocos cerâmicos 10 furos 10x20x20cm, assentados c/argamassa de cimento, cal hidratada ch1 e areia traço 1:0,5:8, esp. Das juntas 12mm e esp. Das paredes s/revestimento, 10cm (bloco comprado na fábrica, posto obra) | C46: m2 | D46: 439.07 | E46: 72.346764 | F46: 0 | G46: =F46*E46 -> 0 | H46: =F46/D46 -> 0 | I46: =IFERROR(VLOOKUP(A46,'MEMO CALCULO 02'!$B$2:$E$307,4,0),0) -> 355.384 | J46: =I46*E46 -> 25710.882 | K46: =I46/D46 -> 0.80940169 | L46: =F46+I46 -> 355.384 | M46: =G46+J46 -> 25710.882 | N46: =H46+K46 -> 0.80940169
A47: 6.1.2 | B47: Verga/contraverga reta de concreto armado 10 x 5 cm, fck = 15 mpa, inclusive forma, armação e desforma | C47: m | D47: 82.05 | E47: 10.627001 | F47: 0 | G47: =F47*E47 -> 0 | H47: =F47/D47 -> 0 | I47: =IFERROR(VLOOKUP(A47,'MEMO CALCULO 02'!$B$2:$E$307,4,0),0) -> 63.75 | J47: =I47*E47 -> 677.47131 | K47: =I47/D47 -> 0.77696527 | L47: =F47+I47 -> 63.75 | M47: =G47+J47 -> 677.47131 | N47: =H47+K47 -> 0.77696527
A48: 6.1.3 | B48: Chapisco de argamassa de cimento e areia média ou grossa lavada, no traço 1:3, espessura 5 mm | C48: m2 | D48: 1017.15 | E48: 7.94885 | F48: 0 | G48: =F48*E48 -> 0 | H48: =F48/D48 -> 0 | I48: =IFERROR(VLOOKUP(A48,'MEMO CALCULO 02'!$B$2:$E$307,4,0),0) -> 0 | J48: =I48*E48 -> 0 | K48: =I48/D48 -> 0 | L48: =F48+I48 -> 0 | M48: =G48+J48 -> 0 | N48: =H48+K48 -> 0
A49: 6.1.4 | B49: Emboço de argamassa de cimento, cal hidratada ch1 e areia média ou grossa lavada no traço 1:0.5:6, espessura 20 mm | C49: m2 | D49: 257.83 | E49: 38.325686 | F49: 0 | G49: =F49*E49 -> 0 | H49: =F49/D49 -> 0 | I49: =IFERROR(VLOOKUP(A49,'MEMO CALCULO 02'!$B$2:$E$307,4,0),0) -> 0 | J49: =I49*E49 -> 0 | K49: =I49/D49 -> 0 | L49: =F49+I49 -> 0 | M49: =G49+J49 -> 0 | N49: =H49+K49 -> 0
B50: Reboco de argamassa de cimento, cal hidratada ch1 e areia média ou grossa lavada no traço 1:0.5:6, espessura 5mm | C50: m2 | D50: 728.96 | E50: 26.695907 | F50: 0 | G50: =F50*E50 -> 0 | H50: =F50/D50 -> 0 | I50: =IFERROR(VLOOKUP(A50,'MEMO CALCULO 02'!$B$2:$E$307,4,0),0) -> 0 | J50: =I50*E50 -> 0 | K50: =I50/D50 -> 0 | L50: =F50+I50 -> 0 | M50: =G50+J50 -> 0 | N50: =H50+K50 -> 0
A51: 7 | B51: REVESTIMENTOS | J51: =SUM(J52:J53) -> 0 | M51: =SUM(M52:M53) -> 0
...

Sheet MEMO CALCULO 02
B2: PREFEITURA MUNICIPAL DE SÃO ROQUE DO CANAÃ
B8: MEMÓRIA DE CÁLCULO 2ª MEDIÇÃO
B9: OBRA: CONSTRUÇÃO DE UM CENTRO DE CONVIVÊNCIA E FORTALECIMENTO DE VÍNCULOS | D9: DATA: 04/06/2025
B10: LOCAL: DISTRITO DE SÃO JACINTO, SÃO ROQUE DO CANAÃ – ES
B11: ITEM | C11: DESCRIÇÃO | D11: UND | E11: QUANT.
B12: 4 | C12: =VLOOKUP(B12,'MEDIÇÃO 2'!$A$20:$C$199,2,0) -> INFRAESTRUTURA
B13: 4.6 | C13: =VLOOKUP(B13,'MEDIÇÃO 2'!$A$20:$C$199,2,0) -> Fornecimento, dobragem e colocação em fôrma, de armadura ca-50 a média, diâmetro de 6.3 a 10.0 mm | D13: =VLOOKUP(B13,'MEDIÇÃO 2'!$A$20:$C$41,3,0) -> kg | E13: =SUM(D15:D16) -> 0
B14: POSTE DE CONCRETO DE 7m EMBUTIDO NO PADRÃO DE ENERGIA (25X25) – Saldo existente
B15: 1 Pilar de Centro 6Ø 10.0mm = 7,00 m x 6 barras x 0,617 Kg/m = 25,91 Kg | D15: 0
B16: Fundação do Poste: Broca de 2,00 m com 6Ø 10.0mm = 2,00 m x 6 barras x 0,617 Kg/m = 7,40 Kg | D16: 0
B17: NOTA: Material excedente executado na fundação será considerado em aditivo
B19: 5 | C19: =VLOOKUP(B19,'MEDIÇÃO 2'!$A$20:$C$199,2,0) -> SUPERESTRUTURA
B20: 5.1 | C20: =VLOOKUP(B20,'MEDIÇÃO 2'!$A$20:$C$199,2,0) -> Fôrma em chapa de madeira compensada plastificada 12mm para estrutura em geral, 5 reaproveitamentos, reforçada com sarrafos de madeira 2.5x10cm (incl material, corte, montagem, escoras em eucalipto e desforma) | D20: =VLOOKUP(B20,'MEDIÇÃO 2'!$A$20:$C$41,3,0) -> m2 | E20: =SUM(D21:D22) -> 53.46
B21: PILARES TÉRREO P/ COBERTURA
B22: (0,15 m + 0,15 m + 0,30 m + 0,30 m) x 2,70 m x 22 pilares = 53,46 m² | D22: 53.46
B23: 5.2 | C23: =VLOOKUP(B23,'MEDIÇÃO 2'!$A$20:$C$199,2,0) -> Fornecimento, preparo e aplicação de concreto fck=25 mpa (brita 1 e 2) - (5% de perdas já incluído no custo) | D23: =VLOOKUP(B23,'MEDIÇÃO 2'!$A$20:$C$41,3,0) -> m3 | E23: =SUM(D24:D25) -> 2.67
B24: PILARES TÉRREO P/ COBERTURA
B25: 0,15 m x 0,30 m x 2,70 m x 22 pilares = 2,67 m³ | D25: 2.67
B26: 5.3 | C26: =VLOOKUP(B26,'MEDIÇÃO 2'!$A$20:$C$199,2,0) -> Fornecimento, dobragem e colocação em fôrma, de armadura ca-60 b fina, diâmetro de 4.0 a 7.0mm | D26: =VLOOKUP(B26,'MEDIÇÃO 2'!$A$20:$C$41,3,0) -> kg | E26: =SUM(D27:D47) -> 108.53493
B27: PILARES TÉRREO P/ COBERTURA
B28: Pilares com estribo Ø 5 mm a cada 0,15 m comprimento 0,80 m = (2,70 m/0,15 m) x 0,80 m x 0,154 Kg/m x 23 pilares = 51,00 Kg | D28: 51
B29: VIGAS TÉRREO (COBERTURA)
B30: Vigas 15 x 40 Ø 5 mm a cada 0,15 m c = 1,00 m
B31: V1.: (7,85 m/0,15) x 1,00 m x 0,154 Kg/m = 8,06 Kg (sem pilares) | D31: 8.0593333
B32: V3b.: (4,55 m/0,15) x 1,00 m x 0,154 Kg/m = 4,67 Kg (+1/2 pilar interno) | D32: 4.6713333
B33: V5b.:(3,43 m/0,15) x 1,00 m x 0,154 Kg/m = 3,52 Kg (pilar interno) | D33: 3.52
B34: V13.:(5,35 m/0,15) x 1,00 m x 0,154 Kg/m = 5,49 Kg (sem pilares) | D34: 5.49
B35: Viga de Transição (V2).: (3,95 m/0,15) x 1,00 m x 0,154 Kg/m = 4,06 Kg (sem vigas) | D35: 4.06
B36: Vigas 15 x 30 Ø 5 mm a cada 0,15 m c = 0,80 m
B37: V3a.: (3,29 m/0,15) x 0,80 m x 0,154 Kg/m = 2,70 Kg (sem pilares) | D37: 2.7
B38: V2.: (4,55 m/0,15) x 0,80 m x 0,154 Kg/m = 3,74 Kg (entre vigas) | D38: 3.74
B39: V12.: (3,95 m/0,15) x 0,80 m x 0,154 Kg/m = 3,24 Kg | D39: 3.2442667
B40: VB1.: (9,90 m/0,15) x 0,80 m x 0,154 Kg/m = 8,13 Kg | D40: 8.13
B41: V14.: (9,70 m/0,15) x 0,80 m x 0,154 Kg/m = 7,97 Kg (parcial) | D41: 9.97
B42: VIGAS DE SUSTENTAÇÃO DA VIGA EM BALANÇO
B43: V1.: Viga com estribo Ø 5 mm a cada 0,15 m comprimento 0,80 m = (0,80 m/0,15 m) x 0,80 m x 0,154 Kg/m x 2 vigas = 1,31 Kg (sem pilares) | D43: 1.31
B44: V3a.: Viga com estribo Ø 5 mm a cada 0,15 m comprimento 0,80 m = (0,80 m/0,15 m) x 0,80 m x 0,154 Kg/m x 1 viga = 0,66 Kg | D44: 0.66
B45: V3b.: Viga com estribo Ø 5 mm a cada 0,15 m comprimento 0,80 m = (0,80 m/0,15 m) x 0,80 m x 0,154 Kg/m x 1 viga = 0,66 Kg | D45: 0.66
B46: V5b.: Viga com estribo Ø 5 mm a cada 0,15 m comprimento 0,80 m = (0,80 m/0,15 m) x 0,80 m x 0,154 Kg/m x 1 viga = 0,66 Kg | D46: 0.66
B47: V12.: Viga com estribo Ø 5 mm a cada 0,15 m comprimento 0,80 m = (0,80 m/0,15 m) x 0,80 m x 0,154 Kg/m x 1 viga = 0,66 Kg | D47: 0.66
...
