Workbook
Name Print_Area_0: 'MEDIÇÃO 7'!$A$1:$N$213
Name Print_Area_0_0: 'MEDIÇÃO 7'!$A$1:$N$214
Name Print_Area_0_0_0: 'MEDIÇÃO 7'!$A$1:$N$212
Name Print_Area_0_0_0_0: 'MEDIÇÃO 7'!$A$1:$N$210
Name Print_Area_0_0_0_0: 'MEMO CALCULO 07'!$A$1:$E$200
Name Print_Area_0_0_0_0_0: 'MEDIÇÃO 7'!$A$13:$N$212
Name Print_Area_0_0_0_0_0_0: 'MEDIÇÃO 7'!$A$13:$N$209

Sheet MEDIÇÃO 7
A1: PREFEITURA MUNICIPAL DE SO ROQUE DO CANA Estado do Esprito Santo SECRETARIA MUNICIPAL DE OBRAS E SERVIÇOS URBANOS – SETOR DE ENGENHARIA
A13: BOLETIM DE | E13: =I18 -> MEDIÇÃO 07 | K13: DATA: 01/12/2025
A14: OBRA: CONSTRUÇÃO DE UM CENTRO DE CONVIVÊNCIA E FORTALECIMENTO DE VÍNCULOS | D14: CONTRATO Nº: | F14: 037/2025 | H14: Assinatura: 24/03/2025 | K14: INÍCIO: | M14: 45747
K15: TÉRMINO: | M15: 45987
A16: LOCAL: DISTRITO DE SÃO JACINTO, SÃO ROQUE DO CANAÃ-ES | D16: PERÍODO: | F16: 45933 | H16: a | I16: 45957 | K16: PRAZO: | M16: 240 DIAS
A17: EMPREITEIRA: DELFIN CONSTRUTORA LTDA | F17: =I18 -> MEDIÇÃO 07 | I17: =L202 -> 107507.45 | K17: % MÊS: | L17: =H202 -> 0.12662833 | M17: % ACUM: | N17: =H203 -> 0.57979989
A18: ITEM | B18: ESPECIFICAÇÃO | C18: UNID. | D18: QUANT. | E18: PREÇO UNIT R$ | F18: ACUMULADO ANTERIOR | I18: MEDIÇÃO 07 | L18: TOTAL MEDIDO
F19: QUANT. | G19: TOTAL | H19: % | I19: QUANT. | J19: TOTAL | K19: % | L19: QUANT. | M19: TOTAL | N19: %
A20: 1 | B20: INSTALAÇÃO DO CANTEIRO DE OBRAS | J20: =SUM(J21:J23) -> 0 | M20: =SUM(M21:M23) -> 22521.215
A21: 1.1 | B21: Placa de obra nas dimensões de 2.0 x 4.0 m, padrão der | C21: m2 | D21: 8 | E21: 371.19907 | F21: 8 | G21: =F21*E21 -> 2969.5925 | H21: =F21/D21 -> 1 | I21: =IFERROR(VLOOKUP(A21,'MEMO CALCULO 07'!$B$8:$E$202,4,0),0) -> 0 | J21: =I21*E21 -> 0 | K21: =I21/D21 -> 0 | L21: =F21+I21 -> 8 | M21: =G21+J21 -> 2969.5925 | N21: =H21+K21 -> 1
A22: 1.2 | B22: Barracão para almoxarifado área de 10.90m2, de chapa de compensado de 12mm e pontalete 8x8cm, piso cimentado e cobertura de telhas de fibrocimento de 6mm, incl. Ponto de luz, conf. Projeto (1 utilização) | C22: m2 | D22: 10.9 | E22: 688.29704 | F22: 10.9 | G22: =F22*E22 -> 7502.4377 | H22: =F22/D22 -> 1 | I22: =IFERROR(VLOOKUP(A22,'MEMO CALCULO 07'!$B$8:$E$202,4,0),0) -> 0 | J22: =I22*E22 -> 0 | K22: =I22/D22 -> 0 | L22: =F22+I22 -> 10.9 | M22: =G22+J22 -> 7502.4377 | N22: =H22+K22 -> 1
A23: 1.3 | B23: Tapume telha metálica ondulada em aço galvalume 0,50mm branca h=2,20m, incl. Montagem estr. Mad. 8"x8", c/adesivo "der-es" 60x60cm a cada 10m, incl. Faixas pint. Esmalte sint. Cores azul c/ h=30cm e rosa c/ h=10cm (reaproveitamento 2x) | C23: m | D23: 78 | E23: 154.47673 | F23: 78 | G23: =F23*E23 -> 12049.185 | H23: =F23/D23 -> 1 | I23: =IFERROR(VLOOKUP(A23,'MEMO CALCULO 07'!$B$8:$E$202,4,0),0) -> 0 | J23: =I23*E23 -> 0 | K23: =I23/D23 -> 0 | L23: =F23+I23 -> 78 | M23: =G23+J23 -> 12049.185 | N23: =H23+K23 -> 1
A24: 2 | B24: SERVIÇOS PRELIMINARES | J24: =SUM(J25) -> 0 | M24: =SUM(M25) -> 2647.9789
A25: 2.1 | B25: Locação de obra com gabarito de madeira | C25: m2 | D25: 223.46 | E25: 11.849901 | F25: 223.46 | G25: =F25*E25 -> 2647.9789 | H25: =F25/D25 -> 1 | I25: =IFERROR(VLOOKUP(A25,'MEMO CALCULO 07'!$B$8:$E$202,4,0),0) -> 0 | J25: =I25*E25 -> 0 | K25: =I25/D25 -> 0 | L25: =F25+I25 -> 223.46 | M25: =G25+J25 -> 2647.9789 | N25: =H25+K25 -> 1
A26: 3 | B26: MOVIMENTAÇÃO DE TERRA | J26: =SUM(J27:J29) -> 2647.9527 | M26: =SUM(M27:M29) -> 7266.9623
A27: 3.1 | B27: Escavação manual em material de 1a. Categoria, até 1.50 m de profundidade | C27: m3 | D27: 46.46 | E27: 61.719763 | F27: 42.61825 | G27: =F27*E27 -> 2630.3883 | H27: =F27/D27 -> 0.91731059 | I27: =IFERROR(VLOOKUP(A27,'MEMO CALCULO 07'!$B$8:$E$202,4,0),0) -> 0 | J27: =I27*E27 -> 0 | K27: =I27/D27 -> 0 | L27: =F27+I27 -> 42.61825 | M27: =G27+J27 -> 2630.3883 | N27: =H27+K27 -> 0.91731059
A28: 3.2 | B28: Reaterro apiloado de cavas de fundação, em camadas de 20 cm | C28: m3 | D28: 33.05 | E28: 66.464615 | F28: 29.92 | G28: =F28*E28 -> 1988.6213 | H28: =F28/D28 -> 0.90529501 | I28: =IFERROR(VLOOKUP(A28,'MEMO CALCULO 07'!$B$8:$E$202,4,0),0) -> 0 | J28: =I28*E28 -> 0 | K28: =I28/D28 -> 0 | L28: =F28+I28 -> 29.92 | M28: =G28+J28 -> 1988.6213 | N28: =H28+K28 -> 0.90529501
A29: 3.3 | B29: Aterro com areia em áreas de calçada, inclusive fornecimento e adensamento | C29: m3 | D29: 13.4 | E29: 197.60841 | F29: 0 | G29: =F29*E29 -> 0 | H29: =F29/D29 -> 0 | I29: =IFERROR(VLOOKUP(A29,'MEMO CALCULO 07'!$B$8:$E$202,4,0),0) -> 13.4 | J29: =I29*E29 -> 2647.9527 | K29: =I29/D29 -> 1 | L29: =F29+I29 -> 13.4 | M29: =G29+J29 -> 2647.9527 | N29: =H29+K29 -> 1
A30: 4 | B30: INFRAESTRUTURA | J30: =SUM(J31:J37) -> 0 | M30: =SUM(M31:M37) -> 51378.598
A31: 4.1 | B31: Fornecimento, preparo e aplicação de concreto magro com consumo mínimo de cimento de 250 kg/m3 (brita 1 e 2) - (5% de perdas já incluído no custo) | C31: m3 | D31: 2.1 | E31: 742.09241 | F31: 1.994 | G31: =F31*E31 -> 1479.7323 | H31: =F31/D31 -> 0.94952381 | I31: =IFERROR(VLOOKUP(A31,'MEMO CALCULO 07'!$B$8:$E$202,4,0),0) -> 0 | J31: =I31*E31 -> 0 | K31: =I31/D31 -> 0 | L31: =F31+I31 -> 1.994 | M31: =G31+J31 -> 1479.7323 | N31: =H31+K31 -> 0.94952381
A32: 4.2 | B32: Fornecimento, preparo e aplicação de concreto fck=20 mpa (brita 1 e 2) - (5% de perdas já incluído no custo) | C32: m3 | D32: 14.41 | E32: 791.70546 | F32: 13.41 | G32: =F32*E32 -> 10616.77 | H32: =F32/D32 -> 0.93060375 | I32: =IFERROR(VLOOKUP(A32,'MEMO CALCULO 07'!$B$8:$E$202,4,0),0) -> 0 | J32: =I32*E32 -> 0 | K32: =I32/D32 -> 0 | L32: =F32+I32 -> 13.41 | M32: =G32+J32 -> 10616.77 | N32: =H32+K32 -> 0.93060375
A33: 4.3 | B33: Fôrma de chapa compensada resinada 12mm, levando-se em conta a utilização 3 vezes (incluido o material, corte, montagem, escoramento e desfôrma) | C33: m2 | D33: 133.88 | E33: 93.405102 | F33: 133.88 | G33: =F33*E33 -> 12505.075 | H33: =F33/D33 -> 1 | I33: =IFERROR(VLOOKUP(A33,'MEMO CALCULO 07'!$B$8:$E$202,4,0),0) -> 0 | J33: =I33*E33 -> 0 | K33: =I33/D33 -> 0 | L33: =F33+I33 -> 133.88 | M33: =G33+J33 -> 12505.075 | N33: =H33+K33 -> 1
A34: 4.4 | B34: Fornecimento, preparo e aplicação de concreto fck=25 mpa (brita 1 e 2) - (5% de perdas já incluído no custo) | C34: m3 | D34: 13.8 | E34: 818.40137 | F34: 12.84725 | G34: =F34*E34 -> 10514.207 | H34: =F34/D34 -> 0.93096014 | I34: =IFERROR(VLOOKUP(A34,'MEMO CALCULO 07'!$B$8:$E$202,4,0),0) -> 0 | J34: =I34*E34 -> 0 | K34: =I34/D34 -> 0 | L34: =F34+I34 -> 12.84725 | M34: =G34+J34 -> 10514.207 | N34: =H34+K34 -> 0.93096014
A35: 4.5 | B35: Fornecimento, dobragem e colocação em fôrma, de armadura ca-60 b fina, diâmetro de 4.0 a 7.0mm | C35: kg | D35: 545.35 | E35: 12.498038 | F35: 431.41267 | G35: =F35*E35 -> 5391.8119 | H35: =F35/D35 -> 0.79107484 | I35: =IFERROR(VLOOKUP(A35,'MEMO CALCULO 07'!$B$8:$E$202,4,0),0) -> 0 | J35: =I35*E35 -> 0 | K35: =I35/D35 -> 0 | L35: =F35+I35 -> 431.41267 | M35: =G35+J35 -> 5391.8119 | N35: =H35+K35 -> 0.79107484
A36: 4.6 | B36: Fornecimento, dobragem e colocação em fôrma, de armadura ca-50 a média, diâmetro de 6.3 a 10.0 mm | C36: kg | D36: 873.41 | E36: 12.021107 | F36: 873.41 | G36: =F36*E36 -> 10499.355 | H36: =F36/D36 -> 1 | I36: =IFERROR(VLOOKUP(A36,'MEMO CALCULO 07'!$B$8:$E$202,4,0),0) -> 0 | J36: =I36*E36 -> 0 | K36: =I36/D36 -> 0 | L36: =F36+I36 -> 873.41 | M36: =G36+J36 -> 10499.355 | N36: =H36+K36 -> 1
A37: 4.7 | B37: Aplicação de lona plástica para execução de pavimentos de concreto | C37: m² | D37: 223.46 | E37: 1.663144 | F37: 223.46 | G37: =F37*E37 -> 371.64616 | H37: =F37/D37 -> 1 | I37: =IFERROR(VLOOKUP(A37,'MEMO CALCULO 07'!$B$8:$E$202,4,0),0) -> 0 | J37: =I37*E37 -> 0 | K37: =I37/D37 -> 0 | L37: =F37+I37 -> 223.46 | M37: =G37+J37 -> 371.64616 | N37: =H37+K37 -> 1
A38: 5 | B38: SUPERESTRUTURA | J38: =SUM(J39:J44) -> 0 | M38: =SUM(M39:M44) -> 110881.27
A39: 5.1 | B39: Fôrma em chapa de madeira compensada plastificada 12mm para estrutura em geral, 5 reaproveitamentos, reforçada com sarrafos de madeira 2.5x10cm (incl material, corte, montagem, escoras em eucalipto e desforma) | C39: m2 | D39: 319.31 | E39: 111.30836 | F39: 267.3166 | G39: =F39*E39 -> 29754.572 | H39: =F39/D39 -> 0.83716952 | I39: =IFERROR(VLOOKUP(A39,'MEMO CALCULO 07'!$B$8:$E$202,4,0),0) -> 0 | J39: =I39*E39 -> 0 | K39: =I39/D39 -> 0 | L39: =F39+I39 -> 267.3166 | M39: =G39+J39 -> 29754.572 | N39: =H39+K39 -> 0.83716952
A40: 5.2 | B40: Fornecimento, preparo e aplicação de concreto fck=25 mpa (brita 1 e 2) - (5% de perdas já incluído no custo) | C40: m3 | D40: 21.99 | E40: 938.86925 | F40: 18.0187 | G40: =F40*E40 -> 16917.203 | H40: =F40/D40 -> 0.81940427 | I40: =IFERROR(VLOOKUP(A40,'MEMO CALCULO 07'!$B$8:$E$202,4,0),0) -> 0 | J40: =I40*E40 -> 0 | K40: =I40/D40 -> 0 | L40: =F40+I40 -> 18.0187 | M40: =G40+J40 -> 16917.203 | N40: =H40+K40 -> 0.81940427
A41: 5.3 | B41: Fornecimento, dobragem e colocação em fôrma, de armadura ca-60 b fina, diâmetro de 4.0 a 7.0mm | C41: kg | D41: 323.46 | E41: 12.498038 | F41: 318.66 | G41: =F41*E41 -> 3982.6248 | H41: =F41/D41 -> 0.98516045 | I41: =IFERROR(VLOOKUP(A41,'MEMO CALCULO 07'!$B$8:$E$202,4,0),0) -> 0 | J41: =I41*E41 -> 0 | K41: =I41/D41 -> 0 | L41: =F41+I41 -> 318.66 | M41: =G41+J41 -> 3982.6248 | N41: =H41+K41 -> 0.98516045
A42: 5.4 | B42: Fornecimento, dobragem e colocação em fôrma, de armadura ca-50 a média, diâmetro de 6.3 a 10.0 mm | C42: kg | D42: 1141.22 | E42: 12.021107 | F42: 1141.22 | G42: =F42*E42 -> 13718.728 | H42: =F42/D42 -> 1 | I42: =IFERROR(VLOOKUP(A42,'MEMO CALCULO 07'!$B$8:$E$202,4,0),0) -> 0 | J42: =I42*E42 -> 0 | K42: =I42/D42 -> 0 | L42: =F42+I42 -> 1141.22 | M42: =G42+J42 -> 13718.728 | N42: =H42+K42 -> 1
A43: 5.5 | B43: Laje pré-fabricada treliçada, sobrecarga 300 kg/m2, vão de 3.5m a 4.3m, capeamento 4cm, esp. 12cm, fck = 150 kg/cm2 | C43: m2 | D43: 306.44 | E43: 161.01924 | F43: 282.71 | G43: =F43*E43 -> 45521.75 | H43: =F43/D43 -> 0.92256233 | I43: =IFERROR(VLOOKUP(A43,'MEMO CALCULO 07'!$B$8:$E$202,4,0),0) -> 0 | J43: =I43*E43 -> 0 | K43: =I43/D43 -> 0 | L43: =F43+I43 -> 282.71 | M43: =G43+J43 -> 45521.75 | N43: =H43+K43 -> 0.92256233
A44: 5.6 | B44: Pintura impermeabilizante com igolflex ou equivalente a 3 demãos | C44: m2 | D44: 23.73 | E44: 54.137783 | F44: 18.22 | G44: =F44*E44 -> 986.39041 | H44: =F44/D44 -> 0.76780447 | I44: =IFERROR(VLOOKUP(A44,'MEMO CALCULO 07'!$B$8:$E$202,4,0),0) -> 0 | J44: =I44*E44 -> 0 | K44: =I44/D44 -> 0 | L44: =F44+I44 -> 18.22 | M44: =G44+J44 -> 986.39041 | N44: =H44+K44 -> 0.76780447
A45: 6 | B45: PAREDES E PAINÉIS | J45: =SUM(J46:J50) -> 0 | M45: =SUM(M46:M50) -> 69944.134
A46: 6.1.1 | B46: Alvenaria de blocos cerâmicos 10 furos 10x20x20cm, assentados c/argamassa de cimento, cal hidratada ch1 e areia traço 1:0,5:8, esp. Das juntas 12mm e esp. Das paredes s/revestimento, 10cm (bloco comprado na fábrica, posto obra) | C46: m2 | D46: 439.07 | E46: 72.346764 | F46: 439.07 | G46: =F46*E46 -> 31765.294 | H46: =F46/D46 -> 1 | I46: =IFERROR(VLOOKUP(A46,'MEMO CALCULO 07'!$B$8:$E$202,4,0),0) -> 0 | J46: =I46*E46 -> 0 | K46: =I46/D46 -> 0 | L46: =F46+I46 -> 439.07 | M46: =G46+J46 -> 31765.294 | N46: =H46+K46 -> 1
A47: 6.1.2 | B47: Verga/contraverga reta de concreto armado 10 x 5 cm, fck = 15 mpa, inclusive forma, armação e desforma | C47: m | D47: 82.05 | E47: 10.627001 | F47: 80.55 | G47: =F47*E47 -> 856.00493 | H47: =F47/D47 -> 0.98171846 | I47: =IFERROR(VLOOKUP(A47,'MEMO CALCULO 07'!$B$8:$E$202,4,0),0) -> 0 | J47: =I47*E47 -> 0 | K47: =I47/D47 -> 0 | L47: =F47+I47 -> 80.55 | M47: =G47+J47 -> 856.00493 | N47: =H47+K47 -> 0.98171846
A48: 6.1.3 | B48: Chapisco de argamassa de cimento e areia média ou grossa lavada, no traço 1:3, espessura 5 mm | C48: m2 | D48: 1017.15 | E48: 7.94885 | F48: 1004.0675 | G48: =F48*E48 -> 7981.1819 | H48: =F48/D48 -> 0.98713808 | I48: =IFERROR(VLOOKUP(A48,'MEMO CALCULO 07'!$B$8:$E$202,4,0),0) -> 0 | J48: =I48*E48 -> 0 | K48: =I48/D48 -> 0 | L48: =F48+I48 -> 1004.0675 | M48: =G48+J48 -> 7981.1819 | N48: =H48+K48 -> 0.98713808
A49: 6.1.4 | B49: Emboço de argamassa de cimento, cal hidratada ch1 e areia média ou grossa lavada no traço 1:0.5:6, espessura 20 mm | C49: m2 | D49: 257.83 | E49: 38.325686 | F49: 257.83 | G49: =F49*E49 -> 9881.5116 | H49: =F49/D49 -> 1 | I49: =IFERROR(VLOOKUP(A49,'MEMO CALCULO 07'!$B$8:$E$202,4,0),0) -> 0 | J49: =I49*E49 -> 0 | K49: =I49/D49 -> 0 | L49: =F49+I49 -> 257.83 | M49: =G49+J49 -> 9881.5116 | N49: =H49+K49 -> 1
A50: 6.1.5 | B50: Reboco de argamassa de cimento, cal hidratada ch1 e areia média ou grossa lavada no traço 1:0.5:6, espessura 5mm | C50: m2 | D50: 728.96 | E50: 26.695907 | F50: 728.956 | G50: =F50*E50 -> 19460.142 | H50: =F50/D50 -> 0.99999451 | I50: =IFERROR(VLOOKUP(A50,'MEMO CALCULO 07'!$B$8:$E$202,4,0),0) -> 0 | J50: =I50*E50 -> 0 | K50: =I50/D50 -> 0 | L50: =F50+I50 -> 728.956 | M50: =G50+J50 -> 19460.142 | N50: =H50+K50 -> 0.99999451
A51: 7 | B51: REVESTIMENTOS | J51: =SUM(J52:J53) -> 8095.1754 | M51: =SUM(M52:M53) -> 15668.233
...

Sheet MEMO CALCULO 07
B2: PREFEITURA MUNICIPAL DE SÃO ROQUE DO CANAÃ
B8: MEMÓRIA DE CÁLCULO 7ª MEDIÇÃO
B9: OBRA: CONSTRUÇÃO DE UM CENTRO DE CONVIVÊNCIA E FORTALECIMENTO DE VÍNCULOS | D9: DATA: 01/12/2025
B10: LOCAL: DISTRITO DE SÃO JACINTO, SÃO ROQUE DO CANAÃ – ES
B11: ITEM | C11: DESCRIÇÃO | D11: UND | E11: QUANT.
B13: 3 | C13: =VLOOKUP(B13,'MEDIÇÃO 7'!$A$20:$C$199,2,0) -> MOVIMENTAÇÃO DE TERRA
B14: 3.3 | C14: =VLOOKUP(B14,'MEDIÇÃO 7'!$A$20:$C$199,2,0) -> Aterro com areia em áreas de calçada, inclusive fornecimento e adensamento | D14: =VLOOKUP(B14,'MEDIÇÃO 7'!$A$20:$C$198,3,0) -> m3 | E14: =SUM(D15) -> 13.4
B15: Regularização da Laje do Piso: 223,40 m² x 0,06 m = 13,40 m³ | D15: 13.4
B17: 7 | C17: =VLOOKUP(B17,'MEDIÇÃO 7'!$A$20:$C$199,2,0) -> REVESTIMENTOS
B18: 7.1 | C18: =VLOOKUP(B18,'MEDIÇÃO 7'!$A$20:$C$199,2,0) -> Azulejo branco 15 x 15 cm, juntas a prumo, assentado com argamassa de cimento colante, inclusive rejuntamento com cimento branco, marcas de referência eliane, cecrisa ou portobello | D18: =VLOOKUP(B18,'MEDIÇÃO 7'!$A$20:$C$198,3,0) -> m2 | E18: =SUM(D19:D22) -> 68.84
B19: WC PCD Feminino: 7,90 m x 2,55 m – 2,04 m² (desconto) = 18,10 m² | D19: 18.1
B20: WC PCD Masculino: 7,90 m x 2,55 m – 2,04 m² (desconto) = 18,10 m² | D20: 18.1
B21: WC Feminino: 7,20 m x 2,55 m - 2,04 m² (desconto) = 16,32 m² | D21: 16.32
B22: WC Masculino: 7,20 m x 2,55 m - 2,04 m² (desconto) = 16,32 m² | D22: 16.32
B24: 8 | C24: =VLOOKUP(B24,'MEDIÇÃO 7'!$A$20:$C$199,2,0) -> PISOS
B25: 8.2 | C25: =VLOOKUP(B25,'MEDIÇÃO 7'!$A$20:$C$199,2,0) -> Piso argamassa alta resistência tipo granilite ou equiv de qualidade comprovada, esp de 10mm, com juntas plástica em quadros de 1m, na cor natural, com acabamento polido mecanizado, inclusive regularização e=3.0cm | D25: =VLOOKUP(B25,'MEDIÇÃO 7'!$A$20:$C$198,3,0) -> m2 | E25: =SUM(D26:D27) -> 0
B26: Áreas medidas de regularização na 6ª medição | D26: 0
B27: NOTA.: Pertencente a 6ª medição.
B29: 9 | C29: =VLOOKUP(B29,'MEDIÇÃO 7'!$A$20:$C$199,2,0) -> TETOS E FORROS
B30: 9.1 | C30: =VLOOKUP(B30,'MEDIÇÃO 7'!$A$20:$C$199,2,0) -> Forro de gesso acabamento tipo liso | D30: =VLOOKUP(B30,'MEDIÇÃO 7'!$A$20:$C$198,3,0) -> m2 | E30: =SUM(D31:D45) -> 202.24
B31: Salão de atividades 01: Conforme projeto = 45,56 m² | D31: 45.56
B32: Sala de atividades 02: Conforme projeto = 29,48 m² | D32: 29.48
B33: Atendimento individual: Conforme projeto = 12,35 m² | D33: 12.35
B34: Coordenação: Conforme projeto = 14,98 m² | D34: 14.98
B35: Área de serviço: Conforme projeto = 6,12 m² | D35: 6.12
B36: Cozinha: Conforme projeto = 11,85 m² | D36: 11.85
B37: Despensa: Conforme projeto = 4,20 m² | D37: 4.2
B38: Almoxarifado: Conforme projeto = 4,62 m² | D38: 4.62
B39: WC PCD feminino: Conforme projeto = 3,79 m² | D39: 3.79
B40: WC PCD masculino: Conforme projeto = 3,79 m² | D40: 3.79
B41: WC feminino: Conforme projeto = 2,99 m² | D41: 2.99
B42: WC masculino: Conforme projeto = 2,99 m² | D42: 2.99
... B45: Circulação: Conforme projeto = 26,36 m² | D45: 26.36
B47: 10 | C47: =VLOOKUP(B47,'MEDIÇÃO 7'!$A$20:$C$199,2,0) -> PINTURA
B48: 10.3 | C48: =VLOOKUP(B48,'MEDIÇÃO 7'!$A$20:$C$199,2,0) -> SOBRE METAL
B49: 10.3.1 | C49: =VLOOKUP(B49,'MEDIÇÃO 7'!$A$20:$C$199,2,0) -> Pintura sobre metal, aplicação manual, com duas demãos de tinta esmalte sintético, referência suvinil, coral ou metalatex, inclusive uma demão de fundo anticorrosivo | D49: =VLOOKUP(B49,'MEDIÇÃO 7'!$A$20:$C$198,3,0) -> m2 | E49: =SUM(D50:D64) -> 38.72
B50: GRADES JANELAS
B51: Salão de atividades 01: 1,50 m x 1,10 m x 4 janelas x 2 (coeficiente) = 13,20 m² | D51: 13.2
B52: Sala de atividades 02: 1,50 m x 1,10 m x 1 janela x 2 (coeficiente) = 3,30 m² | D52: 3.3
B53: Atendimento individual: 1,50 m x 1,10 m x 1 janela x 2 (coeficiente) = 3,30 m² | D53: 3.3
...
