Workbook
Name Print_Area_0: 'MEDIÇÃO 8'!$A$1:$Q$241
Name Print_Area_0_0: 'MEDIÇÃO 8'!$A$1:$Q$242
Name Print_Area_0_0_0: 'MEDIÇÃO 8'!$A$1:$Q$240
Name Print_Area_0_0_0_0: 'MEDIÇÃO 8'!$A$1:$Q$238
Name Print_Area_0_0_0_0: 'MEMO CALCULO 08'!$A$1:$E$180
Name Print_Area_0_0_0_0_0: 'MEDIÇÃO 8'!$A$13:$Q$240
Name Print_Area_0_0_0_0_0_0: 'MEDIÇÃO 8'!$A$13:$Q$237

Sheet MEDIÇÃO 8
A1: PREFEITURA MUNICIPAL DE SO ROQUE DO CANA Estado do Esprito Santo SECRETARIA MUNICIPAL DE OBRAS E SERVIÇOS URBANOS – SETOR DE ENGENHARIA
A13: BOLETIM DE | E13: =L18 -> MEDIÇÃO 08 | N13: DATA: 10/02/2026
A14: OBRA: CONSTRUÇÃO DE UM CENTRO DE CONVIVÊNCIA E FORTALECIMENTO DE VÍNCULOS | F14: CONTRATO Nº: | H14: 037/2025 | K14: Assinatura: 24/03/2025 | N14: INÍCIO: | P14: 45747
N15: TÉRMINO: | P15: 46077
A16: LOCAL: DISTRITO DE SÃO JACINTO, SÃO ROQUE DO CANAÃ-ES | H16: PERÍODO: | I16: 45958 | K16: a | L16: 46052 | N16: PRAZO: | P16: 240 DIAS + 90 DIAS
A17: EMPREITEIRA: DELFIN CONSTRUTORA LTDA | I17: =L18 -> MEDIÇÃO 08 | L17: =O227 -> 190200.5 | N17: % MÊS: | O17: =K227 -> 0.19238535 | P17: % ACUM: | Q17: =K228 -> 0.69029
A18: ITEM | B18: ESPECIFICAÇÃO | C18: UNID. | D18: QUANT. | E18: PREÇO UNIT R$ | F18: 1º REPLANILHAMENTO | I18: ACUMULADO ANTERIOR | L18: MEDIÇÃO 08 | O18: TOTAL MEDIDO
F19: ACRÉSC. | G19: DECRÉSC. | H19: QUANT. ATUALIZADA | I19: QUANT. | J19: TOTAL | K19: % | L19: QUANT. | M19: TOTAL | N19: % | O19: QUANT. | P19: TOTAL | Q19: %
A20: 1 | B20: INSTALAÇÃO DO CANTEIRO DE OBRAS | M20: =SUM(M21:M23) -> 0 | P20: =SUM(P21:P23) -> 22521.215
A21: 1.1 | B21: Placa de obra nas dimensões de 2.0 x 4.0 m, padrão der | C21: m2 | D21: 8 | E21: 371.19907 | F21: 0 | G21: 0 | H21: =D21+F21-G21 -> 8 | I21: 8 | J21: =I21*E21 -> 2969.5925 | K21: =I21/H21 -> 1 | L21: =IFERROR(VLOOKUP(A21,'MEMO CALCULO 08'!$B$8:$E$202,4,0),0) -> 0 | M21: =L21*E21 -> 0 | N21: =L21/H21 -> 0 | O21: =I21+L21 -> 8 | P21: =J21+M21 -> 2969.5925 | Q21: =K21+N21 -> 1
A22: 1.2 | B22: Barracão para almoxarifado área de 10.90m2, de chapa de compensado de 12mm e pontalete 8x8cm, piso cimentado e cobertura de telhas de fibrocimento de 6mm, incl. Ponto de luz, conf. Projeto (1 utilização) | C22: m2 | D22: 10.9 | E22: 688.29704 | F22: 0 | G22: 0 | H22: =D22+F22-G22 -> 10.9 | I22: 10.9 | J22: =I22*E22 -> 7502.4377 | K22: =I22/H22 -> 1 | L22: =IFERROR(VLOOKUP(A22,'MEMO CALCULO 08'!$B$8:$E$202,4,0),0) -> 0 | M22: =L22*E22 -> 0 | N22: =L22/H22 -> 0 | O22: =I22+L22 -> 10.9 | P22: =J22+M22 -> 7502.4377 | Q22: =K22+N22 -> 1
A23: 1.3 | B23: Tapume telha metálica ondulada em aço galvalume 0,50mm branca h=2,20m, incl. Montagem estr. Mad. 8"x8", c/adesivo "der-es" 60x60cm a cada 10m, incl. Faixas pint. Esmalte sint. Cores azul c/ h=30cm e rosa c/ h=10cm (reaproveitamento 2x) | C23: m | D23: 78 | E23: 154.47673 | F23: 0 | G23: 0 | H23: =D23+F23-G23 -> 78 | I23: 78 | J23: =I23*E23 -> 12049.185 | K23: =I23/H23 -> 1 | L23: =IFERROR(VLOOKUP(A23,'MEMO CALCULO 08'!$B$8:$E$202,4,0),0) -> 0 | M23: =L23*E23 -> 0 | N23: =L23/H23 -> 0 | O23: =I23+L23 -> 78 | P23: =J23+M23 -> 12049.185 | Q23: =K23+N23 -> 1
A24: 2 | B24: SERVIÇOS PRELIMINARES | M24: =SUM(M25) -> 0 | P24: =SUM(P25) -> 2647.9789
A25: 2.1 | B25: Locação de obra com gabarito de madeira | C25: m2 | D25: 223.46 | E25: 11.849901 | F25: 0 | G25: 0 | H25: =D25+F25-G25 -> 223.46 | I25: 223.46 | J25: =I25*E25 -> 2647.9789 | K25: =I25/H25 -> 1 | L25: =IFERROR(VLOOKUP(A25,'MEMO CALCULO 08'!$B$8:$E$202,4,0),0) -> 0 | M25: =L25*E25 -> 0 | N25: =L25/H25 -> 0 | O25: =I25+L25 -> 223.46 | P25: =J25+M25 -> 2647.9789 | Q25: =K25+N25 -> 1
A26: 3 | B26: MOVIMENTAÇÃO DE TERRA | M26: =SUM(M27:M29) -> 0 | P26: =SUM(P27:P29) -> 7266.9623
A27: 3.1 | B27: Escavação manual em material de 1a. Categoria, até 1.50 m de profundidade | C27: m3 | D27: 46.46 | E27: 61.719763 | F27: 0 | G27: 0 | H27: =D27+F27-G27 -> 46.46 | I27: 42.61825 | J27: =I27*E27 -> 2630.3883 | K27: =I27/H27 -> 0.91731059 | L27: =IFERROR(VLOOKUP(A27,'MEMO CALCULO 08'!$B$8:$E$202,4,0),0) -> 0 | M27: =L27*E27 -> 0 | N27: =L27/H27 -> 0 | O27: =I27+L27 -> 42.61825 | P27: =J27+M27 -> 2630.3883 | Q27: =K27+N27 -> 0.91731059
A28: 3.2 | B28: Reaterro apiloado de cavas de fundação, em camadas de 20 cm | C28: m3 | D28: 33.05 | E28: 66.464615 | F28: 0 | G28: 0 | H28: =D28+F28-G28 -> 33.05 | I28: 29.92 | J28: =I28*E28 -> 1988.6213 | K28: =I28/H28 -> 0.90529501 | L28: =IFERROR(VLOOKUP(A28,'MEMO CALCULO 08'!$B$8:$E$202,4,0),0) -> 0 | M28: =L28*E28 -> 0 | N28: =L28/H28 -> 0 | O28: =I28+L28 -> 29.92 | P28: =J28+M28 -> 1988.6213 | Q28: =K28+N28 -> 0.90529501
A29: 3.3 | B29: Aterro com areia em áreas de calçada, inclusive fornecimento e adensamento | C29: m3 | D29: 13.4 | E29: 197.60841 | F29: 0 | G29: 0 | H29: =D29+F29-G29 -> 13.4 | I29: 13.4 | J29: =I29*E29 -> 2647.9527 | K29: =I29/H29 -> 1 | L29: =IFERROR(VLOOKUP(A29,'MEMO CALCULO 08'!$B$8:$E$202,4,0),0) -> 0 | M29: =L29*E29 -> 0 | N29: =L29/H29 -> 0 | O29: =I29+L29 -> 13.4 | P29: =J29+M29 -> 2647.9527 | Q29: =K29+N29 -> 1
A30: 4 | B30: INFRAESTRUTURA | M30: =SUM(M31:M37) -> 0 | P30: =SUM(P31:P37) -> 51378.598
A31: 4.1 | B31: Fornecimento, preparo e aplicação de concreto magro com consumo mínimo de cimento de 250 kg/m3 (brita 1 e 2) - (5% de perdas já incluído no custo) | C31: m3 | D31: 2.1 | E31: 742.09241 | F31: 0 | G31: 0 | H31: =D31+F31-G31 -> 2.1 | I31: 1.994 | J31: =I31*E31 -> 1479.7323 | K31: =I31/H31 -> 0.94952381 | L31: =IFERROR(VLOOKUP(A31,'MEMO CALCULO 08'!$B$8:$E$202,4,0),0) -> 0 | M31: =L31*E31 -> 0 | N31: =L31/H31 -> 0 | O31: =I31+L31 -> 1.994 | P31: =J31+M31 -> 1479.7323 | Q31: =K31+N31 -> 0.94952381
A32: 4.2 | B32: Fornecimento, preparo e aplicação de concreto fck=20 mpa (brita 1 e 2) - (5% de perdas já incluído no custo) | C32: m3 | D32: 14.41 | E32: 791.70546 | F32: 0 | G32: 0 | H32: =D32+F32-G32 -> 14.41 | I32: 13.41 | J32: =I32*E32 -> 10616.77 | K32: =I32/H32 -> 0.93060375 | L32: =IFERROR(VLOOKUP(A32,'MEMO CALCULO 08'!$B$8:$E$202,4,0),0) -> 0 | M32: =L32*E32 -> 0 | N32: =L32/H32 -> 0 | O32: =I32+L32 -> 13.41 | P32: =J32+M32 -> 10616.77 | Q32: =K32+N32 -> 0.93060375
A33: 4.3 | B33: Fôrma de chapa compensada resinada 12mm, levando-se em conta a utilização 3 vezes (incluido o material, corte, montagem, escoramento e desfôrma) | C33: m2 | D33: 133.88 | E33: 93.405102 | F33: 22.8794 | G33: 0 | H33: =D33+F33-G33 -> 156.7594 | I33: 133.88 | J33: =I33*E33 -> 12505.075 | K33: =I33/H33 -> 0.85404767 | L33: =IFERROR(VLOOKUP(A33,'MEMO CALCULO 08'!$B$8:$E$202,4,0),0) -> 0 | M33: =L33*E33 -> 0 | N33: =L33/H33 -> 0 | O33: =I33+L33 -> 133.88 | P33: =J33+M33 -> 12505.075 | Q33: =K33+N33 -> 0.85404767
A34: 4.4 | B34: Fornecimento, preparo e aplicação de concreto fck=25 mpa (brita 1 e 2) - (5% de perdas já incluído no custo) | C34: m3 | D34: 13.8 | E34: 818.40137 | F34: 0.92725 | G34: 0 | H34: =D34+F34-G34 -> 14.72725 | I34: 12.84725 | J34: =I34*E34 -> 10514.207 | K34: =I34/H34 -> 0.87234548 | L34: =IFERROR(VLOOKUP(A34,'MEMO CALCULO 08'!$B$8:$E$202,4,0),0) -> 0 | M34: =L34*E34 -> 0 | N34: =L34/H34 -> 0 | O34: =I34+L34 -> 12.84725 | P34: =J34+M34 -> 10514.207 | Q34: =K34+N34 -> 0.87234548
A35: 4.5 | B35: Fornecimento, dobragem e colocação em fôrma, de armadura ca-60 b fina, diâmetro de 4.0 a 7.0mm | C35: kg | D35: 545.35 | E35: 12.498038 | F35: 0 | G35: 0 | H35: =D35+F35-G35 -> 545.35 | I35: 431.41267 | J35: =I35*E35 -> 5391.8119 | K35: =I35/H35 -> 0.79107484 | L35: =IFERROR(VLOOKUP(A35,'MEMO CALCULO 08'!$B$8:$E$202,4,0),0) -> 0 | M35: =L35*E35 -> 0 | N35: =L35/H35 -> 0 | O35: =I35+L35 -> 431.41267 | P35: =J35+M35 -> 5391.8119 | Q35: =K35+N35 -> 0.79107484
A36: 4.6 | B36: Fornecimento, dobragem e colocação em fôrma, de armadura ca-50 a média, diâmetro de 6.3 a 10.0 mm | C36: kg | D36: 873.41 | E36: 12.021107 | F36: 79.34975 | G36: 0 | H36: =D36+F36-G36 -> 952.75975 | I36: 873.41 | J36: =I36*E36 -> 10499.355 | K36: =I36/H36 -> 0.91671589 | L36: =IFERROR(VLOOKUP(A36,'MEMO CALCULO 08'!$B$8:$E$202,4,0),0) -> 0 | M36: =L36*E36 -> 0 | N36: =L36/H36 -> 0 | O36: =I36+L36 -> 873.41 | P36: =J36+M36 -> 10499.355 | Q36: =K36+N36 -> 0.91671589
A37: 4.7 | B37: Aplicação de lona plástica para execução de pavimentos de concreto | C37: m² | D37: 223.46 | E37: 1.663144 | F37: 0 | G37: 0 | H37: =D37+F37-G37 -> 223.46 | I37: 223.46 | J37: =I37*E37 -> 371.64616 | K37: =I37/H37 -> 1 | L37: =IFERROR(VLOOKUP(A37,'MEMO CALCULO 08'!$B$8:$E$202,4,0),0) -> 0 | M37: =L37*E37 -> 0 | N37: =L37/H37 -> 0 | O37: =I37+L37 -> 223.46 | P37: =J37+M37 -> 371.64616 | Q37: =K37+N37 -> 1
A38: 5 | B38: SUPERESTRUTURA | M38: =SUM(M39:M44) -> 0 | P38: =SUM(P39:P44) -> 110881.27
A39: 5.1 | B39: Fôrma em chapa de madeira compensada plastificada 12mm para estrutura em geral, 5 reaproveitamentos, reforçada com sarrafos de madeira 2.5x10cm (incl material, corte, montagem, escoras em eucalipto e desforma) | C39: m2 | D39: 319.31 | E39: 111.30836 | F39: 0 | G39: 0 | H39: =D39+F39-G39 -> 319.31 | I39: 267.3166 | J39: =I39*E39 -> 29754.572 | K39: =I39/H39 -> 0.83716952 | L39: =IFERROR(VLOOKUP(A39,'MEMO CALCULO 08'!$B$8:$E$202,4,0),0) -> 0 | M39: =L39*E39 -> 0 | N39: =L39/H39 -> 0 | O39: =I39+L39 -> 267.3166 | P39: =J39+M39 -> 29754.572 | Q39: =K39+N39 -> 0.83716952
A40: 5.2 | B40: Fornecimento, preparo e aplicação de concreto fck=25 mpa (brita 1 e 2) - (5% de perdas já incluído no custo) | C40: m3 | D40: 21.99 | E40: 938.86925 | F40: 0 | G40: 0 | H40: =D40+F40-G40 -> 21.99 | I40: 18.0187 | J40: =I40*E40 -> 16917.203 | K40: =I40/H40 -> 0.81940427 | L40: =IFERROR(VLOOKUP(A40,'MEMO CALCULO 08'!$B$8:$E$202,4,0),0) -> 0 | M40: =L40*E40 -> 0 | N40: =L40/H40 -> 0 | O40: =I40+L40 -> 18.0187 | P40: =J40+M40 -> 16917.203 | Q40: =K40+N40 -> 0.81940427
A41: 5.3 | B41: Fornecimento, dobragem e colocação em fôrma, de armadura ca-60 b fina, diâmetro de 4.0 a 7.0mm | C41: kg | D41: 323.46 | E41: 12.498038 | F41: 26.197 | G41: 0 | H41: =D41+F41-G41 -> 349.657 | I41: 318.66 | J41: =I41*E41 -> 3982.6248 | K41: =I41/H41 -> 0.91135027 | L41: =IFERROR(VLOOKUP(A41,'MEMO CALCULO 08'!$B$8:$E$202,4,0),0) -> 0 | M41: =L41*E41 -> 0 | N41: =L41/H41 -> 0 | O41: =I41+L41 -> 318.66 | P41: =J41+M41 -> 3982.6248 | Q41: =K41+N41 -> 0.91135027
A42: 5.4 | B42: Fornecimento, dobragem e colocação em fôrma, de armadura ca-50 a média, diâmetro de 6.3 a 10.0 mm | C42: kg | D42: 1141.22 | E42: 12.021107 | F42: 128.4465 | G42: 0 | H42: =D42+F42-G42 -> 1269.6665 | I42: 1141.22 | J42: =I42*E42 -> 13718.728 | K42: =I42/H42 -> 0.89883445 | L42: =IFERROR(VLOOKUP(A42,'MEMO CALCULO 08'!$B$8:$E$202,4,0),0) -> 0 | M42: =L42*E42 -> 0 | N42: =L42/H42 -> 0 | O42: =I42+L42 -> 1141.22 | P42: =J42+M42 -> 13718.728 | Q42: =K42+N42 -> 0.89883445
A43: 5.5 | B43: Laje pré-fabricada treliçada, sobrecarga 300 kg/m2, vão de 3.5m a 4.3m, capeamento 4cm, esp. 12cm, fck = 150 kg/cm2 | C43: m2 | D43: 306.44 | E43: 161.01924 | F43: 0 | G43: 0 | H43: =D43+F43-G43 -> 306.44 | I43: 282.71 | J43: =I43*E43 -> 45521.75 | K43: =I43/H43 -> 0.92256233 | L43: =IFERROR(VLOOKUP(A43,'MEMO CALCULO 08'!$B$8:$E$202,4,0),0) -> 0 | M43: =L43*E43 -> 0 | N43: =L43/H43 -> 0 | O43: =I43+L43 -> 282.71 | P43: =J43+M43 -> 45521.75 | Q43: =K43+N43 -> 0.92256233
A44: 5.6 | B44: Pintura impermeabilizante com igolflex ou equivalente a 3 demãos | C44: m2 | D44: 23.73 | E44: 54.137783 | F44: 0 | G44: 0 | H44: =D44+F44-G44 -> 23.73 | I44: 18.22 | J44: =I44*E44 -> 986.39041 | K44: =I44/H44 -> 0.76780447 | L44: =IFERROR(VLOOKUP(A44,'MEMO CALCULO 08'!$B$8:$E$202,4,0),0) -> 0 | M44: =L44*E44 -> 0 | N44: =L44/H44 -> 0 | O44: =I44+L44 -> 18.22 | P44: =J44+M44 -> 986.39041 | Q44: =K44+N44 -> 0.76780447
A45: 6 | B45: PAREDES E PAINÉIS | M45: =SUM(M46:M50) -> 41430.808 | P45: =SUM(P46:P50) -> 111374.94
A46: 6.1.1 | B46: Alvenaria de blocos cerâmicos 10 furos 10x20x20cm, assentados c/argamassa de cimento, cal hidratada ch1 e areia traço 1:0,5:8, esp. Das juntas 12mm e esp. Das paredes s/revestimento, 10cm (bloco comprado na fábrica, posto obra) | C46: m2 | D46: 439.07 | E46: 72.346764 | F46: 76.61525 | G46: 0 | H46: =D46+F46-G46 -> 515.68525 | I46: 439.07 | J46: =I46*E46 -> 31765.294 | K46: =I46/H46 -> 0.85143021 | L46: =IFERROR(VLOOKUP(A46,'MEMO CALCULO 08'!$B$8:$E$202,4,0),0) -> 75.124 | M46: =L46*E46 -> 5434.9783 | N46: =L46/H46 -> 0.14567801 | O46: =I46+L46 -> 514.194 | P46: =J46+M46 -> 37200.272 | Q46: =K46+N46 -> 0.99710822
A47: 6.1.2 | B47: Verga/contraverga reta de concreto armado 10 x 5 cm, fck = 15 mpa, inclusive forma, armação e desforma | C47: m | D47: 82.05 | E47: 10.627001 | F47: 19.05 | G47: 0 | H47: =D47+F47-G47 -> 101.1 | I47: 80.55 | J47: =I47*E47 -> 856.00493 | K47: =I47/H47 -> 0.79673591 | L47: =IFERROR(VLOOKUP(A47,'MEMO CALCULO 08'!$B$8:$E$202,4,0),0) -> 19.05 | M47: =L47*E47 -> 202.44437 | N47: =L47/H47 -> 0.1884273 | O47: =I47+L47 -> 99.6 | P47: =J47+M47 -> 1058.4493 | Q47: =K47+N47 -> 0.9851632
A48: 6.1.3 | B48: Chapisco de argamassa de cimento e areia média ou grossa lavada, no traço 1:3, espessura 5 mm | C48: m2 | D48: 1017.15 | E48: 7.94885 | F48: 31.508 | G48: 0 | H48: =D48+F48-G48 -> 1048.658 | I48: 1004.0675 | J48: =I48*E48 -> 7981.1819 | K48: =I48/H48 -> 0.95747851 | L48: =IFERROR(VLOOKUP(A48,'MEMO CALCULO 08'!$B$8:$E$202,4,0),0) -> 0 | M48: =L48*E48 -> 0 | N48: =L48/H48 -> 0 | O48: =I48+L48 -> 1004.0675 | P48: =J48+M48 -> 7981.1819 | Q48: =K48+N48 -> 0.95747851
A49: 6.1.4 | B49: Emboço de argamassa de cimento, cal hidratada ch1 e areia média ou grossa lavada no traço 1:0.5:6, espessura 20 mm | C49: m2 | D49: 257.83 | E49: 38.325686 | F49: 846.2775 | G49: 0 | H49: =D49+F49-G49 -> 1104.1075 | I49: 257.83 | J49: =I49*E49 -> 9881.5116 | K49: =I49/H49 -> 0.23351893 | L49: =IFERROR(VLOOKUP(A49,'MEMO CALCULO 08'!$B$8:$E$202,4,0),0) -> 807.356 | M49: =L49*E49 -> 30942.473 | N49: =L49/H49 -> 0.73122952 | O49: =I49+L49 -> 1065.186 | P49: =J49+M49 -> 40823.984 | Q49: =K49+N49 -> 0.96474845
A50: 6.1.5 | B50: Reboco de argamassa de cimento, cal hidratada ch1 e areia média ou grossa lavada no traço 1:0.5:6, espessura 5mm | C50: m2 | D50: 728.96 | E50: 26.695907 | F50: 209.3025 | G50: 0 | H50: =D50+F50-G50 -> 938.2625 | I50: 728.956 | J50: =I50*E50 -> 19460.142 | K50: =I50/H50 -> 0.77692117 | L50: =IFERROR(VLOOKUP(A50,'MEMO CALCULO 08'!$B$8:$E$202,4,0),0) -> 181.71 | M50: =L50*E50 -> 4850.9133 | N50: =L50/H50 -> 0.19366648 | O50: =I50+L50 -> 910.666 | P50: =J50+M50 -> 24311.055 | Q50: =K50+N50 -> 0.97058766
A51: 7 | B51: REVESTIMENTOS | M51: =SUM(M52:M53) -> 0 | P51: =SUM(P52:P53) -> 15668.233
...

Sheet MEMO CALCULO 08
B2: PREFEITURA MUNICIPAL DE SÃO ROQUE DO CANAÃ
B8: MEMÓRIA DE CÁLCULO 8ª MEDIÇÃO
B9: OBRA: CONSTRUÇÃO DE UM CENTRO DE CONVIVÊNCIA E FORTALECIMENTO DE VÍNCULOS | D9: DATA: 10/02/2026
B10: LOCAL: DISTRITO DE SÃO JACINTO, SÃO ROQUE DO CANAÃ – ES
B11: ITEM | C11: DESCRIÇÃO | D11: UND | E11: QUANT.
B12: 6 | C12: =VLOOKUP(B12,'MEDIÇÃO 8'!$A$20:$C$224,2,0) -> PAREDES E PAINÉIS
B13: 6.1.1 | C13: =VLOOKUP(B13,'MEDIÇÃO 8'!$A$20:$C$224,2,0) -> Alvenaria de blocos cerâmicos 10 furos 10x20x20cm, assentados c/argamassa de cimento, cal hidratada ch1 e areia traço 1:0,5:8, esp. Das juntas 12mm e esp. Das paredes s/revestimento, 10cm (bloco comprado na fábrica, posto obra) | D13: =VLOOKUP(B13,'MEDIÇÃO 8'!$A$20:$C$198,3,0) -> m2 | E13: =SUM(D14:D21) -> 75.124
B14: Platibanda caixa d’água - Paredes fachadas (lado interno): 9,15 m x 2,90 m.: 26,54 m² | D14: 26.54
B15: Platibanda caixa d’água h=2m = 4,70 m x 2,20 m = 10,34 m² (baixo) | D15: 10.34
B16: Platibanda caixa d’água h=Var. (2,35 – 2m) = 4,75 m x 2,175 m = 10,33 m² (lateral) | D16: 10.33
B17: Estrutura da caixa d’água (lajota deitada) = 9,80 m x 0,60 m x 2 = 11,76 m² | D17: 11.76
B18: COBERTURA
B19: Platibanda telhado: 14,10 m (frente) + 22,30 m (lado direito) + 9,90 m (fundos) + 6,75 m + 4,20 m + 14,75 m) (lateral esquerda) x 1,60 m = 115,20 m² (medição 03)
B20: Desconto devido ao saldo = -31,51 m² (faltante da medição 03) | D20: 31.514
B21: (4,90 m + 4,70 m) x 1,60 m: 15,36 m² (referente as paredes da caixa d’ água com pagamento realizado da 3ª medição) | D21: -15.36
B22: 6.1.2 | C22: =VLOOKUP(B22,'MEDIÇÃO 8'!$A$20:$C$224,2,0) -> Verga/contraverga reta de concreto armado 10 x 5 cm, fck = 15 mpa, inclusive forma, armação e desforma | D22: =VLOOKUP(B22,'MEDIÇÃO 8'!$A$20:$C$198,3,0) -> m | E22: =SUM(D23:D29) -> 19.05
B23: MURETAS
B24: Área externa: mureta frente = 3,50 m x 2 vergas = 7,00 m | D24: 7
B25: Área externa: mureta Lateral = 3,75 m x 2 vergas = 7,50 m | D25: 7.5
B26: Área externa: Porta Frente = 2,00 m x 2 vergas = 4,00 m – 2,40 m: 1,60 m | D26: 1.6
B27: VÃOS
B28: Circulação: Recepção = (1,35 m + 0,40) m x 2 = 3,50 m – 2,95 m: 0,55 m | D28: 0.55
B29: Circulação: coordenação = (0,80 m + 0,40 m) x 2 = 2,40 m | D29: 2.4
B30: 6.1.3 | C30: =VLOOKUP(B30,'MEDIÇÃO 8'!$A$20:$C$224,2,0) -> Chapisco de argamassa de cimento e areia média ou grossa lavada, no traço 1:3, espessura 5 mm | D30: =VLOOKUP(B30,'MEDIÇÃO 8'!$A$20:$C$198,3,0) -> m2 | E30: 0
B31: AMBIENTES EFETIVAMENTE EXECUTADOS
B32: MEDIÇÃO 05 (FALTANTE)
B33: COBERTURA E CAIXA D’ÁGUA (medida “in loco”) – Efetivamente executado
B34: Platibanda Telhado - Paredes externas: 63,10 m x 1,90 m: 119,89 m² (OBS.: Altura considerando a viga de borda da marquise) | D34: 119.89
B35: Platibanda Telhado - Paredes internas: 62,15 m x 1,60 m: 99,44 m² | D35: 99.44
B36: Platibanda Telhado – Topo: 63,10 m x 0,15 m – 4*(0,15 m x 0,15 m) encontros : 9,38 m² | D36: 9.38
B37: Platibanda caixa d’água - Paredes fachadas (lado externo): 9,75 m x 3,20 m.: 29,60 m² – ((0,6*1,5*2))+((0,6+1,5+1,5)*0,15).: 27,80 (OBS.: Altura considerando a viga de borda da marquise): 29,94 | D37: 29.94
B38: Platibanda caixa d’água - Paredes fachadas (lado interno): 9,15 m x 2,90 m.: 26,54 m² | D38: 26.54
B39: Platibanda caixa d’água - Parede h = 2,00 m: 4,55 m (eixo-eixo) x 2,00 m.: 9,10 m² x 2 lados.: 18,20 m² | D39: 18.2
B40: Platibanda caixa d’água - Parede inclinada: 4,90 m (eixo-eixo) x 2,25 m x 2 lados: 22,05 m² (Inclinado ponto alto: 2,50 m, ponto baixo: 2,00 m) | D40: 22.05
B41: Estrutura da caixa d’água: (4,00 m + 4,00 m + 1,80 m) x 0,60 m.: 5,88 m² | D41: 5.88
B42: Fundo das Vigas em balanço: (72,8-(0,15*6))*0,15.: 10,79 m² | D42: 10.79
B43: AMBIENTES EXTERNOS – Efetivamente executado
B44: Fachada frontal.: 12,5*3,1-(1,5*1,1)*2-(1,67*1,6)*2-(2*2,1).: 25,91 m² | D44: 25.91
B45: Fachada lateral 01 (campo).: 20,7*3,1-(3,45*1,6)-(1,5*1,1)-((0,6*0,6)*4)-(2*1,1).: 53,36 m² | D45: 53.36
B46: Fachada lateral 02.: (20,7*3,1)-((1,5*1,1)*4 + (3,95*3)).: 45,72 m² | D46: 45.72
...
