Workbook
Name Print_Area_0_0: 'MEDIÇÃO 4'!$A$1:$N$375
Name Print_Area_0_0: 'MEMO CALCULO 04'!$A$1:$F$105
Name Print_Area_0_0_0: 'MEDIÇÃO 4'!$A$1:$N$373
Name Print_Area_0_0_0: 'MEMO CALCULO 04'!$A$1:$F$104
Name Print_Area_0_0_0_0: 'MEDIÇÃO 4'!$A$13:$N$375
Name Print_Area_0_0_0_0: 'MEMO CALCULO 04'!$A$1:$F$102
Name Print_Area_0_0_0_0_0: 'MEDIÇÃO 4'!$A$13:$N$372

Sheet MEDIÇÃO 4
A1: PREFEITURA MUNICIPAL DE SO ROQUE DO CANA Estado do Esprito Santo SECRETARIA MUNICIPAL DE OBRAS E SERVIÇOS URBANOS – SETOR DE ENGENHARIA
A13: BOLETIM DE | E13: =I18 -> MEDIÇÃO 04 | K13: DATA: 15/12/2025
A14: OBRA: CONSTRUÇÃO DA UNIDADE BÁSICA DE SAÚDE DE SÃO JACINTO | D14: CONTRATO Nº: | F14: 053/2025 | H14: Assinatura: 14/04/2025 | K14: INÍCIO: | M14: 45810
K15: TÉRMINO: | M15: 46170
A16: LOCAL: RUA LUIZ SIMONASSI, S/N, SÃO JACINTO, SÃO ROQUE DO CANAÃ/ES | D16: PERÍODO: | F16: 45910 | H16: a | I16: 45986 | K16: PRAZO: | M16: 360 DIAS
A17: EMPREITEIRA: SHOPPING DOS TELHADOS & CHURRASQUEIRAS LTDA | F17: =I18 -> MEDIÇÃO 04 | I17: =L365 -> 57096.57 | K17: % MÊS: | L17: =H365 -> 0.032992544 | M17: % ACUM: | N17: =H366 -> 0.13613387
A18: ITEM | B18: ESPECIFICAÇÃO | C18: UNID. | D18: QUANT. | E18: PREÇO UNIT R$ | F18: ACUMULADO ANTERIOR | I18: MEDIÇÃO 04 | L18: TOTAL MEDIDO
F19: QUANT. | G19: TOTAL | H19: % | I19: QUANT. | J19: TOTAL | K19: % | L19: QUANT. | M19: TOTAL | N19: %
A20: 1 | B20: SERVIÇOS PRELIMINARES | J20: =SUM(J22:J26) -> 3650.4185 | M20: =SUM(M22:M26) -> 20711.561
A21: 1.1 | B21: LOCAÇÃO
A22: 1.1.1 | B22: LOCACAO CONVENCIONAL DE OBRA, UTILIZANDO GABARITO DE TÁBUAS CORRIDAS PONTALETADAS A CADA 2,00M - 2 UTILIZAÇÕES. AF_10/2018 | C22: M | D22: 367.02 | E22: 62.049946 | F22: 90 | G22: =F22*E22 -> 5584.4951 | H22: =F22/D22 -> 0.24521824 | I22: =IFERROR(VLOOKUP(A22,'MEMO CALCULO 04'!$B$2:$E$508,4,0),0) -> 0 | J22: =I22*E22 -> 0 | K22: =I22/D22 -> 0 | L22: =F22+I22 -> 90 | M22: =G22+J22 -> 5584.4951 | N22: =H22+K22 -> 0.24521824
A23: 1.2 | B23: ADMINISTRAÇÃO LOCAL
A24: 1.2.1 | B24: ENGENHEIRO CIVIL DE OBRA JUNIOR COM ENCARGOS COMPLEMENTARES | C24: MES | D24: 2.4 | E24: 26193.295 | F24: 0.23942409 | G24: =F24*E24 -> 6271.3058 | H24: =F24/D24 -> 0.099760037 | I24: =IFERROR(VLOOKUP(A24,'MEMO CALCULO 04'!$B$2:$E$508,4,0),0) -> 0.076154478 | J24: =I24*E24 -> 1994.7367 | K24: =I24/D24 -> 0.031731033 | L24: =F24+I24 -> 0.31557857 | M24: =G24+J24 -> 8266.0425 | N24: =H24+K24 -> 0.13149107
A25: 1.2.2 | B25: MESTRE DE OBRAS COM ENCARGOS COMPLEMENTARES | C25: MES | D25: 2.4 | E25: 13271.718 | F25: 0.23942409 | G25: =F25*E25 -> 3177.569 | H25: =F25/D25 -> 0.099760037 | I25: =IFERROR(VLOOKUP(A25,'MEMO CALCULO 04'!$B$2:$E$508,4,0),0) -> 0.076154478 | J25: =I25*E25 -> 1010.7008 | K25: =I25/D25 -> 0.031731033 | L25: =F25+I25 -> 0.31557857 | M25: =G25+J25 -> 4188.2697 | N25: =H25+K25 -> 0.13149107
A26: 1.2.3 | B26: TECNICO DE EDIFICACOES COM ENCARGOS COMPLEMENTARES | C26: MES | D26: 3 | E26: 6775.5019 | F26: 0.29928011 | G26: =F26*E26 -> 2027.773 | H26: =F26/D26 -> 0.099760037 | I26: =IFERROR(VLOOKUP(A26,'MEMO CALCULO 04'!$B$2:$E$508,4,0),0) -> 0.095193098 | J26: =I26*E26 -> 644.98102 | K26: =I26/D26 -> 0.031731033 | L26: =F26+I26 -> 0.39447321 | M26: =G26+J26 -> 2672.754 | N26: =H26+K26 -> 0.13149107
A27: 2 | B27: INSTALAÇÃO DO CANTEIRO DE OBRAS | J27: =SUM(J29:J40) -> 0 | M27: =SUM(M29:M40) -> 48916.006
A28: 2.1 | B28: TAPUMES, BARRACÕES E COBERTURAS
A29: 2.1.1 | B29: FORNECIMENTO E INSTALAÇÃO DE PLACA DE OBRA COM CHAPA GALVANIZADA E ESTRUTURA DE MADEIRA. AF_03/2022_PS | C29: m² | D29: 8 | E29: 413.78044 | F29: 8 | G29: =F29*E29 -> 3310.2436 | H29: =F29/D29 -> 1 | I29: =IFERROR(VLOOKUP(A29,'MEMO CALCULO 04'!$B$2:$E$508,4,0),0) -> 0 | J29: =I29*E29 -> 0 | K29: =I29/D29 -> 0 | L29: =F29+I29 -> 8 | M29: =G29+J29 -> 3310.2436 | N29: =H29+K29 -> 1
A30: 2.1.2 | B30: LOCACAO DE ANDAIME METALICO TUBULAR DE ENCAIXE, TIPO DE TORRE, CADA PAINEL COM LARGURA DE 1 ATE 1,5 M E ALTURA DE *1,00* M, INCLUINDO DIAGONAL, BARRAS DE LIGACAO, SAPATAS OU RODIZIOS E DEMAIS ITENS NECESSARIOS A MONTAGEM (NAO INCLUI INSTALACAO) | C30: M X MÊS | D30: 412.03 | E30: 21.935186 | F30: 0 | G30: =F30*E30 -> 0 | H30: =F30/D30 -> 0 | I30: =IFERROR(VLOOKUP(A30,'MEMO CALCULO 04'!$B$2:$E$508,4,0),0) -> 0 | J30: =I30*E30 -> 0 | K30: =I30/D30 -> 0 | L30: =F30+I30 -> 0 | M30: =G30+J30 -> 0 | N30: =H30+K30 -> 0
A31: 2.1.3 | B31: MONTAGEM E DESMONTAGEM DE ANDAIME TUBULAR TIPO TORRE (EXCLUSIVE ANDAIME E LIMPEZA). AF_11/2017 | C31: M | D31: 412.03 | E31: 28.762608 | F31: 0 | G31: =F31*E31 -> 0 | H31: =F31/D31 -> 0 | I31: =IFERROR(VLOOKUP(A31,'MEMO CALCULO 04'!$B$2:$E$508,4,0),0) -> 0 | J31: =I31*E31 -> 0 | K31: =I31/D31 -> 0 | L31: =F31+I31 -> 0 | M31: =G31+J31 -> 0 | N31: =H31+K31 -> 0
A32: 2.1.4 | B32: Barracão para escritório com sanitário área 14.50m2, de chapa de compens. 12mm e pontalete 8x8cm, piso cimentado e cobertura de telha de fibroc. 6mm, incl. ponto de luz e cx. de inspeção, conf. projeto (2 utilizações) | C32: m2 | D32: 14.5 | E32: 567.31554 | F32: 14.5 | G32: =F32*E32 -> 8226.0753 | H32: =F32/D32 -> 1 | I32: =IFERROR(VLOOKUP(A32,'MEMO CALCULO 04'!$B$2:$E$508,4,0),0) -> 0 | J32: =I32*E32 -> 0 | K32: =I32/D32 -> 0 | L32: =F32+I32 -> 14.5 | M32: =G32+J32 -> 8226.0753 | N32: =H32+K32 -> 1
A33: 2.1.5 | B33: Barracão para almoxarifado área de 10.90m2, de chapa de compensado 12mm e pontaletes 8x8cm, piso cimentado e cobertura de telha de fibrocimento de 6mm, inclusive ponto de luz, conf. projeto (2 utilizações) | C33: m2 | D33: 10.9 | E33: 405.75822 | F33: 10.9 | G33: =F33*E33 -> 4422.7646 | H33: =F33/D33 -> 1 | I33: =IFERROR(VLOOKUP(A33,'MEMO CALCULO 04'!$B$2:$E$508,4,0),0) -> 0 | J33: =I33*E33 -> 0 | K33: =I33/D33 -> 0 | L33: =F33+I33 -> 10.9 | M33: =G33+J33 -> 4422.7646 | N33: =H33+K33 -> 1
A34: 2.1.6 | B34: Barracão para depósito de cimento área de 10.90m2, de chapa de compensado 12mm e pontaletes 8x8cm, piso cimentado e cobertura de telhas de fibrocimento de 6mm, inclusive ponto de luz, conf. projeto (2 utilizações) | C34: m2 | D34: 10.9 | E34: 355.93727 | F34: 10.9 | G34: =F34*E34 -> 3879.7163 | H34: =F34/D34 -> 1 | I34: =IFERROR(VLOOKUP(A34,'MEMO CALCULO 04'!$B$2:$E$508,4,0),0) -> 0 | J34: =I34*E34 -> 0 | K34: =I34/D34 -> 0 | L34: =F34+I34 -> 10.9 | M34: =G34+J34 -> 3879.7163 | N34: =H34+K34 -> 1
A35: 2.1.7 | B35: Refeitório com paredes de chapa de compens. 12mm e pontaletes 8x8cm, piso ciment. e cobert. de telhas fibroc. 6mm, incl. ponto de luz e cx. de inspeção (cons. 1.21m2/func./turno), conf. projeto (2 utilização) | C35: m2 | D35: 24.2 | E35: 344.83334 | F35: 24.2 | G35: =F35*E35 -> 8344.9669 | H35: =F35/D35 -> 1 | I35: =IFERROR(VLOOKUP(A35,'MEMO CALCULO 04'!$B$2:$E$508,4,0),0) -> 0 | J35: =I35*E35 -> 0 | K35: =I35/D35 -> 0 | L35: =F35+I35 -> 24.2 | M35: =G35+J35 -> 8344.9669 | N35: =H35+K35 -> 1
A36: 2.1.8 | B36: Unidade de sanitário e vestiário para até 20 func. área 18.15m2, paredes de chapa compens. 12mm e pontalete 8x8cm, piso cimentado, cobert. telha fibroc. 6mm, incl. inst. de luz e cx. de inspeção, conf. projeto (2 utilizações) | C36: und | D36: 1 | E36: 10974.378 | F36: 1 | G36: =F36*E36 -> 10974.378 | H36: =F36/D36 -> 1 | I36: =IFERROR(VLOOKUP(A36,'MEMO CALCULO 04'!$B$2:$E$508,4,0),0) -> 0 | J36: =I36*E36 -> 0 | K36: =I36/D36 -> 0 | L36: =F36+I36 -> 1 | M36: =G36+J36 -> 10974.378 | N36: =H36+K36 -> 1
A37: 2.1.9 | B37: Galpão para serraria e carpintaria área 12.00m2, em peças de madeira 8x8cm e contraventamento de 5x7cm, cobertura de telhas de fibroc. de 6mm, inclusive ponto e cabo de alimentação da máquina, conf. projeto (2 utilizações) | C37: m2 | D37: 12 | E37: 129.70077 | F37: 12 | G37: =F37*E37 -> 1556.4093 | H37: =F37/D37 -> 1 | I37: =IFERROR(VLOOKUP(A37,'MEMO CALCULO 04'!$B$2:$E$508,4,0),0) -> 0 | J37: =I37*E37 -> 0 | K37: =I37/D37 -> 0 | L37: =F37+I37 -> 12 | M37: =G37+J37 -> 1556.4093 | N37: =H37+K37 -> 1
A38: 2.1.10 | B38: Galpão para corte e armação com área de 6.00m2, de peças de madeira 8x8cm e contraventamento de 5x7cm, cobertura de telhas de fibroc. de 6mm, inclusive ponto e cabo de alimentação da máquina, conf. projeto (2 utilizações) | C38: m2 | D38: 6 | E38: 178.8369 | F38: 6 | G38: =F38*E38 -> 1073.0214 | H38: =F38/D38 -> 1 | I38: =IFERROR(VLOOKUP(A38,'MEMO CALCULO 04'!$B$2:$E$508,4,0),0) -> 0 | J38: =I38*E38 -> 0 | K38: =I38/D38 -> 0 | L38: =F38+I38 -> 6 | M38: =G38+J38 -> 1073.0214 | N38: =H38+K38 -> 1
A39: 2.1.11 | B39: Reservatório de poliestileno de 1000 L, inclusive suporte em madeira de 7x12cm e 5x7cm, elevado de 4m, conforme projeto (2 utilizações) | C39: und | D39: 1 | E39: 1185.3203 | F39: 0 | G39: =F39*E39 -> 0 | H39: =F39/D39 -> 0 | I39: =IFERROR(VLOOKUP(A39,'MEMO CALCULO 04'!$B$2:$E$508,4,0),0) -> 0 | J39: =I39*E39 -> 0 | K39: =I39/D39 -> 0 | L39: =F39+I39 -> 0 | M39: =G39+J39 -> 0 | N39: =H39+K39 -> 0
A40: 2.1.12 | B40: TAPUME COM TELHA METÁLICA. AF_05/2018 | C40: m² | D40: 88 | E40: 81.004896 | F40: 88 | G40: =F40*E40 -> 7128.4308 | H40: =F40/D40 -> 1 | I40: =IFERROR(VLOOKUP(A40,'MEMO CALCULO 04'!$B$2:$E$508,4,0),0) -> 0 | J40: =I40*E40 -> 0 | K40: =I40/D40 -> 0 | L40: =F40+I40 -> 88 | M40: =G40+J40 -> 7128.4308 | N40: =H40+K40 -> 1
A41: 3 | B41: MOVIMENTAÇÃO DE TERRA | J41: =SUM(J43:J49) -> 949.94187 | M41: =SUM(M43:M49) -> 10640.805
A42: 3.1 | B42: ESCAVAÇÕES
A43: 3.1.1 | B43: ESCAVAÇÃO MANUAL DE VALA COM PROFUNDIDADE MENOR OU IGUAL A 1,30 M. AF_02/2021 | C43: m³ | D43: 109.42 | E43: 83.719734 | F43: 109.42 | G43: =F43*E43 -> 9160.6133 | H43: =F43/D43 -> 1 | I43: =IFERROR(VLOOKUP(A43,'MEMO CALCULO 04'!$B$2:$E$508,4,0),0) -> 0 | J43: =I43*E43 -> 0 | K43: =I43/D43 -> 0 | L43: =F43+I43 -> 109.42 | M43: =G43+J43 -> 9160.6133 | N43: =H43+K43 -> 1
A44: 3.2 | B44: REATERRO E COMPACTAÇÃO
A45: 3.2.1 | B45: REATERRO MANUAL DE VALAS, COM COMPACTADOR DE SOLOS DE PERCUSSÃO. AF_08/2023 | C45: m³ | D45: 74.21 | E45: 26.512472 | F45: 20 | G45: =F45*E45 -> 530.24944 | H45: =F45/D45 -> 0.26950546 | I45: =IFERROR(VLOOKUP(A45,'MEMO CALCULO 04'!$B$2:$E$508,4,0),0) -> 35.83 | J45: =I45*E45 -> 949.94187 | K45: =I45/D45 -> 0.48281903 | L45: =F45+I45 -> 55.83 | M45: =G45+J45 -> 1480.1913 | N45: =H45+K45 -> 0.75232448
A46: 3.3 | B46: REATERRO E COMPACTAÇÃO
A47: 3.3.1 | B47: CARGA, MANOBRA E DESCARGA DE ENTULHO EM CAMINHÃO BASCULANTE 10 M³ - CARGA COM ESCAVADEIRA HIDRÁULICA (CAÇAMBA DE 0,80 M³ / 111 HP) E DESCARGA LIVRE (UNIDADE: M3). AF_07/2020 | C47: m³ | D47: 46.82 | E47: 8.132285 | F47: 0 | G47: =F47*E47 -> 0 | H47: =F47/D47 -> 0 | I47: =IFERROR(VLOOKUP(A47,'MEMO CALCULO 04'!$B$2:$E$508,4,0),0) -> 0 | J47: =I47*E47 -> 0 | K47: =I47/D47 -> 0 | L47: =F47+I47 -> 0 | M47: =G47+J47 -> 0 | N47: =H47+K47 -> 0
A48: 3.3.2 | B48: TRANSPORTE COM CAMINHÃO BASCULANTE DE 10 M³, EM VIA INTERNA (DENTRO DO CANTEIRO - UNIDADE: M3XKM). AF_07/2020 | C48: M3XKM | D48: 46.82 | E48: 6.640347 | F48: 0 | G48: =F48*E48 -> 0 | H48: =F48/D48 -> 0 | I48: =IFERROR(VLOOKUP(A48,'MEMO CALCULO 04'!$B$2:$E$508,4,0),0) -> 0 | J48: =I48*E48 -> 0 | K48: =I48/D48 -> 0 | L48: =F48+I48 -> 0 | M48: =G48+J48 -> 0 | N48: =H48+K48 -> 0
A49: 3.3.3 | B49: TRANSPORTE COM CAMINHÃO BASCULANTE DE 10 M³, EM VIA URBANA PAVIMENTADA, DMT ATÉ 30 KM (UNIDADE: M3XKM). AF_07/2020 | C49: M3XKM | D49: 468.2 | E49: 2.188991 | F49: 0 | G49: =F49*E49 -> 0 | H49: =F49/D49 -> 0 | I49: =IFERROR(VLOOKUP(A49,'MEMO CALCULO 04'!$B$2:$E$508,4,0),0) -> 0 | J49: =I49*E49 -> 0 | K49: =I49/D49 -> 0 | L49: =F49+I49 -> 0 | M49: =G49+J49 -> 0 | N49: =H49+K49 -> 0
A50: 4 | B50: ESTRUTURAS | J50: =SUM(J52:J73) -> 33723.409 | M50: =SUM(M52:M73) -> 134313.34
A51: 4.1 | B51: INFRA-ESTRUTURA (CONSIDERANDO SAPATAS E PILARETES)
...

Sheet MEMO CALCULO 04
B2: PREFEITURA MUNICIPAL DE SÃO ROQUE DO CANAÃ
B8: MEMÓRIA DE CÁLCULO 4ª MEDIÇÃO
B9: OBRA: CONSTRUÇÃO DA UNIDADE BÁSICA DE SAÚDE DE SÃO JACINTO | D9: DATA: 15/12/2025
B10: LOCAL: RUA LUIZ SIMONASSI, S/N, SÃO JACINTO, SÃO ROQUE DO CANAÃ/ES
B11: ITEM | C11: DESCRIÇÃO | D11: UND | E11: QUANT. | G11: ='MEDIÇÃO 4'!C364-'MEDIÇÃO 4'!E24-'MEDIÇÃO 4'!E25-'MEDIÇÃO 4'!E26 -> 1684349.6
B12: 1 | C12: =VLOOKUP(B12,'MEDIÇÃO 4'!$A$20:$C$362,2,0) -> SERVIÇOS PRELIMINARES | F12: 53446.152 | G12: 1684349.6 | H12: =F12/G12 -> 0.031731033 | I12: =H12*2.4 -> 0.076154478
B13: 1.2 | C13: =VLOOKUP(B13,'MEDIÇÃO 4'!$A$20:$C$362,2,0) -> ADMINISTRAÇÃO LOCAL | H13: 0.031731033 | I13: 0.076154478
B14: 1.2.1 | C14: =VLOOKUP(B14,'MEDIÇÃO 4'!$A$20:$C$362,2,0) -> ENGENHEIRO CIVIL DE OBRA JUNIOR COM ENCARGOS COMPLEMENTARES | D14: =VLOOKUP(B14,'MEDIÇÃO 4'!$A$20:$C$79,3,0) -> MES | E14: =D15 -> 0.076154478
B15: Valor da 4ª medição sem adm Local / (Valor do contrato-adm local) = R$ 53.446,15 / R$ 1.684.349,59.: 0,0317310326328489 und x 2,40.: 0,0761544783188373. | D15: 0.076154478
B16: 1.2.2 | C16: =VLOOKUP(B16,'MEDIÇÃO 4'!$A$20:$C$362,2,0) -> MESTRE DE OBRAS COM ENCARGOS COMPLEMENTARES | D16: =VLOOKUP(B16,'MEDIÇÃO 4'!$A$20:$C$79,3,0) -> MES | E16: =D17 -> 0.076154478 | F16: 53446.152 | G16: 1684349.6 | H16: =F16/G16 -> 0.031731033 | I16: =H16*2.4 -> 0.076154478
B17: Valor da 4ª medição sem adm Local / (Valor do contrato-adm local) = R$ R$ 53.446,15 / R$ 1.684.349,59.: 0,0317310326328489 und x 2,40.: 0,0761544783188373. | D17: 0.076154478 | H17: 0.031731033 | I17: 0.076154478
B18: 1.2.3 | C18: =VLOOKUP(B18,'MEDIÇÃO 4'!$A$20:$C$362,2,0) -> TECNICO DE EDIFICACOES COM ENCARGOS COMPLEMENTARES | D18: =VLOOKUP(B18,'MEDIÇÃO 4'!$A$20:$C$79,3,0) -> MES | E18: =D19 -> 0.095193098 | F18: 53446.152 | G18: 1684349.6 | H18: =F18/G18 -> 0.031731033 | I18: =H18*3 -> 0.095193098
B19: Valor da 4ª medição sem adm Local / (Valor do contrato-adm local) = R$ R$ 53.446,15 / R$ 1.684.349,59.: 0,0317310326328489 und x 3,00.: 0,0951930978985466. | D19: 0.095193098 | H19: 0.031731033 | I19: 0.095193098
B21: 3 | C21: =VLOOKUP(B21,'MEDIÇÃO 4'!$A$20:$C$362,2,0) -> MOVIMENTAÇÃO DE TERRA
B22: 3.1 | C22: =VLOOKUP(B22,'MEDIÇÃO 4'!$A$20:$C$362,2,0) -> ESCAVAÇÕES
B23: 3.1.1 | C23: =VLOOKUP(B23,'MEDIÇÃO 4'!$A$20:$C$362,2,0) -> ESCAVAÇÃO MANUAL DE VALA COM PROFUNDIDADE MENOR OU IGUAL A 1,30 M. AF_02/2021 | D23: =VLOOKUP(B23,'MEDIÇÃO 4'!$A$20:$C$79,3,0) -> m³ | E23: =SUM(D24:D26) -> 0
B24: Para o cálculo da escavação das sapatas foi considerado 10 cm para cada lado
B25: Sapatas: 1,20 m x 1,20 m x 0,90 m x 41 sapatas = 53,14 m³ (2ª medição) | D25: 0
B26: Vigas Térreo = volume de concreto das vigas do térreo = 20,86 m³ (3ª medição) | D26: 0
B27: Nota: A prefeitura realizou a preparação do terreno/limpeza
B28: 3.2 | C28: =VLOOKUP(B28,'MEDIÇÃO 4'!$A$20:$C$362,2,0) -> REATERRO E COMPACTAÇÃO
B29: 3.2.1 | C29: =VLOOKUP(B29,'MEDIÇÃO 4'!$A$20:$C$362,2,0) -> REATERRO MANUAL DE VALAS, COM COMPACTADOR DE SOLOS DE PERCUSSÃO. AF_08/2023 | D29: =VLOOKUP(B29,'MEDIÇÃO 4'!$A$20:$C$79,3,0) -> m³ | E29: =SUM(D30:D33) -> 35.83
B30: Volume escavado - volume de concreto: 53,14 m³ (Sapatas) - 14,35 m³ (Rodapé) – 3,82 m³ (Arranque h:1,15 m já descontado o rodapé): 34,97 m³ | D30: 34.97
B31: Vigas Baldrames: 20,86 m³ (faces laterais) | D31: 20.86
B32: Medição 03 (Solicitado.: 20,00 m³) | D32: -20
B33: Medição 04 (Solicitado.: 20,00 m³)
B35: 4 | C35: =VLOOKUP(B35,'MEDIÇÃO 4'!$A$20:$C$362,2,0) -> ESTRUTURAS
B36: 4.1 | C36: =VLOOKUP(B36,'MEDIÇÃO 4'!$A$20:$C$362,2,0) -> INFRA-ESTRUTURA (CONSIDERANDO SAPATAS E PILARETES)
B37: 4.1.6 | C37: =VLOOKUP(B37,'MEDIÇÃO 4'!$A$20:$C$362,2,0) -> ARMAÇÃO DE BLOCO, VIGA BALDRAME OU SAPATA UTILIZANDO AÇO CA-50 DE 10 MM - MONTAGEM. AF_06/2017 | D37: =VLOOKUP(B37,'MEDIÇÃO 4'!$A$20:$C$79,3,0) -> KG | E37: 0
B38: 3ª medição | C38: 445
B39: Comp. (m) | C39: Peso (Kg)
B40: =164486/100 -> 1644.86 | C40: =B40*0.617 -> 1014.8786 | D40: 1015
B41: Vigas baldrames: 1.015,00 kg
B42: 2ª medição | C42: 445
B43: Sapatas: 445,00 kg (16 unidades x 1,10 x 41 x 0,617 Kg) | C43: 445 | D43: 445
B44: Pilaretes | C44: Comprimento do Arranque x Quant. ferros x 0,617 Kg/m | D44: Quant. f.
B45: P1 | C45: =1.7*12*0.617 -> 12.5868 | D45: =C45 -> 12.5868
B46: P2 | C46: =1.7*6*0.617 -> 6.2934 | D46: =C46 -> 6.2934
B47: P3 | C47: =1.7*6*0.617 -> 6.2934 | D47: =C47 -> 6.2934
B48: P4 | C48: =1.7*6*0.617 -> 6.2934 | D48: =C48 -> 6.2934
...
