Workbook
Name Print_Area_0_0: 'MEDIÇÃO 4'!$A$1:$N$375
Name Print_Area_0_0: 'MEMO CALCULO 04'!$A$1:$F$105
Name Print_Area_0_0_0: 'MEDIÇÃO 4'!$A$1:$N$373
Name Print_Area_0_0_0: 'MEMO CALCULO 04'!$A$1:$F$104
Name Print_Area_0_0_0_0: 'MEDIÇÃO 4'!$A$13:$N$375
Name Print_Area_0_0_0_0: 'MEMO CALCULO 04'!$A$1:$F$102
Name Print_Area_0_0_0_0_0: 'MEDIÇÃO 4'!$A$13:$N$372

Sheet MEDIÇÃO 4
A1: PREFEITURA MUNICIPAL DE SO ROQUE DO CANA Estado do Esprito Santo SECRETARIA MUNICIPAL DE OBRAS E SERVIÇOS URBANOS – SETOR DE ENGENHARIA
A13: BOLETIM DE | E13: =I18 -> MEDIÇÃO 04 | K13: DATA: 15/12/2025
A14: OBRA: CONSTRUÇÃO DA UNIDADE BÁSICA DE SAÚDE DE SÃO JACINTO | D14: CONTRATO Nº: | F14: 053/2025 | H14: Assinatura: 14/04/2025 | K14: INÍCIO: | M14: 45810
K15: TÉRMINO: | M15: 46170
A16: LOCAL: RUA LUIZ SIMONASSI, S/N, SÃO JACINTO, SÃO ROQUE DO CANAÃ/ES | D16: PERÍODO: | F16: 45910 | H16: a | I16: 45986 | K16: PRAZO: | M16: 360 DIAS
A17: EMPREITEIRA: SHOPPING DOS TELHADOS & CHURRASQUEIRAS LTDA | F17: =I18 -> MEDIÇÃO 04 | I17: =L365 -> 57096.57 | K17: % MÊS: | L17: =H365 -> 0.032992544 | M17: % ACUM: | N17: =H366 -> 0.13613387
A18: ITEM | B18: ESPECIFICAÇÃO | C18: UNID. | D18: QUANT. | E18: PREÇO UNIT R$ | F18: ACUMULADO ANTERIOR | I18: MEDIÇÃO 04 | L18: TOTAL MEDIDO
F19: QUANT. | G19: TOTAL | H19: % | I19: QUANT. | J19: TOTAL | K19: % | L19: QUANT. | M19: TOTAL | N19: %
A20: 1 | B20: SERVIÇOS PRELIMINARES | J20: =SUM(J22:J26) -> 3650.4185 | M20: =SUM(M22:M26) -> 20711.561
A21: 1.1 | B21: LOCAÇÃO
A22: 1.1.1 | B22: LOCACAO CONVENCIONAL DE OBRA, UTILIZANDO GABARITO DE TÁBUAS CORRIDAS PONTALETADAS A CADA 2,00M - 2 UTILIZAÇÕES. AF_10/2018 | C22: M | D22: 367.02 | E22: 62.049946 | F22: 90 | G22: =F22*E22 -> 5584.4951 | H22: =F22/D22 -> 0.24521824 | I22: =IFERROR(VLOOKUP(A22,'MEMO CALCULO 04'!$B$2:$E$508,4,0),0) -> 0 | J22: =I22*E22 -> 0 | K22: =I22/D22 -> 0 | L22: =F22+I22 -> 90 | M22: =G22+J22 -> 5584.4951 | N22: =H22+K22 -> 0.24521824
A23: 1.2 | B23: ADMINISTRAÇÃO LOCAL
A24: 1.2.1 | B24: ENGENHEIRO CIVIL DE OBRA JUNIOR COM ENCARGOS COMPLEMENTARES | C24: MES | D24: 2.4 | E24: 26193.295 | F24: 0.23942409 | G24: =F24*E24 -> 6271.3058 | H24: =F24/D24 -> 0.099760037 | I24: =IFERROR(VLOOKUP(A24,'MEMO CALCULO 04'!$B$2:$E$508,4,0),0) -> 0.076154478 | J24: =I24*E24 -> 1994.7367 | K24: =I24/D24 -> 0.031731033 | L24: =F24+I24 -> 0.31557857 | M24: =G24+J24 -> 8266.0425 | N24: =H24+K24 -> 0.13149107
A25: 1.2.2 | B25: MESTRE DE OBRAS COM ENCARGOS COMPLEMENTARES | C25: MES | D25: 2.4 | E25: 13271.718 | F25: 0.23942409 | G25: =F25*E25 -> 3177.569 | H25: =F25/D25 -> 0.099760037 | I25: =IFERROR(VLOOKUP(A25,'MEMO CALCULO 04'!$B$2:$E$508,4,0),0) -> 0.076154478 | J25: =I25*E25 -> 1010.7008 | K25: =I25/D25 -> 0.031731033 | L25: =F25+I25 -> 0.31557857 | M25: =G25+J25 -> 4188.2697 | N25: =H25+K25 -> 0.13149107
A26: 1.2.3 | B26: TECNICO DE EDIFICACOES COM ENCARGOS COMPLEMENTARES | C26: MES | D26: 3 | E26: 6775.5019 | F26: 0.29928011 | G26: =F26*E26 -> 2027.773 | H26: =F26/D26 -> 0.099760037 | I26: =IFERROR(VLOOKUP(A26,'MEMO CALCULO 04'!$B$2:$E$508,4,0),0) -> 0.095193098 | J26: =I26*E26 -> 644.98102 | K26: =I26/D26 -> 0.031731033 | L26: =F26+I26 -> 0.39447321 | M26: =G26+J26 -> 2672.754 | N26: =H26+K26 -> 0.13149107
A27: 2 | B27: INSTALAÇÃO DO CANTEIRO DE OBRAS | J27: =SUM(J29:J40) -> 0 | M27: =SUM(M29:M40) -> 48916.006
A28: 2.1 | B28: TAPUMES, BARRACÕES E COBERTURAS
A29: 2.1.1 | B29: FORNECIMENTO E INSTALAÇÃO DE PLACA DE OBRA COM CHAPA GALVANIZADA E ESTRUTURA DE MADEIRA. AF_03/2022_PS | C29: m² | D29: 8 | E29: 413.78044 | F29: 8 | G29: =F29*E29 -> 3310.2436 | H29: =F29/D29 -> 1 | I29: =IFERROR(VLOOKUP(A29,'MEMO CALCULO 04'!$B$2:$E$508,4,0),0) -> 0 | J29: =I29*E29 -> 0 | K29: =I29/D29 -> 0 | L29: =F29+I29 -> 8 | M29: =G29+J29 -> 3310.2436 | N29: =H29+K29 -> 1
A30: 2.1.2 | B30: LOCACAO DE ANDAIME METALICO TUBULAR DE ENCAIXE, TIPO DE TORRE, CADA PAINEL COM LARGURA DE 1 ATE 1,5 M E ALTURA DE *1,00* M, INCLUINDO DIAGONAL, BARRAS DE LIGACAO, SAPATAS OU RODIZIOS E DEMAIS ITENS NECESSARIOS A MONTAGEM (NAO INCLUI INSTALACAO) | C30: M X MÊS | D30: 412.03 | E30: 21.935186 | F30: 0 | G30: =F30*E30 -> 0 | H30: =F30/D30 -> 0 | I30: =IFERROR(VLOOKUP(A30,'MEMO CALCULO 04'!$B$2:$E$508,4,0),0) -> 0 | J30: =I30*E30 -> 0 | K30: =I30/D30 -> 0 | L30: =F30+I30 -> 0 | M30: =G30+J30 -> 0 | N30: =H30+K30 -> 0
A31: 2.1.3 | B31: MONTAGEM E DESMONTAGEM DE ANDAIME TUBULAR TIPO TORRE (EXCLUSIVE ANDAIME E LIMPEZA). AF_11/2017 | C31: M | D31: 412.03 | E31: 28.762608 | F31: 0 | G31: =F31*E31 -> 0 | H31: =F31/D31 -> 0 | I31: =IFERROR(VLOOKUP(A31,'MEMO CALCULO 04'!$B$2:$E$508,4,0),0) -> 0 | J31: =I31*E31 -> 0 | K31: =I31/D31 -> 0 | L31: =F31+I31 -> 0 | M31: =G31+J31 -> 0 | N31: =H31+K31 -> 0
A32: 2.1.4 | B32: Barracão para escritório com sanitário área 14.50m2, de chapa de compens. 12mm e pontalete 8x8cm, piso cimentado e cobertura de telha de fibroc. 6mm, incl. ponto de luz e cx. de inspeção, conf. projeto (2 utilizações) | C32: m2 | D32: 14.5 | E32: 567.31554 | F32: 14.5 | G32: =F32*E32 -> 8226.0753 | H32: =F32/D32 -> 1 | I32: =IFERROR(VLOOKUP(A32,'MEMO CALCULO 04'!$B$2:$E$508,4,0),0) -> 0 | J32: =I32*E32 -> 0 | K32: =I32/D32 -> 0 | L32: =F32+I32 -> 14.5 | M32: =G32+J32 -> 8226.0753 | N32: =H32+K32 -> 1
A33: 2.1.5 | B33: Barracão para almoxarifado área de 10.90m2, de chapa de compensado 12mm e pontaletes 8x8cm, piso cimentado e cobertura de telha de fibrocimento de 6mm, inclusive ponto de luz, conf. projeto (2 utilizações) | C33: m2 | D33: 10.9 | E33: 405.75822 | F33: 10.9 | G33: =F33*E33 -> 4422.7646 | H33: =F33/D33 -> 1 | I33: =IFERROR(VLOOKUP(A33,'MEMO CALCULO 04'!$B$2:$E$508,4,0),0) -> 0 | J33: =I33*E33 -> 0 | K33: =I33/D33 -> 0 | L33: =F33+I33 -> 10.9 | M33: =G33+J33 -> 4422.7646 | N33: =H33+K33 -> 1
A34: 2.1.6 | B34: Barracão para depósito de cimento área de 10.90m2, de chapa de compensado 12mm e pontaletes 8x8cm, piso cimentado e cobertura de telhas de fibrocimento de 6mm, inclusive ponto de luz, conf. projeto (2 utilizações) | C34: m2 | D34: 10.9 | E34: 355.93727 | F34: 10.9 | G34: =F34*E34 -> 3879.7163 | H34: =F34/D34 -> 1 | I34: =IFERROR(VLOOKUP(A34,'MEMO CALCULO 04'!$B$2:$E$508,4,0),0) -> 0 | J34: =I34*E34 -> 0 | K34: =I34/D34 -> 0 | L34: =F34+I34 -> 10.9 | M34: =G34+J34 -> 3879.7163 | N34: =H34+K34 -> 1
A35: 2.1.7 | B35: Refeitório com paredes de chapa de compens. 12mm e pontaletes 8x8cm, piso ciment. e cobert. de telhas fibroc. 6mm, incl. ponto de luz e cx. de inspeção (cons. 1.21m2/func./turno), conf. projeto (2 utilização) | C35: m2 | D35: 24.2 | E35: 344.83334 | F35: 24.2 | G35: =F35*E35 -> 8344.9669 | H35: =F35/D35 -> 1 | I35: =IFERROR(VLOOKUP(A35,'MEMO CALCULO 04'!$B$2:$E$508,4,0),0) -> 0 | J35: =I35*E35 -> 0 | K35: =I35/D35 -> 0 | L35: =F35+I35 -> 24.2 | M35: =G35+J35 -> 8344.9669 | N35: =H35+K35 -> 1
A36: 2.1.8 | B36: Unidade de sanitário e vestiário para até 20 func. área 18.15m2, paredes de chapa compens. 12mm e pontalete 8x8cm, piso cimentado, cobert. telha fibroc. 6mm, incl. inst. de luz e cx. de inspeção, conf. projeto (2 utilizações) | C36: und | D36: 1 | E36: 10974.378 | F36: 1 | G36: =F36*E36 -> 10974.378 | H36: =F36/D36 -> 1 | I36: =IFERROR(VLOOKUP(A36,'MEMO CALCULO 04'!$B$2:$E$508,4,0),0) -> 0 | J36: =I36*E36 -> 0 | K36: =I36/D36 -> 0 | L36: =F36+I36 -> 1 | M36: =G36+J36 -> 10974.378 | N36: =H36+K36 -> 1
A37: 2.1.9 | B37: Galpão para serraria e carpintaria área 12.00m2, em peças de madeira 8x8cm e contraventamento de 5x7cm, cobertura de telhas de fibroc. de 6mm, inclusive ponto e cabo de alimentação da máquina, conf. projeto (2 utilizações) | C37: m2 | D37: 12 | E37: 129.70077 | F37: 12 | G37: =F37*E37 -> 1556.4093 | H37: =F37/D37 -> 1 | I37: =IFERROR(VLOOKUP(A37,'MEMO CALCULO 04'!$B$2:$E$508,4,0),0) -> 0 | J37: =I37*E37 -> 0 | K37: =I37/D37 -> 0 | L37: =F37+I37 -> 12 | M37: =G37+J37 -> 1556.4093 | N37: =H37+K37 -> 1
A38: 2.1.10 | B38: Galpão para corte e armação com área de 6.00m2, de peças de madeira 8x8cm e contraventamento de 5x7cm, cobertura de telhas de fibroc. de 6mm, inclusive ponto e cabo de alimentação da máquina, conf. projeto (2 utilizações) | C38: m2 | D38: 6 | E38: 178.8369 | F38: 6 | G38: =F38*E38 -> 1073.0214 | H38: =F38/D38 -> 1 | I38: =IFERROR(VLOOKUP(A38,'MEMO CALCULO 04'!$B$2:$E$508,4,0),0) -> 0 | J38: =I38*E38 -> 0 | K38: =I38/D38 -> 0 | L38: =F38+I38 -> 6 | M38: =G38+J38 -> 1073.0214 | N38: =H38+K38 -> 1
A39: 2.1.11 | B39: Reservatório de poliestileno de 1000 L, inclusive suporte em madeira de 7x12cm e 5x7cm, elevado de 4m, conforme projeto (2 utilizações) | C39: und | D39: 1 | E39: 1185.3203 | F39: 0 | G39: =F39*E39 -> 0 | H39: =F39/D39 -> 0 | I39: =IFERROR(VLOOKUP(A39,'MEMO CALCULO 04'!$B$2:$E$508,4,0),0) -> 0 | J39: =I39*E39 -> 0 | K39: =I39/D39 -> 0 | L39: =F39+I39 -> 0 | M39: =G39+J39 -> 0 | N39: =H39+K39 -> 0
A40: 2.1.12 | B40: TAPUME COM TELHA METÁLICA. AF_05/2018 | C40: m² | D40: 88 | E40: 81.004896 | F40: 88 | G40: =F40*E40 -> 7128.4308 | H40: =F40/D40 -> 1 | I40: =IFERROR(VLOOKUP(A40,'MEMO CALCULO 04'!$B$2:$E$508,4,0),0) -> 0 | J40: =I40*E40 -> 0 | K40: =I40/D40 -> 0 | L40: =F40+I40 -> 88 | M40: =G40+J40 -> 7128.4308 | N40: =H40+K40 -> 1
A41: 3 | B41: MOVIMENTAÇÃO DE TERRA | J41: =SUM(J43:J49) -> 949.94187 | M41: =SUM(M43:M49) -> 10640.805
A42: 3.1 | B42: ESCAVAÇÕES
A43: 3.1.1 | B43: ESCAVAÇÃO MANUAL DE VALA COM PROFUNDIDADE MENOR OU IGUAL A 1,30 M. AF_02/2021 | C43: m³ | D43: 109.42 | E43: 83.719734 | F43: 109.42 | G43: =F43*E43 -> 9160.6133 | H43: =F43/D43 -> 1 | I43: =IFERROR(VLOOKUP(A43,'MEMO CALCULO 04'!$B$2:$E$508,4,0),0) -> 0 | J43: =I43*E43 -> 0 | K43: =I43/D43 -> 0 | L43: =F43+I43 -> 109.42 | M43: =G43+J43 -> 9160.6133 | N43: =H43+K43 -> 1
A44: 3.2 | B44: REATERRO E COMPACTAÇÃO
A45: 3.2.1 | B45: REATERRO MANUAL DE VALAS, COM COMPACTADOR DE SOLOS DE PERCUSSÃO. AF_08/2023 | C45: m³ | D45: 74.21 | E45: 26.512472 | F45: 20 | G45: =F45*E45 -> 530.24944 | H45: =F45/D45 -> 0.26950546 | I45: =IFERROR(VLOOKUP(A45,'MEMO CALCULO 04'!$B$2:$E$508,4,0),0) -> 35.83 | J45: =I45*E45 -> 949.94187 | K45: =I45/D45 -> 0.48281903 | L45: =F45+I45 -> 55.83 | M45: =G45+J45 -> 1480.1913 | N45: =H45+K45 -> 0.75232448
A46: 3.3 | B46: REATERRO E COMPACTAÇÃO
A47: 3.3.1 | B47: CARGA, MANOBRA E DESCARGA DE ENTULHO EM CAMINHÃO BASCULANTE 10 M³ - CARGA COM ESCAVADEIRA HIDRÁULICA (CAÇAMBA DE 0,80 M³ / 111 HP) E DESCARGA LIVRE (UNIDADE: M3). AF_07/2020 | C47: m³ | D47: 46.82 | E47: 8.132285 | F47: 0 | G47: =F47*E47 -> 0 | H47: =F47/D47 -> 0 | I47: =IFERROR(VLOOKUP(A47,'MEMO CALCULO 04'!$B$2:$E$508,4,0),0) -> 0 | J47: =I47*E47 -> 0 | K47: =I47/D47 -> 0 | L47: =F47+I47 -> 0 | M47: =G47+J47 -> 0 | N47: =H47+K47 -> 0
A48: 3.3.2 | B48: TRANSPORTE COM CAMINHÃO BASCULANTE DE 10 M³, EM VIA INTERNA (DENTRO DO CANTEIRO - UNIDADE: M3XKM). AF_07/2020 | C48: M3XKM | D48: 46.82 | E48: 6.640347 | F48: 0 | G48: =F48*E48 -> 0 | H48: =F48/D48 -> 0 | I48: =IFERROR(VLOOKUP(A48,'MEMO CALCULO 04'!$B$2:$E$508,4,0),0) -> 0 | J48: =I48*E48 -> 0 | K48: =I48/D48 -> 0 | L48: =F48+I48 -> 0 | M48: =G48+J48 -> 0 | N48: =H48+K48 -> 0
A49: 3.3.3 | B49: TRANSPORTE COM CAMINHÃO BASCULANTE DE 10 M³, EM VIA URBANA PAVIMENTADA, DMT ATÉ 30 KM (UNIDADE: M3XKM). AF_07/2020 | C49: M3XKM | D49: 468.2 | E49: 2.188991 | F49: 0 | G49: =F49*E49 -> 0 | H49: =F49/D49 -> 0 | I49: =IFERROR(VLOOKUP(A49,'MEMO CALCULO 04'!$B$2:$E$508,4,0),0) -> 0 | J49: =I49*E49 -> 0 | K49: =I49/D49 -> 0 | L49: =F49+I49 -> 0 | M49: =G49+J49 -> 0 | N49: =H49+K49 -> 0
A50: 4 | B50: ESTRUTURAS | J50: =SUM(J52:J73) -> 33723.409 | M50: =SUM(M52:M73) -> 134313.34
A51: 4.1 | B51: INFRA-ESTRUTURA (CONSIDERANDO SAPATAS E PILARETES)
A52: 4.1.1 | B52: CONCRETAGEM DE SAPATAS, FCK 30 MPA, COM USO DE JERICA LANÇAMENTO, ADENSAMENTO E ACABAMENTO. AF_06/2017 | C52: m³ | D52: 24.91 | E52: 784.47812 | F52: 16.84 | G52: =F52*E52 -> 13210.612 | H52: =F52/D52 -> 0.67603372 | I52: =IFERROR(VLOOKUP(A52,'MEMO CALCULO 04'!$B$2:$E$508,4,0),0) -> 0 | J52: =I52*E52 -> 0 | K52: =I52/D52 -> 0 | L52: =F52+I52 -> 16.84 | M52: =G52+J52 -> 13210.612 | N52: =H52+K52 -> 0.67603372
A53: 4.1.2 | B53: CONCRETAGEM DE BLOCO DE COROAMENTO OU VIGA BALDRAME, FCK 30 MPA, COM USO DE BOMBA - LANÇAMENTO, ADENSAMENTO E ACABAMENTO. AF_01/2024 | C53: M3 | D53: 28.66 | E53: 741.78668 | F53: 20.86 | G53: =F53*E53 -> 15473.67 | H53: =F53/D53 -> 0.72784368 | I53: =IFERROR(VLOOKUP(A53,'MEMO CALCULO 04'!$B$2:$E$508,4,0),0) -> 0 | J53: =I53*E53 -> 0 | K53: =I53/D53 -> 0 | L53: =F53+I53 -> 20.86 | M53: =G53+J53 -> 15473.67 | N53: =H53+K53 -> 0.72784368
A54: 4.1.3 | B54: FABRICAÇÃO, MONTAGEM E DESMONTAGEM DE FÔRMA PARA SAPATA, EM MADEIRA SERRADA, E=25 MM, 4 UTILIZAÇÕES. AF_06/2017 | C54: m² | D54: 331.5 | E54: 132.21995 | F54: 94.6 | G54: =F54*E54 -> 12508.007 | H54: =F54/D54 -> 0.28536953 | I54: =IFERROR(VLOOKUP(A54,'MEMO CALCULO 04'!$B$2:$E$508,4,0),0) -> 0 | J54: =I54*E54 -> 0 | K54: =I54/D54 -> 0 | L54: =F54+I54 -> 94.6 | M54: =G54+J54 -> 12508.007 | N54: =H54+K54 -> 0.28536953
A55: 4.1.4 | B55: FABRICAÇÃO, MONTAGEM E DESMONTAGEM DE FÔRMA PARA VIGA BALDRAME, EM MADEIRA SERRADA, E=25 MM, 4 UTILIZAÇÕES. AF_01/2024 | C55: M2 | D55: 446.88 | E55: 65.79202 | F55: 329.46 | G55: =F55*E55 -> 21675.839 | H55: =F55/D55 -> 0.7372449 | I55: =IFERROR(VLOOKUP(A55,'MEMO CALCULO 04'!$B$2:$E$508,4,0),0) -> 0 | J55: =I55*E55 -> 0 | K55: =I55/D55 -> 0 | L55: =F55+I55 -> 329.46 | M55: =G55+J55 -> 21675.839 | N55: =H55+K55 -> 0.7372449
A56: 4.1.5 | B56: ARMAÇÃO DE BLOCO, VIGA BALDRAME E SAPATA UTILIZANDO AÇO CA-60 DE 5 MM - MONTAGEM. AF_06/2017 | C56: KG | D56: 579.51 | E56: 20.153392 | F56: 443.5875 | G56: =F56*E56 -> 8939.7928 | H56: =F56/D56 -> 0.76545271 | I56: =IFERROR(VLOOKUP(A56,'MEMO CALCULO 04'!$B$2:$E$508,4,0),0) -> 0 | J56: =I56*E56 -> 0 | K56: =I56/D56 -> 0 | L56: =F56+I56 -> 443.5875 | M56: =G56+J56 -> 8939.7928 | N56: =H56+K56 -> 0.76545271
A57: 4.1.6 | B57: ARMAÇÃO DE BLOCO, VIGA BALDRAME OU SAPATA UTILIZANDO AÇO CA-50 DE 10 MM - MONTAGEM. AF_06/2017 | C57: KG | D57: 2562.08 | E57: 14.30793 | F57: 1726.4206 | G57: =F57*E57 -> 24701.505 | H57: =F57/D57 -> 0.67383556 | I57: =IFERROR(VLOOKUP(A57,'MEMO CALCULO 04'!$B$2:$E$508,4,0),0) -> 0 | J57: =I57*E57 -> 0 | K57: =I57/D57 -> 0 | L57: =F57+I57 -> 1726.4206 | M57: =G57+J57 -> 24701.505 | N57: =H57+K57 -> 0.67383556
A58: 4.1.7 | B58: ARMAÇÃO DE BLOCO, SAPATA ISOLADA, VIGA BALDRAME E SAPATA CORRIDA UTILIZANDO AÇO CA-50 DE 12,5 MM - MONTAGEM. AF_01/2024 | C58: KG | D58: 236 | E58: 11.067245 | F58: 235.80018 | G58: =F58*E58 -> 2609.6584 | H58: =F58/D58 -> 0.99915331 | I58: =IFERROR(VLOOKUP(A58,'MEMO CALCULO 04'!$B$2:$E$508,4,0),0) -> 0 | J58: =I58*E58 -> 0 | K58: =I58/D58 -> 0 | L58: =F58+I58 -> 235.80018 | M58: =G58+J58 -> 2609.6584 | N58: =H58+K58 -> 0.99915331
A59: 4.1.8 | B59: LASTRO DE CONCRETO MAGRO, APLICADO EM BLOCOS DE COROAMENTO OU SAPATAS. AF_08/2017 | C59: m³ | D59: 2.88 | E59: 717.48766 | F59: 2.05 | G59: =F59*E59 -> 1470.8497 | H59: =F59/D59 -> 0.71180556 | I59: =IFERROR(VLOOKUP(A59,'MEMO CALCULO 04'!$B$2:$E$508,4,0),0) -> 0 | J59: =I59*E59 -> 0 | K59: =I59/D59 -> 0 | L59: =F59+I59 -> 2.05 | M59: =G59+J59 -> 1470.8497 | N59: =H59+K59 -> 0.71180556
A60: 4.2 | B60: SUPER-ESTRUTURA (CONSIDERANDO LAJES DESDE A DE PISO)
A61: 4.2.1 | B61: CONCRETAGEM DE PILARES, FCK = 25 MPA, COM USO DE BOMBA - LANÇAMENTO, ADENSAMENTO E ACABAMENTO. AF_02/2022_PS | C61: M3 | D61: 16.46 | E61: 669.29317 | F61: 0 | G61: =F61*E61 -> 0 | H61: =F61/D61 -> 0 | I61: =IFERROR(VLOOKUP(A61,'MEMO CALCULO 04'!$B$2:$E$508,4,0),0) -> 4.9 | J61: =I61*E61 -> 3279.5365 | K61: =I61/D61 -> 0.29769137 | L61: =F61+I61 -> 4.9 | M61: =G61+J61 -> 3279.5365 | N61: =H61+K61 -> 0.29769137
A62: 4.2.2 | B62: CONCRETAGEM DE VIGAS E LAJES, FCK=25 MPA, PARA LAJES PREMOLDADAS COM USO DE BOMBA - LANÇAMENTO, ADENSAMENTO E ACABAMENTO. AF_02/2022_PS | C62: M3 | D62: 24.02 | E62: 690.07024 | F62: 0 | G62: =F62*E62 -> 0 | H62: =F62/D62 -> 0 | I62: =IFERROR(VLOOKUP(A62,'MEMO CALCULO 04'!$B$2:$E$508,4,0),0) -> 0 | J62: =I62*E62 -> 0 | K62: =I62/D62 -> 0 | L62: =F62+I62 -> 0 | M62: =G62+J62 -> 0 | N62: =H62+K62 -> 0
A63: 4.2.3 | B63: CONCRETAGEM DE LAJES EM EDIFICAÇÕES UNIFAMILIARES FEITAS COM SISTEMA DE FÔRMAS MANUSEÁVEIS, COM CONCRETO USINADO BOMBEÁVEL FCK 25 MPA - LANÇAMENTO, ADENSAMENTO E ACABAMENTO. AF_09/2024 | C63: M3 | D63: 40.71 | E63: 754.34587 | F63: 0 | G63: =F63*E63 -> 0 | H63: =F63/D63 -> 0 | I63: =IFERROR(VLOOKUP(A63,'MEMO CALCULO 04'!$B$2:$E$508,4,0),0) -> 19.9116 | J63: =I63*E63 -> 15020.233 | K63: =I63/D63 -> 0.48910833 | L63: =F63+I63 -> 19.9116 | M63: =G63+J63 -> 15020.233 | N63: =H63+K63 -> 0.48910833
A64: 4.2.4 | B64: MONTAGEM E DESMONTAGEM DE FÔRMA DE PILARES RETANGULARES E ESTRUTURAS SIMILARES, PÉ-DIREITO SIMPLES, EM CHAPA DE MADEIRA COMPENSADA RESINADA, 4 UTILIZAÇÕES. AF_09/2020 | C64: m² | D64: 274.24 | E64: 88.476815 | F64: 0 | G64: =F64*E64 -> 0 | H64: =F64/D64 -> 0 | I64: =IFERROR(VLOOKUP(A64,'MEMO CALCULO 04'!$B$2:$E$508,4,0),0) -> 71.4 | J64: =I64*E64 -> 6317.2446 | K64: =I64/D64 -> 0.26035589 | L64: =F64+I64 -> 71.4 | M64: =G64+J64 -> 6317.2446 | N64: =H64+K64 -> 0.26035589
A65: 4.2.5 | B65: MONTAGEM E DESMONTAGEM DE FÔRMA DE VIGA, ESCORAMENTO COM PONTALETE DE MADEIRA, PÉ-DIREITO SIMPLES, EM MADEIRA SERRADA, 4 UTILIZAÇÕES. AF_09/2020 | C65: M2 | D65: 383.38 | E65: 156.76355 | F65: 0 | G65: =F65*E65 -> 0 | H65: =F65/D65 -> 0 | I65: =IFERROR(VLOOKUP(A65,'MEMO CALCULO 04'!$B$2:$E$508,4,0),0) -> 0 | J65: =I65*E65 -> 0 | K65: =I65/D65 -> 0 | L65: =F65+I65 -> 0 | M65: =G65+J65 -> 0 | N65: =H65+K65 -> 0
A66: 4.2.6 | B66: MONTAGEM E DESMONTAGEM DE FÔRMA DE LAJE MACIÇA, PÉ-DIREITO SIMPLES, EM MADEIRA SERRADA, 4 UTILIZAÇÕES. AF_09/2020 | C66: M2 | D66: 125.02 | E66: 160.15098 | F66: 0 | G66: =F66*E66 -> 0 | H66: =F66/D66 -> 0 | I66: =IFERROR(VLOOKUP(A66,'MEMO CALCULO 04'!$B$2:$E$508,4,0),0) -> 0 | J66: =I66*E66 -> 0 | K66: =I66/D66 -> 0 | L66: =F66+I66 -> 0 | M66: =G66+J66 -> 0 | N66: =H66+K66 -> 0
A67: 4.2.7 | B67: LANÇAMENTO COM USO DE BOMBA, ADENSAMENTO E ACABAMENTO DE CONCRETO EM ESTRUTURAS. AF_02/2022 | C67: m³ | D67: 30.83 | E67: 41.382936 | F67: 0 | G67: =F67*E67 -> 0 | H67: =F67/D67 -> 0 | I67: =IFERROR(VLOOKUP(A67,'MEMO CALCULO 04'!$B$2:$E$508,4,0),0) -> 4.9 | J67: =I67*E67 -> 202.77639 | K67: =I67/D67 -> 0.1589361 | L67: =F67+I67 -> 4.9 | M67: =G67+J67 -> 202.77639 | N67: =H67+K67 -> 0.1589361
A68: 4.2.8 | B68: ARMAÇÃO DE PILAR OU VIGA DE ESTRUTURA CONVENCIONAL DE CONCRETO ARMADO UTILIZANDO AÇO CA-60 DE 5,0 MM - MONTAGEM. AF_06/2022 | C68: KG | D68: 896.75 | E68: 14.30793 | F68: 0 | G68: =F68*E68 -> 0 | H68: =F68/D68 -> 0 | I68: =IFERROR(VLOOKUP(A68,'MEMO CALCULO 04'!$B$2:$E$508,4,0),0) -> 89.268667 | J68: =I68*E68 -> 1277.2498 | K68: =I68/D68 -> 0.099546882 | L68: =F68+I68 -> 89.268667 | M68: =G68+J68 -> 1277.2498 | N68: =H68+K68 -> 0.099546882
A69: 4.2.9 | B69: ARMAÇÃO DE PILAR OU VIGA DE ESTRUTURA CONVENCIONAL DE CONCRETO ARMADO UTILIZANDO AÇO CA-50 DE 10,0 MM - MONTAGEM. AF_06/2022 | C69: KG | D69: 1843.07 | E69: 11.324054 | F69: 0 | G69: =F69*E69 -> 0 | H69: =F69/D69 -> 0 | I69: =IFERROR(VLOOKUP(A69,'MEMO CALCULO 04'!$B$2:$E$508,4,0),0) -> 259.8804 | J69: =I69*E69 -> 2942.8997 | K69: =I69/D69 -> 0.14100409 | L69: =F69+I69 -> 259.8804 | M69: =G69+J69 -> 2942.8997 | N69: =H69+K69 -> 0.14100409
A70: 4.2.10 | B70: ARMAÇÃO DE PILAR OU VIGA DE ESTRUTURA CONVENCIONAL DE CONCRETO ARMADO UTILIZANDO AÇO CA-50 DE 12,5 MM - MONTAGEM. AF_06/2022 | C70: KG | D70: 504 | E70: 9.514162 | F70: 0 | G70: =F70*E70 -> 0 | H70: =F70/D70 -> 0 | I70: =IFERROR(VLOOKUP(A70,'MEMO CALCULO 04'!$B$2:$E$508,4,0),0) -> 0 | J70: =I70*E70 -> 0 | K70: =I70/D70 -> 0 | L70: =F70+I70 -> 0 | M70: =G70+J70 -> 0 | N70: =H70+K70 -> 0
A71: 4.2.11 | B71: ARMAÇÃO DE LAJE DE ESTRUTURA CONVENCIONAL DE CONCRETO ARMADO UTILIZANDO AÇO CA-60 DE 5,0 MM - MONTAGEM. AF_06/2022 | C71: KG | D71: 394.11 | E71: 13.745396 | F71: 0 | G71: =F71*E71 -> 0 | H71: =F71/D71 -> 0 | I71: =IFERROR(VLOOKUP(A71,'MEMO CALCULO 04'!$B$2:$E$508,4,0),0) -> 340.73 | J71: =I71*E71 -> 4683.4688 | K71: =I71/D71 -> 0.86455558 | L71: =F71+I71 -> 340.73 | M71: =G71+J71 -> 4683.4688 | N71: =H71+K71 -> 0.86455558
A72: 4.2.12 | B72: ARMAÇÃO DE LAJE DE ESTRUTURA CONVENCIONAL DE CONCRETO ARMADO UTILIZANDO AÇO CA-50 DE 10,0 MM - MONTAGEM. AF_06/2022 | C72: KG | D72: 1035.63 | E72: 10.871581 | F72: 0 | G72: =F72*E72 -> 0 | H72: =F72/D72 -> 0 | I72: =IFERROR(VLOOKUP(A72,'MEMO CALCULO 04'!$B$2:$E$508,4,0),0) -> 0 | J72: =I72*E72 -> 0 | K72: =I72/D72 -> 0 | L72: =F72+I72 -> 0 | M72: =G72+J72 -> 0 | N72: =H72+K72 -> 0
A73: 4.2.13 | B73: LAJE PRÉ-MOLDADA UNIDIRECIONAL, BIAPOIADA, PARA PISO, ENCHIMENTO EM CERÂMICA, VIGOTA CONVENCIONAL, ALTURA TOTAL DA LAJE (ENCHIMENTO+CAPA) = (8+4). AF_11/2020_PA | C73: M2 | D73: 258.83 | E73: 168.60122 | F73: 0 | G73: =F73*E73 -> 0 | H73: =F73/D73 -> 0 | I73: =IFERROR(VLOOKUP(A73,'MEMO CALCULO 04'!$B$2:$E$508,4,0),0) -> 0 | J73: =I73*E73 -> 0 | K73: =I73/D73 -> 0 | L73: =F73+I73 -> 0 | M73: =G73+J73 -> 0 | N73: =H73+K73 -> 0
A74: 5 | B74: PAREDES E PAINÉIS | J74: =SUM(J76:J80) -> 0 | M74: =SUM(M76:M80) -> 0
A75: 5.1 | B75: ALVENARIA DE VEDAÇÃO
A76: 5.1 | B76: ALVENARIA DE VEDAÇÃO DE BLOCOS CERÂMICOS FURADOS NA VERTICAL DE 14X19X39 CM (ESPESSURA 14 CM) E ARGAMASSA DE ASSENTAMENTO COM PREPARO EM BETONEIRA. AF_12/2021 | C76: m² | D76: 1178.2 | E76: 62.783686 | F76: 0 | G76: =F76*E76 -> 0 | H76: =F76/D76 -> 0 | I76: =IFERROR(VLOOKUP(A76,'MEMO CALCULO 04'!$B$2:$E$508,4,0),0) -> 0 | J76: =I76*E76 -> 0 | K76: =I76/D76 -> 0 | L76: =F76+I76 -> 0 | M76: =G76+J76 -> 0 | N76: =H76+K76 -> 0
A77: 5.2 | B77: VERGA/CONTRAVERGA
A78: 5.2.1 | B78: VERGA PRÉ-MOLDADA COM ATÉ 1,5 M DE VÃO, ESPESSURA DE *15* CM. AF_03/2024 | C78: M | D78: 44.5 | E78: 22.574734 | F78: 0 | G78: =F78*E78 -> 0 | H78: =F78/D78 -> 0 | I78: =IFERROR(VLOOKUP(A78,'MEMO CALCULO 04'!$B$2:$E$508,4,0),0) -> 0 | J78: =I78*E78 -> 0 | K78: =I78/D78 -> 0 | L78: =F78+I78 -> 0 | M78: =G78+J78 -> 0 | N78: =H78+K78 -> 0
A79: 5.2.2 | B79: VERGA PRÉ-MOLDADA PARA PORTAS COM ATÉ 1,5 M DE VÃO. AF_03/2016 | C79: M | D79: 32.2 | E79: 25.901022 | F79: 0 | G79: =F79*E79 -> 0 | H79: =F79/D79 -> 0 | I79: =IFERROR(VLOOKUP(A79,'MEMO CALCULO 04'!$B$2:$E$508,4,0),0) -> 0 | J79: =I79*E79 -> 0 | K79: =I79/D79 -> 0 | L79: =F79+I79 -> 0 | M79: =G79+J79 -> 0 | N79: =H79+K79 -> 0
A80: 5.2.3 | B80: CONTRAVERGA PRÉ-MOLDADA PARA VÃOS DE ATÉ 1,5 M DE COMPRIMENTO. AF_03/2016 | C80: M | D80: 44.5 | E80: 25.216198 | F80: 0 | G80: =F80*E80 -> 0 | H80: =F80/D80 -> 0 | I80: =IFERROR(VLOOKUP(A80,'MEMO CALCULO 04'!$B$2:$E$508,4,0),0) -> 0 | J80: =I80*E80 -> 0 | K80: =I80/D80 -> 0 | L80: =F80+I80 -> 0 | M80: =G80+J80 -> 0 | N80: =H80+K80 -> 0
A81: 6 | B81: ESQUADRIAS DE MADEIRA | J81: =SUM(J83:J84) -> 0 | M81: =SUM(M83:M84) -> 0
A82: 6.1 | B82: PORTAS
A83: 6.1.1 | B83: KIT DE PORTA DE MADEIRA PARA PINTURA, SEMI-OCA (LEVE OU MÉDIA), PADRÃO MÉDIO, 80X210CM, ESPESSURA DE 3,5CM, ITENS INCLUSOS: DOBRADIÇAS, MONTAGEM E INSTALAÇÃO DO BATENTE, FECHADURA COM EXECUÇÃO DO FURO - FORNECIMENTO E INSTALAÇÃO. AF_12/2019 | C83: und | D83: 9 | E83: 909.95989 | F83: 0 | G83: =F83*E83 -> 0 | H83: =F83/D83 -> 0 | I83: =IFERROR(VLOOKUP(A83,'MEMO CALCULO 04'!$B$2:$E$508,4,0),0) -> 0 | J83: =I83*E83 -> 0 | K83: =I83/D83 -> 0 | L83: =F83+I83 -> 0 | M83: =G83+J83 -> 0 | N83: =H83+K83 -> 0
A84: 6.1.2 | B84: KIT DE PORTA DE MADEIRA PARA PINTURA, SEMI-OCA (LEVE OU MÉDIA), PADRÃO MÉDIO, 90X210CM, ESPESSURA DE 3,5CM, ITENS INCLUSOS: DOBRADIÇAS, MONTAGEM E INSTALAÇÃO DO BATENTE, FECHADURA COM EXECUÇÃO DO FURO - FORNECIMENTO E INSTALAÇÃO. AF_12/2019 | C84: und | D84: 16 | E84: 977.35391 | F84: 0 | G84: =F84*E84 -> 0 | H84: =F84/D84 -> 0 | I84: =IFERROR(VLOOKUP(A84,'MEMO CALCULO 04'!$B$2:$E$508,4,0),0) -> 0 | J84: =I84*E84 -> 0 | K84: =I84/D84 -> 0 | L84: =F84+I84 -> 0 | M84: =G84+J84 -> 0 | N84: =H84+K84 -> 0
A85: 7 | B85: ESQUADRIAS METÁLICAS | J85: =SUM(J87:J95) -> 0 | M85: =SUM(M87:M95) -> 0
A86: 7.1 | B86: ESQUADRIAS METÁLICAS (M2)
A87: 7.1.1 | B87: JANELA DE ALUMÍNIO TIPO MAXIM-AR, COM VIDROS, BATENTE E FERRAGENS. EXCLUSIVE ALIZAR, ACABAMENTO E CONTRAMARCO. FORNECIMENTO E INSTALAÇÃO. AF_12/2019 | C87: m² | D87: 25.55 | E87: 633.71901 | F87: 0 | G87: =F87*E87 -> 0 | H87: =F87/D87 -> 0 | I87: =IFERROR(VLOOKUP(A87,'MEMO CALCULO 04'!$B$2:$E$508,4,0),0) -> 0 | J87: =I87*E87 -> 0 | K87: =I87/D87 -> 0 | L87: =F87+I87 -> 0 | M87: =G87+J87 -> 0 | N87: =H87+K87 -> 0
A88: 7.1.2 | B88: JANELA FIXA DE ALUMÍNIO PARA VIDRO, COM VIDRO, BATENTE E FERRAGENS. EXCLUSIVE ACABAMENTO, ALIZAR E CONTRAMARCO. FORNECIMENTO E INSTALAÇÃO. AF_12/2019 | C88: m² | D88: 16.84 | E88: 682.98965 | F88: 0 | G88: =F88*E88 -> 0 | H88: =F88/D88 -> 0 | I88: =IFERROR(VLOOKUP(A88,'MEMO CALCULO 04'!$B$2:$E$508,4,0),0) -> 0 | J88: =I88*E88 -> 0 | K88: =I88/D88 -> 0 | L88: =F88+I88 -> 0 | M88: =G88+J88 -> 0 | N88: =H88+K88 -> 0
A89: 7.1.3 | B89: PORTA EM ALUMÍNIO DE ABRIR TIPO VENEZIANA COM GUARNIÇÃO, FIXAÇÃO COM PARAFUSOS - FORNECIMENTO E INSTALAÇÃO. AF_12/2019 | C89: m² | D89: 5.88 | E89: 572.97757 | F89: 0 | G89: =F89*E89 -> 0 | H89: =F89/D89 -> 0 | I89: =IFERROR(VLOOKUP(A89,'MEMO CALCULO 04'!$B$2:$E$508,4,0),0) -> 0 | J89: =I89*E89 -> 0 | K89: =I89/D89 -> 0 | L89: =F89+I89 -> 0 | M89: =G89+J89 -> 0 | N89: =H89+K89 -> 0
A90: 7.1.4 | B90: Janela em alumínio, cor N/P/B, moldura-vidro, tipo guilhotina, exclusive vidro | C90: m² | D90: 0.64 | E90: 314.26084 | F90: 0 | G90: =F90*E90 -> 0 | H90: =F90/D90 -> 0 | I90: =IFERROR(VLOOKUP(A90,'MEMO CALCULO 04'!$B$2:$E$508,4,0),0) -> 0 | J90: =I90*E90 -> 0 | K90: =I90/D90 -> 0 | L90: =F90+I90 -> 0 | M90: =G90+J90 -> 0 | N90: =H90+K90 -> 0
A91: 7.2 | B91: OUTRAS ESQUADRIAS
A92: 7.2.1 | B92: PORTA DE ABRIR COM MOLA HIDRÁULICA, EM VIDRO TEMPERADO, 2 FOLHAS DE 90X210 CM, ESPESSURA DD 10MM, INCLUSIVE ACESSÓRIOS. AF_01/2021 | C92: UND | D92: 1 | E92: 3595.9741 | F92: 0 | G92: =F92*E92 -> 0 | H92: =F92/D92 -> 0 | I92: =IFERROR(VLOOKUP(A92,'MEMO CALCULO 04'!$B$2:$E$508,4,0),0) -> 0 | J92: =I92*E92 -> 0 | K92: =I92/D92 -> 0 | L92: =F92+I92 -> 0 | M92: =G92+J92 -> 0 | N92: =H92+K92 -> 0
A93: 7.2.2 | B93: PORTA DE ALUMÍNIO DE ABRIR COM LAMBRI, COM GUARNIÇÃO, FIXAÇÃO COM PARAFUSOS - FORNECIMENTO E INSTALAÇÃO. AF_12/2019 | C93: m² | D93: 0.98 | E93: 729.97347 | F93: 0 | G93: =F93*E93 -> 0 | H93: =F93/D93 -> 0 | I93: =IFERROR(VLOOKUP(A93,'MEMO CALCULO 04'!$B$2:$E$508,4,0),0) -> 0 | J93: =I93*E93 -> 0 | K93: =I93/D93 -> 0 | L93: =F93+I93 -> 0 | M93: =G93+J93 -> 0 | N93: =H93+K93 -> 0
A94: 7.2.3 | B94: PORTÃO DE FERRO DE CORRER EM BARRA CHATA, INCLUSIVE CHUMBAMENTO | C94: M2 | D94: 10.4 | E94: 1182.422 | F94: 0 | G94: =F94*E94 -> 0 | H94: =F94/D94 -> 0 | I94: =IFERROR(VLOOKUP(A94,'MEMO CALCULO 04'!$B$2:$E$508,4,0),0) -> 0 | J94: =I94*E94 -> 0 | K94: =I94/D94 -> 0 | L94: =F94+I94 -> 0 | M94: =G94+J94 -> 0 | N94: =H94+K94 -> 0
A95: 7.2.4 | B95: GRADE DE FERRO EM BARRA CHATA, INCLUSIVE CHUMBAMENTO | C95: M2 | D95: 19.64 | E95: 294.49878 | F95: 0 | G95: =F95*E95 -> 0 | H95: =F95/D95 -> 0 | I95: =IFERROR(VLOOKUP(A95,'MEMO CALCULO 04'!$B$2:$E$508,4,0),0) -> 0 | J95: =I95*E95 -> 0 | K95: =I95/D95 -> 0 | L95: =F95+I95 -> 0 | M95: =G95+J95 -> 0 | N95: =H95+K95 -> 0
A96: 8 | B96: VIDROS E ESPELHOS | J96: =SUM(J98:J99) -> 0 | M96: =SUM(M98:M99) -> 0
A97: 8.1 | B97: VIDROS
A98: 8.1.1 | B98: INSTALAÇÃO DE VIDRO ARAMADO, E = 6 MM, EM ESQUADRIA DE ALUMÍNIO OU PVC, FIXADO COM BAGUETE. AF_01/2021_PS | C98: m² | D98: 3.78 | E98: 446.74983 | F98: 0 | G98: =F98*E98 -> 0 | H98: =F98/D98 -> 0 | I98: =IFERROR(VLOOKUP(A98,'MEMO CALCULO 04'!$B$2:$E$508,4,0),0) -> 0 | J98: =I98*E98 -> 0 | K98: =I98/D98 -> 0 | L98: =F98+I98 -> 0 | M98: =G98+J98 -> 0 | N98: =H98+K98 -> 0
A99: 8.1.2 | B99: INSTALAÇÃO DE VIDRO LISO INCOLOR, E = 4 MM, EM ESQUADRIA DE ALUMÍNIO OU PVC, FIXADO COM BAGUETE. AF_01/2021_PS | C99: M2 | D99: 0.64 | E99: 269.72282 | F99: 0 | G99: =F99*E99 -> 0 | H99: =F99/D99 -> 0 | I99: =IFERROR(VLOOKUP(A99,'MEMO CALCULO 04'!$B$2:$E$508,4,0),0) -> 0 | J99: =I99*E99 -> 0 | K99: =I99/D99 -> 0 | L99: =F99+I99 -> 0 | M99: =G99+J99 -> 0 | N99: =H99+K99 -> 0
A100: 9 | B100: COBERTURA | J100: =SUM(J102:J112) -> 0 | M100: =SUM(M102:M112) -> 0
A101: 9.1 | B101: ESTRUTURA PARA TELHADO
A102: 9.1.1 | B102: TRAMA DE MADEIRA COMPOSTA POR TERÇAS PARA TELHADOS DE ATÉ 2 ÁGUAS PARA TELHA ONDULADA DE FIBROCIMENTO, METÁLICA, PLÁSTICA OU TERMOACÚSTICA, INCLUSO TRANSPORTE VERTICAL. AF_07/2019 | C102: m² | D102: 215.15 | E102: 21.779849 | F102: 0 | G102: =F102*E102 -> 0 | H102: =F102/D102 -> 0 | I102: =IFERROR(VLOOKUP(A102,'MEMO CALCULO 04'!$B$2:$E$508,4,0),0) -> 0 | J102: =I102*E102 -> 0 | K102: =I102/D102 -> 0 | L102: =F102+I102 -> 0 | M102: =G102+J102 -> 0 | N102: =H102+K102 -> 0
A103: 9.1.2 | B103: FABRICAÇÃO E INSTALAÇÃO DE TESOURA INTEIRA EM MADEIRA NÃO APARELHADA, VÃO DE 4 M, PARA TELHA CERÂMICA OU DE CONCRETO, INCLUSO IÇAMENTO. AF_07/2019 | C103: UN | D103: 2 | E103: 1225.6148 | F103: 0 | G103: =F103*E103 -> 0 | H103: =F103/D103 -> 0 | I103: =IFERROR(VLOOKUP(A103,'MEMO CALCULO 04'!$B$2:$E$508,4,0),0) -> 0 | J103: =I103*E103 -> 0 | K103: =I103/D103 -> 0 | L103: =F103+I103 -> 0 | M103: =G103+J103 -> 0 | N103: =H103+K103 -> 0
A104: 9.1.3 | B104: FABRICAÇÃO E INSTALAÇÃO DE TESOURA INTEIRA EM MADEIRA NÃO APARELHADA, VÃO DE 6 M, PARA TELHA CERÂMICA OU DE CONCRETO, INCLUSO IÇAMENTO. AF_07/2019 | C104: UN | D104: 1 | E104: 1437.2377 | F104: 0 | G104: =F104*E104 -> 0 | H104: =F104/D104 -> 0 | I104: =IFERROR(VLOOKUP(A104,'MEMO CALCULO 04'!$B$2:$E$508,4,0),0) -> 0 | J104: =I104*E104 -> 0 | K104: =I104/D104 -> 0 | L104: =F104+I104 -> 0 | M104: =G104+J104 -> 0 | N104: =H104+K104 -> 0
A105: 9.1.4 | B105: FABRICAÇÃO E INSTALAÇÃO DE PONTALETES DE MADEIRA NÃO APARELHADA PARA TELHADOS COM ATÉ 2 ÁGUAS E COM TELHA ONDULADA DE FIBROCIMENTO, ALUMÍNIO OU PLÁSTICA EM EDIFÍCIO RESIDENCIAL DE MÚLTIPLOS PAVIMENTOS, INCLUSO TRANSPORTE VERTICAL. AF_07/2019 | C105: m² | D105: 215.15 | E105: 24.201191 | F105: 0 | G105: =F105*E105 -> 0 | H105: =F105/D105 -> 0 | I105: =IFERROR(VLOOKUP(A105,'MEMO CALCULO 04'!$B$2:$E$508,4,0),0) -> 0 | J105: =I105*E105 -> 0 | K105: =I105/D105 -> 0 | L105: =F105+I105 -> 0 | M105: =G105+J105 -> 0 | N105: =H105+K105 -> 0
A106: 9.2 | B106: TELHADO
A107: 9.2.1 | B107: TELHAMENTO COM TELHA DE AÇO/ALUMÍNIO E = 0,5 MM, COM ATÉ 2 ÁGUAS, INCLUSO IÇAMENTO. AF_07/2019 | C107: m² | D107: 215.15 | E107: 61.462954 | F107: 0 | G107: =F107*E107 -> 0 | H107: =F107/D107 -> 0 | I107: =IFERROR(VLOOKUP(A107,'MEMO CALCULO 04'!$B$2:$E$508,4,0),0) -> 0 | J107: =I107*E107 -> 0 | K107: =I107/D107 -> 0 | L107: =F107+I107 -> 0 | M107: =G107+J107 -> 0 | N107: =H107+K107 -> 0
A108: 9.3 | B108: RUFOS E CALHAS
A109: 9.3.1 | B109: CALHA EM CHAPA DE AÇO GALVANIZADO NÚMERO 24, DESENVOLVIMENTO DE 100 CM, INCLUSO TRANSPORTE VERTICAL. AF_07/2019 | C109: M | D109: 58.77 | E109: 132.90477 | F109: 0 | G109: =F109*E109 -> 0 | H109: =F109/D109 -> 0 | I109: =IFERROR(VLOOKUP(A109,'MEMO CALCULO 04'!$B$2:$E$508,4,0),0) -> 0 | J109: =I109*E109 -> 0 | K109: =I109/D109 -> 0 | L109: =F109+I109 -> 0 | M109: =G109+J109 -> 0 | N109: =H109+K109 -> 0
A110: 9.3.2 | B110: RUFO EM CHAPA DE AÇO GALVANIZADO NÚMERO 24, CORTE DE 25 CM, INCLUSO TRANSPORTE VERTICAL. AF_07/2019 | C110: M | D110: 105.12 | E110: 40.820402 | F110: 0 | G110: =F110*E110 -> 0 | H110: =F110/D110 -> 0 | I110: =IFERROR(VLOOKUP(A110,'MEMO CALCULO 04'!$B$2:$E$508,4,0),0) -> 0 | J110: =I110*E110 -> 0 | K110: =I110/D110 -> 0 | L110: =F110+I110 -> 0 | M110: =G110+J110 -> 0 | N110: =H110+K110 -> 0
A111: 9.4 | B111: DIVERSOS
...

Sheet MEMO CALCULO 04
B2: PREFEITURA MUNICIPAL DE SÃO ROQUE DO CANAÃ
B8: MEMÓRIA DE CÁLCULO 4ª MEDIÇÃO
B9: OBRA: CONSTRUÇÃO DA UNIDADE BÁSICA DE SAÚDE DE SÃO JACINTO | D9: DATA: 15/12/2025
B10: LOCAL: RUA LUIZ SIMONASSI, S/N, SÃO JACINTO, SÃO ROQUE DO CANAÃ/ES
B11: ITEM | C11: DESCRIÇÃO | D11: UND | E11: QUANT. | G11: ='MEDIÇÃO 4'!C364-'MEDIÇÃO 4'!E24-'MEDIÇÃO 4'!E25-'MEDIÇÃO 4'!E26 -> 1684349.6
B12: 1 | C12: =VLOOKUP(B12,'MEDIÇÃO 4'!$A$20:$C$362,2,0) -> SERVIÇOS PRELIMINARES | F12: 53446.152 | G12: 1684349.6 | H12: =F12/G12 -> 0.031731033 | I12: =H12*2.4 -> 0.076154478
B13: 1.2 | C13: =VLOOKUP(B13,'MEDIÇÃO 4'!$A$20:$C$362,2,0) -> ADMINISTRAÇÃO LOCAL | H13: 0.031731033 | I13: 0.076154478
B14: 1.2.1 | C14: =VLOOKUP(B14,'MEDIÇÃO 4'!$A$20:$C$362,2,0) -> ENGENHEIRO CIVIL DE OBRA JUNIOR COM ENCARGOS COMPLEMENTARES | D14: =VLOOKUP(B14,'MEDIÇÃO 4'!$A$20:$C$79,3,0) -> MES | E14: =D15 -> 0.076154478
B15: Valor da 4ª medição sem adm Local / (Valor do contrato-adm local) = R$ 53.446,15 / R$ 1.684.349,59.: 0,0317310326328489 und x 2,40.: 0,0761544783188373. | D15: 0.076154478
B16: 1.2.2 | C16: =VLOOKUP(B16,'MEDIÇÃO 4'!$A$20:$C$362,2,0) -> MESTRE DE OBRAS COM ENCARGOS COMPLEMENTARES | D16: =VLOOKUP(B16,'MEDIÇÃO 4'!$A$20:$C$79,3,0) -> MES | E16: =D17 -> 0.076154478 | F16: 53446.152 | G16: 1684349.6 | H16: =F16/G16 -> 0.031731033 | I16: =H16*2.4 -> 0.076154478
B17: Valor da 4ª medição sem adm Local / (Valor do contrato-adm local) = R$ R$ 53.446,15 / R$ 1.684.349,59.: 0,0317310326328489 und x 2,40.: 0,0761544783188373. | D17: 0.076154478 | H17: 0.031731033 | I17: 0.076154478
B18: 1.2.3 | C18: =VLOOKUP(B18,'MEDIÇÃO 4'!$A$20:$C$362,2,0) -> TECNICO DE EDIFICACOES COM ENCARGOS COMPLEMENTARES | D18: =VLOOKUP(B18,'MEDIÇÃO 4'!$A$20:$C$79,3,0) -> MES | E18: =D19 -> 0.095193098 | F18: 53446.152 | G18: 1684349.6 | H18: =F18/G18 -> 0.031731033 | I18: =H18*3 -> 0.095193098
B19: Valor da 4ª medição sem adm Local / (Valor do contrato-adm local) = R$ R$ 53.446,15 / R$ 1.684.349,59.: 0,0317310326328489 und x 3,00.: 0,0951930978985466. | D19: 0.095193098 | H19: 0.031731033 | I19: 0.095193098
B21: 3 | C21: =VLOOKUP(B21,'MEDIÇÃO 4'!$A$20:$C$362,2,0) -> MOVIMENTAÇÃO DE TERRA
B22: 3.1 | C22: =VLOOKUP(B22,'MEDIÇÃO 4'!$A$20:$C$362,2,0) -> ESCAVAÇÕES
B23: 3.1.1 | C23: =VLOOKUP(B23,'MEDIÇÃO 4'!$A$20:$C$362,2,0) -> ESCAVAÇÃO MANUAL DE VALA COM PROFUNDIDADE MENOR OU IGUAL A 1,30 M. AF_02/2021 | D23: =VLOOKUP(B23,'MEDIÇÃO 4'!$A$20:$C$79,3,0) -> m³ | E23: =SUM(D24:D26) -> 0
B24: Para o cálculo da escavação das sapatas foi considerado 10 cm para cada lado
B25: Sapatas: 1,20 m x 1,20 m x 0,90 m x 41 sapatas = 53,14 m³ (2ª medição) | D25: 0
B26: Vigas Térreo = volume de concreto das vigas do térreo = 20,86 m³ (3ª medição) | D26: 0
B27: Nota: A prefeitura realizou a preparação do terreno/limpeza
B28: 3.2 | C28: =VLOOKUP(B28,'MEDIÇÃO 4'!$A$20:$C$362,2,0) -> REATERRO E COMPACTAÇÃO
B29: 3.2.1 | C29: =VLOOKUP(B29,'MEDIÇÃO 4'!$A$20:$C$362,2,0) -> REATERRO MANUAL DE VALAS, COM COMPACTADOR DE SOLOS DE PERCUSSÃO. AF_08/2023 | D29: =VLOOKUP(B29,'MEDIÇÃO 4'!$A$20:$C$79,3,0) -> m³ | E29: =SUM(D30:D33) -> 35.83
B30: Volume escavado - volume de concreto: 53,14 m³ (Sapatas) - 14,35 m³ (Rodapé) – 3,82 m³ (Arranque h:1,15 m já descontado o rodapé): 34,97 m³ | D30: 34.97
B31: Vigas Baldrames: 20,86 m³ (faces laterais) | D31: 20.86
B32: Medição 03 (Solicitado.: 20,00 m³) | D32: -20
B33: Medição 04 (Solicitado.: 20,00 m³)
B35: 4 | C35: =VLOOKUP(B35,'MEDIÇÃO 4'!$A$20:$C$362,2,0) -> ESTRUTURAS
B36: 4.1 | C36: =VLOOKUP(B36,'MEDIÇÃO 4'!$A$20:$C$362,2,0) -> INFRA-ESTRUTURA (CONSIDERANDO SAPATAS E PILARETES)
B37: 4.1.6 | C37: =VLOOKUP(B37,'MEDIÇÃO 4'!$A$20:$C$362,2,0) -> ARMAÇÃO DE BLOCO, VIGA BALDRAME OU SAPATA UTILIZANDO AÇO CA-50 DE 10 MM - MONTAGEM. AF_06/2017 | D37: =VLOOKUP(B37,'MEDIÇÃO 4'!$A$20:$C$79,3,0) -> KG | E37: 0
B38: 3ª medição | C38: 445
B39: Comp. (m) | C39: Peso (Kg)
B40: =164486/100 -> 1644.86 | C40: =B40*0.617 -> 1014.8786 | D40: 1015
B41: Vigas baldrames: 1.015,00 kg
B42: 2ª medição | C42: 445
B43: Sapatas: 445,00 kg (16 unidades x 1,10 x 41 x 0,617 Kg) | C43: 445 | D43: 445
B44: Pilaretes | C44: Comprimento do Arranque x Quant. ferros x 0,617 Kg/m | D44: Quant. f.
B45: P1 | C45: =1.7*12*0.617 -> 12.5868 | D45: =C45 -> 12.5868
B46: P2 | C46: =1.7*6*0.617 -> 6.2934 | D46: =C46 -> 6.2934
B47: P3 | C47: =1.7*6*0.617 -> 6.2934 | D47: =C47 -> 6.2934
B48: P4 | C48: =1.7*6*0.617 -> 6.2934 | D48: =C48 -> 6.2934
B49: P5 | C49: =1.7*6*0.617 -> 6.2934 | D49: =C49 -> 6.2934
B50: P6 | C50: =1.7*6*0.617 -> 6.2934 | D50: =C50 -> 6.2934
B51: P7 | C51: =1.7*6*0.617 -> 6.2934 | D51: =C51 -> 6.2934
B52: P8 | C52: =1.7*6*0.617 -> 6.2934 | D52: =C52 -> 6.2934
B53: P9 | C53: 8 BARRAS DE ½ | D53: 0
B54: P10 | C54: =1.7*6*0.617 -> 6.2934 | D54: =C54 -> 6.2934
B55: P11 | C55: =1.7*6*0.617 -> 6.2934 | D55: =C55 -> 6.2934
B56: P12 | C56: =1.7*6*0.617 -> 6.2934 | D56: =C56 -> 6.2934
B57: P13 | C57: =1.7*6*0.617 -> 6.2934 | D57: =C57 -> 6.2934
B58: P14 | C58: =1.7*6*0.617 -> 6.2934 | D58: =C58 -> 6.2934
B59: P15 | C59: =1.7*6*0.617 -> 6.2934 | D59: =C59 -> 6.2934
B60: P16 | C60: =1.7*6*0.617 -> 6.2934 | D60: =C60 -> 6.2934
B61: P17 | C61: =1.7*6*0.617 -> 6.2934 | D61: =C61 -> 6.2934
B62: P18 | C62: =1.7*6*0.617 -> 6.2934 | D62: =C62 -> 6.2934
B63: P19 | C63: =1.7*8*0.617 -> 8.3912 | D63: =C63 -> 8.3912
B64: P20 | C64: 8 BARRAS DE ½ | D64: 0
B65: P21 | C65: =1.7*6*0.617 -> 6.2934 | D65: =C65 -> 6.2934
B66: P22 | C66: =1.7*8*0.617 -> 8.3912 | D66: =C66 -> 8.3912
B67: P23 | C67: 8 BARRAS DE ½ | D67: 0
B68: P24 | C68: =1.7*6*0.617 -> 6.2934 | D68: =C68 -> 6.2934
B69: P25 | C69: =1.7*6*0.617 -> 6.2934 | D69: =C69 -> 6.2934
B70: P26 | C70: =1.7*6*0.617 -> 6.2934 | D70: =C70 -> 6.2934
B71: P27 | C71: =1.7*6*0.617 -> 6.2934 | D71: =C71 -> 6.2934
B72: P28 | C72: =1.7*6*0.617 -> 6.2934 | D72: =C72 -> 6.2934
B73: P29 | C73: =1.7*8*0.617 -> 8.3912 | D73: =C73 -> 8.3912
B74: P30 | C74: =1.7*8*0.617 -> 8.3912 | D74: =C74 -> 8.3912
B75: P31 | C75: =1.7*8*0.617 -> 8.3912 | D75: =C75 -> 8.3912
B76: P32 | C76: =1.7*8*0.617 -> 8.3912 | D76: =C76 -> 8.3912
B77: P33 | C77: =1.7*6*0.617 -> 6.2934 | D77: =C77 -> 6.2934
B78: P34 | C78: =1.7*12*0.617 -> 12.5868 | D78: =C78 -> 12.5868
B79: P35 | C79: =1.7*6*0.617 -> 6.2934 | D79: =C79 -> 6.2934
B80: P36 | C80: =1.7*6*0.617 -> 6.2934 | D80: =C80 -> 6.2934
B81: P37 | C81: =1.7*8*0.617 -> 8.3912 | D81: =C81 -> 8.3912
B82: P38 | C82: =1.7*6*0.617 -> 6.2934 | D82: =C82 -> 6.2934
B83: P39 | C83: =1.7*6*0.617 -> 6.2934 | D83: =C83 -> 6.2934
B84: P40 | C84: =1.7*6*0.617 -> 6.2934 | D84: =C84 -> 6.2934
B85: P41 | C85: =1.7*6*0.617 -> 6.2934 | D85: =C85 -> 6.2934
B86: Nota: Medição realizada, conforme quantidade real executada.
B88: 4.2 | C88: =VLOOKUP(B88,'MEDIÇÃO 4'!$A$20:$C$362,2,0) -> SUPER-ESTRUTURA (CONSIDERANDO LAJES DESDE A DE PISO)
B89: 4.2.1 | C89: =VLOOKUP(B89,'MEDIÇÃO 4'!$A$20:$C$362,2,0) -> CONCRETAGEM DE PILARES, FCK = 25 MPA, COM USO DE BOMBA - LANÇAMENTO, ADENSAMENTO E ACABAMENTO. AF_02/2022_PS | D89: =VLOOKUP(B89,'MEDIÇÃO 4'!$A$20:$C$79,3,0) -> M3 | E89: =SUM(D90:D105) -> 4.9
B90: P1 | C90: 0,20*0,70*3,50: 0,49 m³ | D90: =0.2*0.7*3.5 -> 0.49
B91: P2 | C91: 0,20*0,40*3,50: 0,28 m³ | D91: =0.2*0.4*3.5 -> 0.28
B92: P3 | C92: 0,20*0,40*3,50: 0,28 m³ | D92: =0.2*0.4*3.5 -> 0.28
B93: P4 | C93: 0,20*0,40*3,50: 0,28 m³ | D93: =0.2*0.4*3.5 -> 0.28
B94: P5 | C94: 0,20*0,40*3,50: 0,28 m³ | D94: =0.2*0.4*3.5 -> 0.28
B95: P6 | C95: 0,20*0,40*3,50: 0,28 m³ | D95: =0.2*0.4*3.5 -> 0.28
B96: P7 | C96: 0,20*0,40*3,50: 0,28 m³ | D96: =0.2*0.4*3.5 -> 0.28
B97: P14 | C97: 0,20*0,40*3,50: 0,28 m³ | D97: =0.2*0.4*3.5 -> 0.28
B98: P18 | C98: 0,20*0,40*3,50: 0,28 m³ | D98: =0.2*0.4*3.5 -> 0.28
B99: P27 | C99: 0,20*0,40*3,50: 0,28 m³ | D99: =0.2*0.4*3.5 -> 0.28
B100: P33 | C100: 0,20*0,40*3,50: 0,28 m³ | D100: =0.2*0.4*3.5 -> 0.28
B101: P34 | C101: 0,20*0,70*3,50: 0,49 m³ | D101: =0.2*0.7*3.5 -> 0.49
B102: P35 | C102: 0,20*0,40*3,50: 0,28 m³ | D102: =0.2*0.4*3.5 -> 0.28
B103: P36 | C103: 0,20*0,40*3,50: 0,28 m³ | D103: =0.2*0.4*3.5 -> 0.28
B104: P38 | C104: 0,20*0,40*3,50: 0,28 m³ | D104: =0.2*0.4*3.5 -> 0.28
B105: P39 | C105: 0,20*0,40*3,50: 0,28 m³ | D105: =0.2*0.4*3.5 -> 0.28
B106: Nota: 16 Pilares executados.
B107: 4.2.3 | C107: =VLOOKUP(B107,'MEDIÇÃO 4'!$A$20:$C$362,2,0) -> CONCRETAGEM DE LAJES EM EDIFICAÇÕES UNIFAMILIARES FEITAS COM SISTEMA DE FÔRMAS MANUSEÁVEIS, COM CONCRETO USINADO BOMBEÁVEL FCK 25 MPA - LANÇAMENTO, ADENSAMENTO E ACABAMENTO. AF_09/2024 | D107: =VLOOKUP(B107,'MEDIÇÃO 4'!$A$20:$C$79,3,0) -> M3 | E107: =SUM(D108:D117) -> 19.9116
B108: Laje de Piso: 383,85 m² x 0,06 m²: 23,031 m³ | D108: 23.031
B109: Consultório Odontológico: 15,06 m² x 0,06 m²: 0,9036 m³ | D109: -0.9036
...
