Workbook

Sheet MEDIÇÃO 2
A1: PREFEITURA MUNICIPAL DE SO ROQUE DO CANA Estado do Esprito Santo SECRETARIA MUNICIPAL DE OBRAS E SERVIÇOS URBANOS – SETOR DE ENGENHARIA
A13: BOLETIM DE | E13: =L18 -> MEDIÇÃO 02 | N13: DATA: 07/05/2025
A14: Obra: Reforma da quadra da EMEIEF “JOSEPHIR BOSCHETTI” | D14: CONTRATO Nº: | F14: 167/2024 | K14: Assinatura: 18/12/2024 | N14: INÍCIO: | P14: 45659
N15: TÉRMINO: | P15: 45780
A16: LOCAL: Comunidade de São Dalmácio, zona rural, s/n, Distrito Sede, São Roque do Canaã | D16: PERÍODO: | I16: 45696 | K16: a | L16: 45779 | N16: PRAZO: | P16: 60 DIAS + 60 DIAS
A17: EMPREITEIRA: CONSÓRCIO CINCO QUADRAS | F17: 1° REPLANILHAMENTO | I17: =L18 -> MEDIÇÃO 02 | L17: =O103 -> 28114.118 | N17: % MÊS: | O17: =K103 -> 0.24080713 | P17: % ACUM: | Q17: =K104 -> 0.9960521
A18: ITEM | B18: ESPECIFICAÇÃO | C18: UNID. | D18: QUANT. | E18: PREÇO UNIT R$ | F18: ACRESC. | G18: DESCRES. | H18: QUANT. ATUALIZ. | I18: ACUMULADO ANTERIOR | L18: MEDIÇÃO 02 | O18: TOTAL MEDIDO
I19: QUANT. | J19: TOTAL | K19: % | L19: QUANT. | M19: TOTAL | N19: % | O19: QUANT. | P19: TOTAL | Q19: % | S19: Contrato total | U19: Padrão | V19: Reforma | W19: Proporcional
A20: 1 | B20: INSTALAÇÃO DO CANTEIRO DE OBRAS | M20: =SUM(M21:M22) -> 1886.1817 | P20: =SUM(P21:P22) -> 2469.8428
A21: 1.1 | B21: Placa de obra nas dimensões de 2.0 x 4.0 m, padrão DER | C21: m2 | D21: 2 | E21: 291.83059 | H21: =D21+F21-G21 -> 2 | I21: 2 | J21: =I21*E21 -> 583.66117 | K21: =I21/H21 -> 1 | M21: =L21*E21 -> 0 | N21: =L21/H21 -> 0 | O21: =I21+L21 -> 2 | P21: =J21+M21 -> 583.66117 | Q21: =K21+N21 -> 1 | R21: 1 | S21: =H21*E21 -> 583.66117 | U21: =S24+S26+S27+S31+S32+S35+S36+S37+S38+S43+S56+S57+S59+S61+S62+S77+S78+S79+S81+S82+S83+S85+S87+S88+S89+S90+S91+S92+S93+S94+S95+S96+S97+S99 -> 37484.647 | V21: =S25+S28+S29+S30+S33+S40+S41+S45+S46+S47+S48+S49+S50+S51+S52+S53+S54+S58+S60+S63+S66+S68+S70+S75 -> 72615.734 | W21: =P21+P22+P72 -> 6649.1448
A22: 1.2 | B22: Aluguel mensal container para almoxarifado, incl. porta, 2 janelas, 1 pt iluminação, Isolamento térmico (teto), piso em comp. Naval pintado, cert. NR18, incl. laudo descontaminação. | C22: ms | D22: 2 | E22: 943.09084 | H22: =D22+F22-G22 -> 2 | I22: 0 | J22: =I22*E22 -> 0 | K22: =I22/H22 -> 0 | L22: 2 | M22: =L22*E22 -> 1886.1817 | N22: =L22/H22 -> 1 | O22: =I22+L22 -> 2 | P22: =J22+M22 -> 1886.1817 | Q22: =K22+N22 -> 1 | R22: 1 | S22: =H22*E22 -> 1886.1817 | U22: =U21/(D106-W21) -> 0.34045883 | V22: =V21/(D106-W21) -> 0.65954117
A23: 2 | B23: SERVIÇOS PRELIMINARES | M23: =SUM(M24:M33) -> 0 | P23: =SUM(P24:P33) -> 10537.828 | U23: =U22*P22 -> 642.16721 | V23: =V22*P22 -> 1244.0145
A24: 2.1 | B24: Demolição de alvenaria | C24: m3 | D24: 0.95 | E24: 71.7977 | H24: =D24+F24-G24 -> 0.95 | I24: 0.2 | J24: =I24*E24 -> 14.35954 | K24: =I24/H24 -> 0.21052632 | M24: =L24*E24 -> 0 | N24: =L24/H24 -> 0 | O24: =I24+L24 -> 0.2 | P24: =J24+M24 -> 14.35954 | Q24: =K24+N24 -> 0.21052632 | R24: 2 | S24: =H24*E24 -> 68.207815
A25: 2.2 | B25: Lixamento de parede com pintura antiga PVA para recebimento de nova camada de tinta | C25: m2 | D25: 206.34 | E25: 4.4970225 | H25: =D25+F25-G25 -> 206.34 | I25: 206.34 | J25: =I25*E25 -> 927.91562 | K25: =I25/H25 -> 1 | M25: =L25*E25 -> 0 | N25: =L25/H25 -> 0 | O25: =I25+L25 -> 206.34 | P25: =J25+M25 -> 927.91562 | Q25: =K25+N25 -> 1 | R25: 2 | S25: =H25*E25 -> 927.91562 | U25: =M43+M61+M62+M76+M80+M84+M86+M98 -> 21302.41 | V25: =M40+M48+M54+M68+M75 -> 4674.7683
A26: 2.3 | B26: Retirada de caixas/quadros elétricos | C26: und | D26: 1 | E26: 17.773946 | H26: =D26+F26-G26 -> 1 | I26: 1 | J26: =I26*E26 -> 17.773946 | K26: =I26/H26 -> 1 | M26: =L26*E26 -> 0 | N26: =L26/H26 -> 0 | O26: =I26+L26 -> 1 | P26: =J26+M26 -> 17.773946 | Q26: =K26+N26 -> 1 | R26: 2 | S26: =H26*E26 -> 17.773946 | U26: =U25+U23 -> 21944.577 | V26: =V25+V23 -> 5918.7828
A27: 2.4 | B27: Retirada de poste de aço de 4 a 6 m | C27: und | D27: 1 | E27: 47.861168 | H27: =D27+F27-G27 -> 1 | I27: 0 | J27: =I27*E27 -> 0 | K27: =I27/H27 -> 0 | M27: =L27*E27 -> 0 | N27: =L27/H27 -> 0 | O27: =I27+L27 -> 0 | P27: =J27+M27 -> 0 | Q27: =K27+N27 -> 0 | R27: 2 | S27: =H27*E27 -> 47.861168
A28: 2.5 | B28: Retirada de pontos elétricos (luminárias, interruptores e tomadas) | C28: und | D28: 12 | E28: 12.812945 | H28: =D28+F28-G28 -> 12 | I28: 12 | J28: =I28*E28 -> 153.75534 | K28: =I28/H28 -> 1 | M28: =L28*E28 -> 0 | N28: =L28/H28 -> 0 | O28: =I28+L28 -> 12 | P28: =J28+M28 -> 153.75534 | Q28: =K28+N28 -> 1 | R28: 2 | S28: =H28*E28 -> 153.75534 | U28: =U26/(M100-M72) -> 0.78757828 | V28: =V26/(M100-M72) -> 0.21242172
A29: 2.6 | B29: Remoção de pintura antiga a óleo ou esmalte | C29: m2 | D29: 228.96 | E29: 15.906135 | H29: =D29+F29-G29 -> 228.96 | I29: 228.96 | J29: =I29*E29 -> 3641.8687 | K29: =I29/H29 -> 1 | M29: =L29*E29 -> 0 | N29: =L29/H29 -> 0 | O29: =I29+L29 -> 228.96 | P29: =J29+M29 -> 3641.8687 | Q29: =K29+N29 -> 1 | R29: 2 | S29: =H29*E29 -> 3641.8687 | U29: =U28*M72 -> 197.49164 | V29: =V28*M72 -> 53.26647
A30: 2.7 | B30: Lixamento manual em superfícies metálicas em obra | C30: m2 | D30: 129.3 | E30: 10.150422 | H30: =D30+F30-G30 -> 129.3 | I30: 124.9 | J30: =I30*E30 -> 1267.7877 | K30: =I30/H30 -> 0.96597061 | M30: =L30*E30 -> 0 | N30: =L30/H30 -> 0 | O30: =I30+L30 -> 124.9 | P30: =J30+M30 -> 1267.7877 | Q30: =K30+N30 -> 0.96597061 | R30: 2 | S30: =H30*E30 -> 1312.4496 | U30: =U26+U29 -> 22142.069 | V30: =V26+V29 -> 5972.0493
A31: 2.8 | B31: Abertura e fechamento de rasgos em alvenaria, para passagem de eletroduto diâm. 1 1/4"a 2" | C31: m | D31: 4.5 | E31: 22.437525 | H31: =D31+F31-G31 -> 4.5 | I31: 1.5 | J31: =I31*E31 -> 33.656287 | K31: =I31/H31 -> 0.33333333 | M31: =L31*E31 -> 0 | N31: =L31/H31 -> 0 | O31: =I31+L31 -> 1.5 | P31: =J31+M31 -> 33.656287 | Q31: =K31+N31 -> 0.33333333 | R31: 2 | S31: =H31*E31 -> 100.96886
A32: 2.9 | B32: Escavação manual em material de 1a. categoria, até 1.50 m de profundidade | C32: m3 | D32: 2.42 | E32: 68.549851 | H32: =D32+F32-G32 -> 2.42 | I32: 2.42 | J32: =I32*E32 -> 165.89064 | K32: =I32/H32 -> 1 | M32: =L32*E32 -> 0 | N32: =L32/H32 -> 0 | O32: =I32+L32 -> 2.42 | P32: =J32+M32 -> 165.89064 | Q32: =K32+N32 -> 1 | R32: 2 | S32: =H32*E32 -> 165.89064
A33: 2.10 | B33: Retirada de grades, gradis, alambrados, cercas e portões | C33: m2 | D33: 204.56 | E33: 21.093177 | H33: =D33+F33-G33 -> 204.56 | I33: 204.56 | J33: =I33*E33 -> 4314.8203 | K33: =I33/H33 -> 1 | M33: =L33*E33 -> 0 | N33: =L33/H33 -> 0 | O33: =I33+L33 -> 204.56 | P33: =J33+M33 -> 4314.8203 | Q33: =K33+N33 -> 1 | R33: 2 | S33: =H33*E33 -> 4314.8203
A34: 3 | B34: INFRAESTRUTURA | M34: =SUM(M35:M38) -> 0 | P34: =SUM(P35:P38) -> 1960.6643 | S34: =H34*E34 -> 0
A35: 3.1 | B35: Fôrma de chapa compensada resinada 12mm, levando-se em conta a utilização 3 vezes (incluido o material, corte, montagem, escoramento e desfôrma) | C35: m2 | D35: 9 | E35: 100.01711 | H35: =D35+F35-G35 -> 9 | I35: 9 | J35: =I35*E35 -> 900.154 | K35: =I35/H35 -> 1 | M35: =L35*E35 -> 0 | N35: =L35/H35 -> 0 | O35: =I35+L35 -> 9 | P35: =J35+M35 -> 900.154 | Q35: =K35+N35 -> 1 | R35: 3 | S35: =H35*E35 -> 900.154
A36: 3.2 | B36: Fornecimento, preparo e aplicação de concreto Fck=25 MPa (brita 1 e 2) - (5% de perdas já incluído no custo) | C36: m3 | D36: 0.5625 | E36: 868.56777 | H36: =D36+F36-G36 -> 0.5625 | I36: 0.5625 | J36: =I36*E36 -> 488.56937 | K36: =I36/H36 -> 1 | M36: =L36*E36 -> 0 | N36: =L36/H36 -> 0 | O36: =I36+L36 -> 0.5625 | P36: =J36+M36 -> 488.56937 | Q36: =K36+N36 -> 1 | R36: 3 | S36: =H36*E36 -> 488.56937
A37: 3.3 | B37: Fornecimento, dobragem e colocação em fôrma, de armadura CA-60 B fina, diâmetro de 4.0 a 7.0mm | C37: kg | D37: 8.5 | E37: 14.371437 | H37: =D37+F37-G37 -> 8.5 | I37: 8.5 | J37: =I37*E37 -> 122.15721 | K37: =I37/H37 -> 1 | M37: =L37*E37 -> 0 | N37: =L37/H37 -> 0 | O37: =I37+L37 -> 8.5 | P37: =J37+M37 -> 122.15721 | Q37: =K37+N37 -> 1 | R37: 3 | S37: =H37*E37 -> 122.15721
A38: 3.4 | B38: Fornecimento, dobragem e colocação em fôrma, de armadura CA-50 A média, diâmetro de 6.3 a 10.0 mm | C38: kg | D38: 33.31 | E38: 13.502964 | H38: =D38+F38-G38 -> 33.31 | I38: 33.31 | J38: =I38*E38 -> 449.78374 | K38: =I38/H38 -> 1 | M38: =L38*E38 -> 0 | N38: =L38/H38 -> 0 | O38: =I38+L38 -> 33.31 | P38: =J38+M38 -> 449.78374 | Q38: =K38+N38 -> 1 | R38: 3 | S38: =H38*E38 -> 449.78374
A39: 4 | B39: PAREDES E PAINÉIS | M39: =SUM(M40:M41) -> 25.768653 | P39: =SUM(P40:P41) -> 158.97212 | S39: =H39*E39 -> 0
A40: 4.1 | B40: Chapisco de argamassa de cimento e areia média ou grossa lavada, no traço 1:3, espessura 5 mm | C40: m2 | D40: 3.5 | E40: 8.5895509 | F40: 3 | H40: =D40+F40-G40 -> 6.5 | I40: 3.5 | J40: =I40*E40 -> 30.063428 | K40: =I40/H40 -> 0.53846154 | L40: 3 | M40: =L40*E40 -> 25.768653 | N40: =L40/H40 -> 0.46153846 | O40: =I40+L40 -> 6.5 | P40: =J40+M40 -> 55.832081 | Q40: =K40+N40 -> 1 | R40: 4 | S40: =H40*E40 -> 55.832081
A41: 4.2 | B41: Reboco de argamassa de cimento, cal hidratada CH1 e areia média ou grossa lavada no traço 1:0.5:6, espessura 5mm | C41: m2 | D41: 3.5 | E41: 29.468584 | H41: =D41+F41-G41 -> 3.5 | I41: 3.5 | J41: =I41*E41 -> 103.14004 | K41: =I41/H41 -> 1 | M41: =L41*E41 -> 0 | N41: =L41/H41 -> 0 | O41: =I41+L41 -> 3.5 | P41: =J41+M41 -> 103.14004 | Q41: =K41+N41 -> 1 | R41: 4 | S41: =H41*E41 -> 103.14004
A42: 5 | B42: PISOS E REVESTIMENTOS | M42: =SUM(M43) -> 152.24604 | P42: =SUM(P43) -> 152.24604 | S42: =H42*E42 -> 0
A43: 5.1 | B43: Chapim sobre muros lineares, em granito ou mármore, l = 25 cm, assentado com argamassa 1:6 com aditivo. Af_11/2020 | C43: m | D43: 1.5 | E43: 101.49736 | H43: =D43+F43-G43 -> 1.5 | I43: 0 | J43: =I43*E43 -> 0 | K43: =I43/H43 -> 0 | L43: 1.5 | M43: =L43*E43 -> 152.24604 | N43: =L43/H43 -> 1 | O43: =I43+L43 -> 1.5 | P43: =J43+M43 -> 152.24604 | Q43: =K43+N43 -> 1 | R43: 5 | S43: =H43*E43 -> 152.24604
A44: 6. | B44: QUADRA DE ESPORTES | M44: =SUM(M45:M54) -> 2097.3572 | P44: =SUM(P45:P54) -> 42991.902 | S44: =H44*E44 -> 0
A45: 6.1 | B45: Pintura à base de epoxi, marcas de referência Suvinil, Coral ou Novacor, em faixas com largura de 5cm, para demarcação de quadras de esportes | C45: m | D45: 202.82 | E45: 12.122926 | H45: =D45+F45-G45 -> 202.82 | I45: 202.82 | J45: =I45*E45 -> 2458.7718 | K45: =I45/H45 -> 1 | M45: =L45*E45 -> 0 | N45: =L45/H45 -> 0 | O45: =I45+L45 -> 202.82 | P45: =J45+M45 -> 2458.7718 | Q45: =K45+N45 -> 1 | R45: 6 | S45: =H45*E45 -> 2458.7718
A46: 6.2 | B46: Pintura a base de epoxi, marcas de referência Suvinil, Coral ou Novacor, em faixas largura de 8cm para demarcação de quadra de esportes | C46: m | D46: 115.46 | E46: 13.78849 | H46: =D46+F46-G46 -> 115.46 | I46: 115.46 | J46: =I46*E46 -> 1592.019 | K46: =I46/H46 -> 1 | M46: =L46*E46 -> 0 | N46: =L46/H46 -> 0 | O46: =I46+L46 -> 115.46 | P46: =J46+M46 -> 1592.019 | Q46: =K46+N46 -> 1 | R46: 6 | S46: =H46*E46 -> 1592.019
A47: 6.3 | B47: Pintura com tinta à base de resinas acrílicas, marcas de referencia Suvinil, Coral ou Novacor, sobre piso de concreto a duas demãos | C47: m2 | D47: 523.96 | E47: 48.229971 | H47: =D47+F47-G47 -> 523.96 | I47: 523.96 | J47: =I47*E47 -> 25270.576 | K47: =I47/H47 -> 1 | M47: =L47*E47 -> 0 | N47: =L47/H47 -> 0 | O47: =I47+L47 -> 523.96 | P47: =J47+M47 -> 25270.576 | Q47: =K47+N47 -> 1 | R47: 6 | S47: =H47*E47 -> 25270.576
A48: 6.4 | B48: Placa de sinalização de segurança CODIGO 14 - 315/158(NBR 13.434); CÓDIGO S3(NT 14/2010-ES) ("SAIDA DE EMERGÊNCIA" - seta vertical) | C48: und | D48: 2 | E48: 31.586229 | H48: =D48+F48-G48 -> 2 | I48: 0 | J48: =I48*E48 -> 0 | K48: =I48/H48 -> 0 | L48: 2 | M48: =L48*E48 -> 63.172459 | N48: =L48/H48 -> 1 | O48: =I48+L48 -> 2 | P48: =J48+M48 -> 63.172459 | Q48: =K48+N48 -> 1 | R48: 6 | S48: =H48*E48 -> 63.172459
A49: 6.5 | B49: Rede para futebol de salão | C49: und | D49: 2 | E49: 181.71302 | H49: =D49+F49-G49 -> 2 | I49: 2 | J49: =I49*E49 -> 363.42604 | K49: =I49/H49 -> 1 | M49: =L49*E49 -> 0 | N49: =L49/H49 -> 0 | O49: =I49+L49 -> 2 | P49: =J49+M49 -> 363.42604 | Q49: =K49+N49 -> 1 | R49: 6 | S49: =H49*E49 -> 363.42604
A50: 6.6 | B50: Trinco redondo vertical ferro galvanizado 15cm | C50: un | D50: 1 | E50: 53.095547 | H50: =D50+F50-G50 -> 1 | I50: 1 | J50: =I50*E50 -> 53.095547 | K50: =I50/H50 -> 1 | M50: =L50*E50 -> 0 | N50: =L50/H50 -> 0 | O50: =I50+L50 -> 1 | P50: =J50+M50 -> 53.095547 | Q50: =K50+N50 -> 1 | R50: 6 | S50: =H50*E50 -> 53.095547
A51: 6.7 | B51: Reinstalação de alambrado de quadra poliesportiva | C51: m2 | D51: 204.56 | E51: 21.087228 | H51: =D51+F51-G51 -> 204.56 | I51: 204.56 | J51: =I51*E51 -> 4313.6035 | K51: =I51/H51 -> 1 | M51: =L51*E51 -> 0 | N51: =L51/H51 -> 0 | O51: =I51+L51 -> 204.56 | P51: =J51+M51 -> 4313.6035 | Q51: =K51+N51 -> 1 | R51: 6 | S51: =H51*E51 -> 4313.6035
...

Sheet MEMO CALCULO 02
B2: PREFEITURA MUNICIPAL DE SÃO ROQUE DO CANAÃ
B8: MEMÓRIA DE CÁLCULO 2ª MEDIÇÃO
B9: OBRA: Reforma da quadra da EMEIEF “JOSEPHIR BOSCHETTI” | D9: DATA: 07/05/2025
B10: LOCAL: Comunidade de São Dalmácio, Zona Rural, S/N, Distrito Sede, São Roque do Canaã
B11: ITEM | C11: DESCRIÇÃO | D11: UND | E11: QUANT.
B12: 1 | C12: =VLOOKUP(B12,'MEDIÇÃO 2'!$A$20:$C$100,2,0) -> INSTALAÇÃO DO CANTEIRO DE OBRAS
B13: 1.2 | C13: =VLOOKUP(B13,'MEDIÇÃO 2'!$A$20:$C$100,2,0) -> Aluguel mensal container para almoxarifado, incl. porta, 2 janelas, 1 pt iluminação, Isolamento térmico (teto), piso em comp. Naval pintado, cert. NR18, incl. laudo descontaminação. | D13: =VLOOKUP(B13,'MEDIÇÃO 2'!$A:$Q,3,0) -> ms | E13: =SUM(D14) -> 2
B14: Conforme Cronograma Físico-Financeiro: 2,00 meses | D14: 2
B16: 4 | C16: =VLOOKUP(B16,'MEDIÇÃO 2'!$A$20:$C$100,2,0) -> PAREDES E PAINÉIS
B17: 4.1 | C17: =VLOOKUP(B17,'MEDIÇÃO 2'!$A$20:$C$100,2,0) -> Chapisco de argamassa de cimento e areia média ou grossa lavada, no traço 1:3, espessura 5 mm | D17: =VLOOKUP(B17,'MEDIÇÃO 2'!$A:$Q,3,0) -> m2 | E17: =SUM(D18) -> 3
B18: Local na parede onde vai preencher para instalação do novo quadro de distribuição. 3,00 m² | D18: 3
B20: 5 | C20: =VLOOKUP(B20,'MEDIÇÃO 2'!$A$20:$C$100,2,0) -> PISOS E REVESTIMENTOS
B21: 5.1 | C21: =VLOOKUP(B21,'MEDIÇÃO 2'!$A$20:$C$100,2,0) -> Chapim sobre muros lineares, em granito ou mármore, l = 25 cm, assentado com argamassa 1:6 com aditivo. Af_11/2020 | D21: =VLOOKUP(B21,'MEDIÇÃO 2'!$A:$Q,3,0) -> m | E21: =SUM(D22) -> 1.5
B22: Sobre a mureta do padrão de energia: 1,50 m | D22: 1.5
B24: 6. | C24: =VLOOKUP(B24,'MEDIÇÃO 2'!$A$20:$C$100,2,0) -> QUADRA DE ESPORTES
B25: 6.4 | C25: =VLOOKUP(B25,'MEDIÇÃO 2'!$A$20:$C$100,2,0) -> Placa de sinalização de segurança CODIGO 14 - 315/158(NBR 13.434); CÓDIGO S3(NT 14/2010-ES) ("SAIDA DE EMERGÊNCIA" - seta vertical) | D25: =VLOOKUP(B25,'MEDIÇÃO 2'!$A:$Q,3,0) -> und | E25: =SUM(D26:D26) -> 2
B26: 2,00 und (Portão de saída) | D26: 2
B27: 6.11 | C27: =VLOOKUP(B27,'MEDIÇÃO 2'!$A$20:$C$100,2,0) -> Rede de proteção em nylon malha 10x10 cm para proteção de quadra de esportes | D27: =VLOOKUP(B27,'MEDIÇÃO 2'!$A:$Q,3,0) -> m2 | E27: =SUM(D28:D30) -> 81.85
B28: Área sobre o gol: 17,95 m x 2,28 m x 2 lados = 81,85 m² | D28: 81.85
B30: 7 | C30: =VLOOKUP(B30,'MEDIÇÃO 2'!$A$20:$C$100,2,0) -> INSTALAÇÕES ELÉTRICAS
B31: 7.6 | C31: =VLOOKUP(B31,'MEDIÇÃO 2'!$A$20:$C$100,2,0) -> Caixa de inspeção de alvenaria de blocos cerâmicos 10 furos 10x20x20cm dimensões de 30x30x60cm, com revestimento interno em chapisco e reboco, tampa de concreto esp.5cm e lastro de brita 5 cm | D31: =VLOOKUP(B31,'MEDIÇÃO 2'!$A:$Q,3,0) -> und | E31: =SUM(D32:D32) -> 1
B32: 1,00 und | D32: 1
B33: 7.7 | C33: =VLOOKUP(B33,'MEDIÇÃO 2'!$A$20:$C$100,2,0) -> Eletroduto PEAD parede simples, corrugado, cor preta, diâmetro 2", referencia Kanaflex, Plastibras ou equivalente | D33: =VLOOKUP(B33,'MEDIÇÃO 2'!$A:$Q,3,0) -> m | E33: =SUM(D34:D34) -> 11.7
B34: 11,70 m | D34: 11.7
B36: 8 | C36: =VLOOKUP(B36,'MEDIÇÃO 2'!$A$20:$C$100,2,0) -> PINTURA
B37: 8.2 | C37: =VLOOKUP(B37,'MEDIÇÃO 2'!$A$20:$C$100,2,0) -> SOBRE PAREDES E FORROS
B38: 8.2.1 | C38: =VLOOKUP(B38,'MEDIÇÃO 2'!$A$20:$C$100,2,0) -> Pintura sobre paredes e forros, aplicação manual, com duas demãos de tinta látex acrílico premium, acabamento fosco, referência Suvinil, Coral e Metalatex, inclusive uma demão de liquido selador acrílico, referência Suvinil, Coral ou Metalatex | D38: =VLOOKUP(B38,'MEDIÇÃO 2'!$A:$Q,3,0) -> m2 | E38: =SUM(D39:D39) -> 25
B39: Local onde vai mexer no novo quadro de distribuição para os ar condicionados: 25,00 m² | D39: 25
B41: 10 | C41: =VLOOKUP(B41,'MEDIÇÃO 2'!$A$20:$C$100,2,0) -> ADMINISTRAÇÃO LOCAL
B42: 10.1 | C42: =VLOOKUP(B42,'MEDIÇÃO 2'!$A$20:$C$100,2,0) -> Administração local | D42: =VLOOKUP(B42,'MEDIÇÃO 2'!$A:$Q,3,0) -> und | E42: =SUM(D43:D43) -> 0.06
B43: Total: R$ 4.974,75 / R$ 89.220,70.: 0,06 | D43: 0.06
B45: 11 | C45: =VLOOKUP(B45,'MEDIÇÃO 2'!$A$20:$C$100,2,0) -> ITENS NOVOS
B46: 11.1 | C46: =VLOOKUP(B46,'MEDIÇÃO 2'!$A$20:$C$100,2,0) -> Locação de andaime metálico para trabalho em fachada de edifíco (aluguel de 1 m² por 1 mês) inclusive frete, montagem e desmontagem | D46: =VLOOKUP(B46,'MEDIÇÃO 2'!$A:$Q,3,0) -> m2 | E46: =SUM(D47:D47) -> 67
B47: 4m x 16,75m = 67m² | D47: 67
B48: 11.2 | C48: =VLOOKUP(B48,'MEDIÇÃO 2'!$A$20:$C$100,2,0) -> Remoção de interruptores/tomadas elétricas, de forma manual | D48: =VLOOKUP(B48,'MEDIÇÃO 2'!$A:$Q,3,0) -> und | E48: =SUM(D49:D49) -> 35
B49: 29 unidades (retirada necessária para passagem de tubos de espera para interligação entre quadros/chegada do padrão de energia) + 6 unidades da quadra. Total: 35 unidades | D49: 35
B50: 11.3 | C50: =VLOOKUP(B50,'MEDIÇÃO 2'!$A$20:$C$100,2,0) -> Abertura e fechamento de rasgos em concreto, para passagem de tubulações, diâm. 11/4" a 2" | D50: =VLOOKUP(B50,'MEDIÇÃO 2'!$A:$Q,3,0) -> m | E50: =SUM(D51:D51) -> 6
B51: Ligações da caixa de passagem ate os quadros e descidas onde vai embutir. Total: 6,00 m | D51: 6
B52: 11.4 | C52: =VLOOKUP(B52,'MEDIÇÃO 2'!$A$20:$C$100,2,0) -> Remoção de telhas cerâmicas, tipo colonial, inclusive cumeeiras | D52: =VLOOKUP(B52,'MEDIÇÃO 2'!$A:$Q,3,0) -> m2 | E52: =SUM(D53:D53) -> 2.5
B53: Local onde precisará ter acesso a laje para passagem dos eletrodutos. 2,50 m² | D53: 2.5
...
