Workbook

Sheet MEDIÇÃO 9
A1: PREFEITURA MUNICIPAL DE SO ROQUE DO CANA Estado do Esprito Santo SECRETARIA MUNICIPAL DE OBRAS E SERVIÇOS URBANOS – SETOR DE ENGENHARIA
A12: BOLETIM DE MEDIÇÃO | P12: DATA: 13/02/2023
A14: OBRA: CONSTRUÇÃO DE MURO DE CONTENÇÃO E ESTABILIZAÇÃO DE TALUDES EM ÁREA DE RISCO | D14: CONTRATO Nº: | H14: 026/2022 | M14: Assinatura: 23/02/2022 | P14: INÍCIO: | R14: 44634
P15: TÉRMINO: | R15: 44998 | T15: 0.1557
A16: LOCAL: RUAS ANTÔNIO GIL VELOSO, CENTRO E MIGUEL ÂNGELO PIONTKOVSKY, BAIRRO NOSSA SENHORA DAS GRAÇAS, NESTE MUNICÍPIO | H16: PERÍODO | K16: 44933 | M16: a | N16: 44965 | P16: PRAZO: | R16: 365 DIAS | T16: 0.2855
A17: EMPREITEIRA: M S CONSTRUTORA EIRELI | H17: 1º REPLAN (QUANTITATIVO) | K17: =N18 -> MEDIÇÃO 10 | N17: =O86 -> 101396.18 | P17: % MÊS: | Q17: =M89 -> 0.037294658 | R17: % ACUM: | S17: =M90 -> 0.96431533
A18: ITEM | B18: ESPECIFICAÇÃO | C18: UNID. | D18: QUANT. | E18: PREÇO UNIT R$ | F18: REAJUSTE | G18: REAJUSTE + BDI | H18: ACRÉSC. | I18: DECRÉSC. | J18: TOTAL | K18: ACUMULADO ANTERIOR | N18: MEDIÇÃO 10 | Q18: TOTAL MEDIDO
K19: QUANT. | L19: TOTAL | M19: % | N19: QUANT. | O19: TOTAL | P19: % | Q19: QUANT. | R19: TOTAL | S19: % | T19: QUANT.
A20: 1. | B20: CANTEIRO DE OBRAS
A21: 1.1 | B21: Aluguel de container para almoxarifado | C21: mês | D21: 12 | E21: 307.00669 | F21: 359.191 | G21: =F21*(1+$T$16) -> 461.74003 | J21: =H21+D21-I21 -> 12 | K21: 9 | L21: =K21*G21 -> 4155.6603 | M21: =K21/J21 -> 0.75 | N21: 1 | O21: =N21*G21 -> 461.74003 | P21: =N21/J21 -> 0.083333333 | Q21: =K21+N21 -> 10 | R21: =ROUND(SUM(L21+O21),2) -> 4617.4 | S21: =M21+P21 -> 0.83333333 | T21: 9 | U21: =R21=T21 -> FALSE
A22: 1.2 | B22: Aluguel de container p/ escritório c/ ar condicionado e banheiro,isolam.térmico e acústico, 2 luminárias, janela de vidro, tomada p/ comput. E telef. | C22: mês | D22: 12 | E22: 444.20532 | F22: 519.712 | G22: =F22*(1+$T$16) -> 668.08978 | J22: =H22+D22-I22 -> 12 | K22: 9 | L22: =K22*G22 -> 6012.808 | M22: =K22/J22 -> 0.75 | N22: 1 | O22: =N22*G22 -> 668.08978 | P22: =N22/J22 -> 0.083333333 | Q22: =K22+N22 -> 10 | R22: =ROUND(SUM(L22+O22),2) -> 6680.9 | S22: =M22+P22 -> 0.83333333 | T22: 9 | W22: =210.07/((1+$T$16)) -> 163.41501
A23: 1.3 | B23: Aluguel de container tipo refeitório (2 unidades acopladas), c/ 2 aparelhos de ar condicionado, 4 lumináriase 4 janelas de vidro | C23: mês | D23: 12 | E23: 942.5 | F23: 1102.707 | G23: =F23*(1+$T$16) -> 1417.5298 | J23: =H23+D23-I23 -> 12 | K23: 9 | L23: =K23*G23 -> 12757.769 | M23: =K23/J23 -> 0.75 | N23: 1 | O23: =N23*G23 -> 1417.5298 | P23: =N23/J23 -> 0.083333333 | Q23: =K23+N23 -> 10 | R23: =ROUND(SUM(L23+O23),2) -> 14175.3 | S23: =M23+P23 -> 0.83333333 | T23: 9
A24: 1.4 | B24: Aluguel de container tipo sanitário com 3 vasos sanitários, lavatório, mictório, 5 chuveiros, 2 venezianas e piso especial | C24: mês | D24: 12 | E24: 457.76192 | F24: 535.574 | G24: =F24*(1+$T$16) -> 688.48038 | J24: =H24+D24-I24 -> 12 | K24: 9 | L24: =K24*G24 -> 6196.3234 | M24: =K24/J24 -> 0.75 | N24: 1 | O24: =N24*G24 -> 688.48038 | P24: =N24/J24 -> 0.083333333 | Q24: =K24+N24 -> 10 | R24: =ROUND(SUM(L24+O24),2) -> 6884.8 | S24: =M24+P24 -> 0.83333333 | T24: 9
A25: 1.5 | B25: Reservatório de fibra de vidro de 1000 L, incl. suporte em madeira de 7x12cm, elevado de 4m | C25: und | D25: 1 | E25: 1293.9912 | F25: 1513.948 | G25: =F25*(1+$T$16) -> 1946.1802 | J25: =H25+D25-I25 -> 1 | K25: 1 | L25: =K25*G25 -> 1946.1802 | M25: =K25/J25 -> 1 | O25: =N25*G25 -> 0 | P25: =N25/J25 -> 0 | Q25: =K25+N25 -> 1 | R25: =ROUND(SUM(L25+O25),2) -> 1946.18 | S25: =M25+P25 -> 1 | T25: 1
A26: 1.6 | B26: Rede de água c/ padrão de entrada d'água diâm. 3/4" conf. CESAN, incl. tubos e conexões p/ aliment., distrib., extravas. e limp., cons. o padrão a 25m | C26: m | D26: 15 | E26: 22.469591 | F26: 26.285 | G26: 33.79 | J26: =H26+D26-I26 -> 15 | K26: 15 | L26: =K26*G26 -> 506.85 | M26: =K26/J26 -> 1 | O26: =N26*G26 -> 0 | P26: =N26/J26 -> 0 | Q26: =K26+N26 -> 15 | R26: =ROUND(SUM(L26+O26),2) -> 506.85 | S26: =M26+P26 -> 1 | T26: 15
A27: 1.7 | B27: Rede de luz, incl. padrão entr. energia trifás. cabo ligação até barracões, quadro distrib., disj. e chave de força, cons. 20m entre padrão entr.e QDG | C27: m | D27: 15 | E27: 321.62139 | F27: 376.289 | G27: 483.72 | J27: =H27+D27-I27 -> 15 | K27: 15 | L27: =K27*G27 -> 7255.8 | M27: =K27/J27 -> 1 | O27: =N27*G27 -> 0 | P27: =N27/J27 -> 0 | Q27: =K27+N27 -> 15 | R27: =ROUND(SUM(L27+O27),2) -> 7255.8 | S27: =M27+P27 -> 1 | T27: 15
A28: 1.8 | B28: Galpão em peças de madeira 8x8cm e contravent. de 5x7cm, cobertura de telhas de fibroc. de 6mm, incl. ponto e cabo de alimentação da máquina | C28: m² | D28: 24 | E28: 139.67726 | F28: 163.415 | G28: =F28*(1+$T$16) -> 210.06998 | J28: =H28+D28-I28 -> 24 | K28: 24 | L28: =K28*G28 -> 5041.6796 | M28: =K28/J28 -> 1 | O28: =N28*G28 -> 0 | P28: =N28/J28 -> 0 | Q28: =K28+N28 -> 24 | R28: =ROUND(SUM(L28+O28),2) -> 5041.68 | S28: =M28+P28 -> 1 | T28: 24
A29: 2. | B29: TERRAPLANAGEM
A30: 2.1 | B30: Capina manual inclusive, limpeza | C30: m² | D30: 1865.6 | E30: 0.8514434 | F30: 0.986 | G30: =TRUNC(F30*(1+$T$16),2) -> 1.26 | J30: =H30+D30-I30 -> 1865.6 | K30: 1865.6 | L30: =K30*G30 -> 2350.656 | M30: =K30/J30 -> 1 | O30: =N30*G30 -> 0 | P30: =N30/J30 -> 0 | Q30: =K30+N30 -> 1865.6 | R30: =ROUND(SUM(L30+O30),2) -> 2350.66 | S30: =M30+P30 -> 1 | T30: 1865.6 | V30: =3.61/((1+$T$16)) -> 2.8082458
A31: 2.2 | B31: Escavação, carga e transporte de material de 1ª cat. 1000 a 1200 m com moto-escavotransportador | C31: m³ | D31: 2550 | E31: 13.657152 | F31: =E31*$E$102 -> 15.801325 | G31: =TRUNC(F31*(1+$T$16),2) -> 20.31 | J31: =H31+D31-I31 -> 2550 | K31: 2550 | L31: =K31*G31 -> 51790.5 | M31: =K31/J31 -> 1 | O31: =N31*G31 -> 0 | P31: =N31/J31 -> 0 | Q31: =K31+N31 -> 2550 | R31: =ROUND(SUM(L31+O31),2) -> 51790.5 | S31: =M31+P31 -> 1 | T31: 2550
A32: 2.3 | B32: Escavação, carga e transporte de material de 2ª cat. 1000 a 1200 m com moto-escavotransportador | C32: m³ | D32: 255 | E32: 21.899124 | F32: =E32*$E$102 -> 25.337287 | G32: =TRUNC(F32*(1+$T$16),2) -> 32.57 | J32: =H32+D32-I32 -> 255 | K32: 255 | L32: =K32*G32 -> 8305.35 | M32: =K32/J32 -> 1 | O32: =N32*G32 -> 0 | P32: =N32/J32 -> 0 | Q32: =K32+N32 -> 255 | R32: =ROUND(SUM(L32+O32),2) -> 8305.35 | S32: =M32+P32 -> 1 | T32: 255
A33: 2.4 | B33: Escavação e carga de material de 3ª categoria (H bancada >1,0 m) | C33: m³ | D33: 153 | E33: 23.66445 | F33: 27.375 | G33: =TRUNC(F33*(1+$T$16),2) -> 35.19 | H33: 246 | J33: =H33+D33-I33 -> 399 | K33: 399 | L33: =K33*G33 -> 14040.81 | M33: =K33/J33 -> 1 | O33: =N33*G33 -> 0 | P33: =N33/J33 -> 0 | Q33: =K33+N33 -> 399 | R33: =ROUND(SUM(L33+O33),2) -> 14040.81 | S33: =M33+P33 -> 1 | T33: 399
A34: 2.5 | B34: Fragmentação de rocha (fogacheamento) | C34: m³ | D34: 153 | E34: 29.329387 | F34: =E34*$E$102 -> 33.934101 | G34: =TRUNC(F34*(1+$T$16),2) -> 43.62 | H34: 246 | J34: =H34+D34-I34 -> 399 | K34: 399 | L34: =K34*G34 -> 17404.38 | M34: =K34/J34 -> 1 | O34: =N34*G34 -> 0 | P34: =N34/J34 -> 0 | Q34: =K34+N34 -> 399 | R34: =ROUND(SUM(L34+O34),2) -> 17404.38 | S34: =M34+P34 -> 1 | T34: 399
A35: 2.6 | B35: Preparo manual de talude, compreendendo acerto, raspagem eventual de até 0,30m de prof. e afastamento lateral | C35: m² | D35: 1865.6 | E35: 6.5504379 | F35: =E35*$E$102 -> 7.5788566 | G35: =TRUNC(F35*(1+$T$16),2) -> 9.74 | J35: =H35+D35-I35 -> 1865.6 | K35: 1865.6 | L35: =K35*G35 -> 18170.944 | M35: =K35/J35 -> 1 | O35: =N35*G35 -> 0 | P35: =N35/J35 -> 0 | Q35: =K35+N35 -> 1865.6 | R35: =ROUND(SUM(L35+O35),2) -> 18170.94 | S35: =M35+P35 -> 1 | T35: 1865.6
A36: 2.7 | B36: Transporte de materiais encosta acima, serviço manual, inclusive carga e e descarga | C36: tdam | D36: 4080 | E36: 15.832793 | F36: 18.312 | G36: =TRUNC(F36*(1+$T$16),2) -> 23.54 | J36: =H36+D36-I36 -> 4080 | K36: 4080 | L36: =K36*G36 -> 96043.2 | M36: =K36/J36 -> 1 | O36: =N36*G36 -> 0 | P36: =N36/J36 -> 0 | Q36: =K36+N36 -> 4080 | R36: =ROUND(SUM(L36+O36),2) -> 96043.2 | S36: =M36+P36 -> 1 | T36: 4080
A37: 2.8 | B37: Transporte de materiais encosta abaixo, serviço manual, inclusive carga e descarga | C37: tdam | D37: 1591.2 | E37: 11.702887 | F37: 13.536 | G37: =TRUNC(F37*(1+$T$16),2) -> 17.4 | J37: =H37+D37-I37 -> 1591.2 | K37: 1591.2 | L37: =K37*G37 -> 27686.88 | M37: =K37/J37 -> 1 | O37: =N37*G37 -> 0 | P37: =N37/J37 -> 0 | Q37: =K37+N37 -> 1591.2 | R37: =ROUND(SUM(L37+O37),2) -> 27686.88 | S37: =M37+P37 -> 1 | T37: 1591.2
A38: 2.9 | B38: Transporte Local de Materiais (TR-101-01) (Vias urbanas - Caminhão basculante): XP=7 e XR=2 - (1,123XP + 1,497XR + 1,872) - | C38: t | D38: 10197.888 | E38: 1.1232 | F38: =E38*$E$102 -> 1.2995424 | G38: =TRUNC(F38*(1+$T$16),2) -> 1.67 | H38: 393.6 | J38: =H38+D38-I38 -> 10591.488 | K38: 10591.485 | L38: =K38*G38 -> 17687.78 | M38: =K38/J38 -> 0.99999972 | O38: =N38*G38 -> 0 | P38: =N38/J38 -> 0 | Q38: =K38+N38 -> 10591.485 | R38: =ROUND(SUM(L38+O38),2) -> 17687.78 | S38: =M38+P38 -> 0.99999972 | T38: 10591.49
A39: 2.10 | B39: Compactação de aterros 100% PN | C39: m³ | D39: 2550 | E39: 2.4326954 | F39: 2.8089 | G39: =TRUNC(F39*(1+$T$16),2) -> 3.61 | J39: =H39+D39-I39 -> 2550 | K39: 2550 | L39: =K39*G39 -> 9205.5 | M39: =K39/J39 -> 1 | O39: =N39*G39 -> 0 | P39: =N39/J39 -> 0 | Q39: =K39+N39 -> 2550 | R39: =ROUND(SUM(L39+O39),2) -> 9205.5 | S39: =M39+P39 -> 1 | T39: 2550
A40: 2.11 | B40: Aquisição de solo de jazida comercial (saibreira) | C40: m³ | D40: 2550 | E40: 4.1274732 | F40: 4.769 | G40: =TRUNC(F40*(1+$T$16),2) -> 6.13 | J40: =H40+D40-I40 -> 2550 | K40: 2550 | L40: =K40*G40 -> 15631.5 | M40: =K40/J40 -> 1 | O40: =N40*G40 -> 0 | P40: =N40/J40 -> 0 | Q40: =K40+N40 -> 2550 | R40: =ROUND(SUM(L40+O40),2) -> 15631.5 | S40: =M40+P40 -> 1 | T40: 2550
A41: 3. | B41: DRENAGEM
A42: 3.1 | B42: Religação de rede de água em PVC DN 25mm,inclusive conexões | C42: m | D42: 20 | E42: 17.618067 | F42: =E42*$E$103 -> 19.996506 | G42: =TRUNC(F42*(1+$T$16),2) -> 25.7 | J42: =H42+D42-I42 -> 20 | K42: 0 | L42: =K42*G42 -> 0 | M42: =K42/J42 -> 0 | N42: 20 | O42: =N42*G42 -> 514 | P42: =N42/J42 -> 1 | Q42: =K42+N42 -> 20 | R42: =ROUND(SUM(L42+O42),2) -> 514 | S42: =M42+P42 -> 1 | T42: -
A43: 3.2 | B43: Tubo PVC rígido para esgoto no diâmetro de 200mm incluindo escavação e aterro com areia | C43: m | D43: 30 | E43: 130.6242 | F43: =E43*$E$103 -> 148.25847 | G43: =TRUNC(E43*(1+$T$16),2) -> 167.91 | J43: =H43+D43-I43 -> 30 | K43: 0 | L43: =K43*G43 -> 0 | M43: =K43/J43 -> 0 | N43: 30 | O43: =N43*G43 -> 5037.3 | P43: =N43/J43 -> 1 | Q43: =K43+N43 -> 30 | R43: =ROUND(SUM(L43+O43),2) -> 5037.3 | S43: =M43+P43 -> 1 | T43: -
A44: 3.3 | B44: Canaleta de concreto retangular (0,130m³/m) inclusive caiação | C44: m | D44: 170 | E44: 232.08644 | F44: =338.61/((1+$T$16)) -> 263.40723 | G44: =TRUNC(F44*(1+$T$16),2) -> 338.61 | J44: =H44+D44-I44 -> 170 | K44: 28 | L44: =K44*G44 -> 9481.08 | M44: =K44/J44 -> 0.16470588 | O44: =N44*G44 -> 0 | P44: =N44/J44 -> 0 | Q44: =K44+N44 -> 28 | R44: =ROUND(SUM(L44+O44),2) -> 9481.08 | S44: =M44+P44 -> 0.16470588 | T44: 28 | V44: =2767.48/((1+$T$16)) -> 2152.8433
A45: 3.4 | B45: Caixa coletora em bloco pré-moldado para d->0,60m (1,00 x 1,00m) | C45: Ud | D45: 2 | E45: 1896.807 | F45: =2767.48/((1+$T$16)) -> 2152.8433 | G45: =TRUNC(F45*(1+$T$16),2) -> 2767.48 | J45: =H45+D45-I45 -> 2 | K45: 0 | L45: =K45*G45 -> 0 | M45: =K45/J45 -> 0 | N45: 2 | O45: =N45*G45 -> 5534.96 | P45: =N45/J45 -> 1 | Q45: =K45+N45 -> 2 | R45: =ROUND(SUM(L45+O45),2) -> 5534.96 | S45: =M45+P45 -> 1 | T45: -
A46: 3.5 | B46: Tampa de concreto em grelha, fornecimento, assentamento e transporte | C46: Ud | D46: 2 | E46: 182.06925 | F46: =E46*$E$103 -> 206.6486 | G46: =TRUNC(F46*(1+$T$16),2) -> 265.64 | J46: =H46+D46-I46 -> 2 | K46: 0 | L46: =K46*G46 -> 0 | M46: =K46/J46 -> 0 | N46: 2 | O46: =N46*G46 -> 531.28 | P46: =N46/J46 -> 1 | Q46: =K46+N46 -> 2 | R46: =ROUND(SUM(L46+O46),2) -> 531.28 | S46: =M46+P46 -> 1 | T46: -
A47: 3.6 | B47: Eletroduto de PVC diâmetro de 4", fornecimento e instalação | C47: m | D47: 20 | E47: 88.066494 | F47: =E47*$E$103 -> 99.95547 | G47: =TRUNC(F47*(1+$T$16),2) -> 128.49 | J47: =H47+D47-I47 -> 20 | K47: 0 | L47: =K47*G47 -> 0 | M47: =K47/J47 -> 0 | N47: 20 | O47: =N47*G47 -> 2569.8 | P47: =N47/J47 -> 1 | Q47: =K47+N47 -> 20 | R47: =ROUND(SUM(L47+O47),2) -> 2569.8 | S47: =M47+P47 -> 1 | T47: -
A48: 3.7 | B48: Geogrelha com resistência londitudinal a tração 35 a 40 kN, resist. transversal a tração 30 kN e deformação 5%, fornecimento e aplicação | C48: m² | D48: 340 | E48: 26.399286 | F48: =E48*$E$103 -> 29.96319 | G48: =TRUNC(F48*(1+$T$16),2) -> 38.51 | J48: =H48+D48-I48 -> 340 | K48: 340 | L48: =K48*G48 -> 13093.4 | M48: =K48/J48 -> 1 | O48: =N48*G48 -> 0 | P48: =N48/J48 -> 0 | Q48: =K48+N48 -> 340 | R48: =ROUND(SUM(L48+O48),2) -> 13093.4 | S48: =M48+P48 -> 1 | T48: 340
A49: 3.8 | B49: Colchão drenante de brita 2 inclusive fornecimento, espalhamento,compactação e transporte da brita | C49: m³ | D49: 51 | E49: 84.363283 | F49: =E49*$E$103 -> 95.752326 | G49: =TRUNC(F49*(1+$T$16),2) -> 123.08 | J49: =H49+D49-I49 -> 51 | K49: 51 | L49: =K49*G49 -> 6277.08 | M49: =K49/J49 -> 1 | O49: =N49*G49 -> 0 | P49: =N49/J49 -> 0 | Q49: =K49+N49 -> 51 | R49: =ROUND(SUM(L49+O49),2) -> 6277.08 | S49: =M49+P49 -> 1 | T49: 51
A50: 3.9 | B50: Meio fio (remoção e reassentamento), inclusive caiação | C50: m | D50: 95 | E50: 47.299384 | F50: =E50*$E$103 -> 53.684801 | G50: =TRUNC(F50*(1+$T$16),2) -> 69.01 | H50: 14 | J50: =H50+D50-I50 -> 109 | K50: 0 | L50: =K50*G50 -> 0 | M50: =K50/J50 -> 0 | O50: =N50*G50 -> 0 | P50: =N50/J50 -> 0 | Q50: =K50+N50 -> 0 | R50: =ROUND(SUM(L50+O50),2) -> 0 | S50: =M50+P50 -> 0 | T50: -
A51: 3.10 | B51: Calçada de concreto | C51: m² | D51: 142.5 | E51: 40.520759 | F51: =E51*$E$103 -> 45.991061 | G51: =TRUNC(F51*(1+$T$16),2) -> 59.12 | H51: 21 | J51: =H51+D51-I51 -> 163.5 | K51: 0 | L51: =K51*G51 -> 0 | M51: =K51/J51 -> 0 | O51: =N51*G51 -> 0 | P51: =N51/J51 -> 0 | Q51: =K51+N51 -> 0 | R51: =ROUND(SUM(L51+O51),2) -> 0 | S51: =M51+P51 -> 0 | T51: -
...

Sheet MEMO CALCULO 10
B2: PREFEITURA MUNICIPAL DE SÃO ROQUE DO CANAÃ
B8: Memória de cálculo 10ª Medição
B9: OBRA: Construção de muro de contenção e estabilização de taludes em área de risco | D9: Data: 13/02/2023
B10: LOCAL: Ruas Antônio Gil Veloso, Centro e Miguel Ângelo Piontkovsky, Bairro Nossa Senhora das Graças, neste Município
B11: Item | C11: Descrição | D11: Und | E11: Quant.
B12: 1. | C12: =VLOOKUP(B12,'MEDIÇÃO 9'!$A$20:$C$85,2,0) -> CANTEIRO DE OBRAS
B13: 1.1 | C13: =VLOOKUP(B13,'MEDIÇÃO 9'!$A$20:$C$85,2,0) -> Aluguel de container para almoxarifado | D13: =VLOOKUP(B13,'MEDIÇÃO 9'!A20:C85,3,0) -> mês | E13: 1
B14: 1,00 mês
B15: 1.2 | C15: =VLOOKUP(B15,'MEDIÇÃO 9'!$A$20:$C$85,2,0) -> Aluguel de container p/ escritório c/ ar condicionado e banheiro,isolam.térmico e acústico, 2 luminárias, janela de vidro, tomada p/ comput. E telef. | D15: =VLOOKUP(B15,'MEDIÇÃO 9'!$A$20:$C$85,3,0) -> mês | E15: 1
B16: 1,00 mês
B17: 1.3 | C17: =VLOOKUP(B17,'MEDIÇÃO 9'!$A$20:$C$85,2,0) -> Aluguel de container tipo refeitório (2 unidades acopladas), c/ 2 aparelhos de ar condicionado, 4 lumináriase 4 janelas de vidro | D17: =VLOOKUP(B17,'MEDIÇÃO 9'!$A$20:$C$85,3,0) -> mês | E17: 1
B18: 1,00 mês
B19: 1.4 | C19: =VLOOKUP(B19,'MEDIÇÃO 9'!$A$20:$C$85,2,0) -> Aluguel de container tipo sanitário com 3 vasos sanitários, lavatório, mictório, 5 chuveiros, 2 venezianas e piso especial | D19: =VLOOKUP(B19,'MEDIÇÃO 9'!$A$20:$C$85,3,0) -> mês | E19: 1
B20: 1,00 mês
B22: 3. | C22: =VLOOKUP(B22,'MEDIÇÃO 9'!$A$20:$C$85,2,0) -> DRENAGEM
B23: 3.1 | C23: =VLOOKUP(B23,'MEDIÇÃO 9'!$A$20:$C$85,2,0) -> Religação de rede de água em PVC DN 25mm,inclusive conexões | D23: =VLOOKUP(B23,'MEDIÇÃO 9'!A30:C95,3,0) -> m | E23: 20
B24: Conforme projeto: 20,00 m
B25: 3.2 | C25: =VLOOKUP(B25,'MEDIÇÃO 9'!$A$20:$C$85,2,0) -> Tubo PVC rígido para esgoto no diâmetro de 200mm incluindo escavação e aterro com areia | D25: =VLOOKUP(B25,'MEDIÇÃO 9'!$A$20:$C$85,3,0) -> m | E25: 30
B26: Conforme projeto: 30,00 m
B27: 3.4 | C27: =VLOOKUP(B27,'MEDIÇÃO 9'!$A$20:$C$85,2,0) -> Caixa coletora em bloco pré-moldado para d->0,60m (1,00 x 1,00m) | D27: =VLOOKUP(B27,'MEDIÇÃO 9'!$A$20:$C$85,3,0) -> Ud | E27: 2
B28: Conforme projeto: 2,00 und
B29: 3.5 | C29: =VLOOKUP(B29,'MEDIÇÃO 9'!$A$20:$C$85,2,0) -> Tampa de concreto em grelha, fornecimento, assentamento e transporte | D29: =VLOOKUP(B29,'MEDIÇÃO 9'!$A$20:$C$85,3,0) -> Ud | E29: 2
B30: Conforme projeto: 2,00 und
B31: 3.6 | C31: =VLOOKUP(B31,'MEDIÇÃO 9'!$A$20:$C$85,2,0) -> Eletroduto de PVC diâmetro de 4", fornecimento e instalação | D31: =VLOOKUP(B31,'MEDIÇÃO 9'!$A$20:$C$85,3,0) -> m | E31: 20
B32: Conforme projeto: 20,00 m
B34: 5. | C34: =VLOOKUP(B34,'MEDIÇÃO 9'!$A$20:$C$85,2,0) -> SOLO GRAMPEADO
B35: 5.1 | C35: =VLOOKUP(B35,'MEDIÇÃO 9'!$A$20:$C$85,2,0) -> Concreto projetado com cimento especial | D35: =VLOOKUP(B35,'MEDIÇÃO 9'!$A$20:$C$85,3,0) -> m³ | E35: 15
B36: Aplicação para o solo grampeado: (41,20 m x 17,80 m x 0,10 m) + (22,00 m x 25,10 m x 0,10 m) + (12,53 m x 17,11 m x 0,10 m) = 150,00 m³
