Workbook

Sheet MEDIÇÃO 13
A1: PREFEITURA MUNICIPAL DE SO ROQUE DO CANA Estado do Esprito Santo SECRETARIA MUNICIPAL DE OBRAS E SERVIÇOS URBANOS – SETOR DE ENGENHARIA
A12: PREFEITURA MUNICIPAL DE SO ROQUE DO CANAÃ Estado do Esprito Santo SECRETARIA MUNICIPAL DE OBRAS E SERVIÇOS URBANOS – SETOR DE ENGENHARIA
A21: BOLETIM DE MEDIÇÃO 13 | K21: DATA: 03/10/2024
A23: OBRA: CONSTRUÇÃO DE MURO DE CONTENÇÃO E ESTABILIZAÇÃO DE TALUDES EM ÁREA DE RISCO | D23: CONTRATO Nº: | F23: 070/2023 | H23: Assinatura: 04/09/2023 | K23: INÍCIO: | M23: 45182
K24: TÉRMINO: | M24: 45629
A25: LOCAL: RUA ANTÔNIO GIL VELOSO, CENTRO | D25: PERÍODO: | F25: 45536 | H25: a | I25: 45565 | K25: PRAZO: | M25: 450 DIAS
A26: EMPREITEIRA: M S CONSTRUTORA LTDA | F26: =I27 -> MEDIÇÃO 13 | I26: =L135 -> 9023.3414 | K26: % MÊS: | L26: =H135 -> 0.0022609916 | M26: % ACUM: | N26: =H136 -> 0.98289887
A27: ITEM | B27: ESPECIFICAÇÃO | C27: UNID. | D27: QUANT. | E27: PREÇO UNIT R$ | F27: ACUMULADO ANTERIOR | I27: MEDIÇÃO 13 | L27: TOTAL MEDIDO
F28: QUANT. | G28: TOTAL | H28: % | I28: QUANT. | J28: TOTAL | K28: % | L28: QUANT. | M28: TOTAL | N28: %
A29: 1 | B29: MURO DE CONTENÇÃO | J29: =SUM(J30:J45) -> 0 | M29: =SUM(M30:M45) -> 901606.71
A30: 1.1 | B30: Capina manual, inclusive limpeza | C30: m² | D30: 5973 | E30: 0.88592459 | F30: 5973 | G30: =F30*E30 -> 5291.6276 | H30: =F30/D30 -> 1 | J30: =I30*E30 -> 0 | K30: =I30/D30 -> 0 | L30: =F30+I30 -> 5973 | M30: =G30+J30 -> 5291.6276 | N30: =H30+K30 -> 1
A31: 1.2 | B31: Carga de material de 1ª categoria | C31: m³ | D31: 3970.39 | E31: 4.6047503 | F31: 3970.39 | G31: =F31*E31 -> 18282.655 | H31: =F31/D31 -> 1 | J31: =I31*E31 -> 0 | K31: =I31/D31 -> 0 | L31: =F31+I31 -> 3970.39 | M31: =G31+J31 -> 18282.655 | N31: =H31+K31 -> 1
A32: 1.3 | B32: Compactação de aterros 100% PN | C32: m³ | D32: 730.45 | E32: 7.3655563 | F32: 730.45 | G32: =F32*E32 -> 5380.1706 | H32: =F32/D32 -> 1 | J32: =I32*E32 -> 0 | K32: =I32/D32 -> 0 | L32: =F32+I32 -> 730.45 | M32: =G32+J32 -> 5380.1706 | N32: =H32+K32 -> 1
A33: 1.4 | B33: Destocamento de árvores com diâmetro de 15 a 30 cm, com trator de esteira | C33: UND | D33: 199 | E33: 20.438072 | F33: 199 | G33: =F33*E33 -> 4067.1764 | H33: =F33/D33 -> 1 | J33: =I33*E33 -> 0 | K33: =I33/D33 -> 0 | L33: =F33+I33 -> 199 | M33: =G33+J33 -> 4067.1764 | N33: =H33+K33 -> 1
A34: 1.5 | B34: Escavação e carga de material de 1ª categoria, com trator de esteira e pá carregadeira | C34: m³ | D34: 6304.61 | E34: 12.567764 | F34: 6304.61 | G34: =F34*E34 -> 79234.852 | H34: =F34/D34 -> 1 | J34: =I34*E34 -> 0 | K34: =I34/D34 -> 0 | L34: =F34+I34 -> 6304.61 | M34: =G34+J34 -> 79234.852 | N34: =H34+K34 -> 1
A35: 1.6 | B35: Espalhamento / regularização / compactação de material em bota-fora | C35: m³ | D35: 4764.47 | E35: 3.657016 | F35: 4764.47 | G35: =F35*E35 -> 17423.743 | H35: =F35/D35 -> 1 | J35: =I35*E35 -> 0 | K35: =I35/D35 -> 0 | L35: =F35+I35 -> 4764.47 | M35: =G35+J35 -> 17423.743 | N35: =H35+K35 -> 1
A36: 1.7 | B36: Reaterro de cavas c/ compactação manual (apiloamento) | C36: m³ | D36: 587.82 | E36: 85.811015 | F36: 587.82 | G36: =F36*E36 -> 50441.431 | H36: =F36/D36 -> 1 | J36: =I36*E36 -> 0 | K36: =I36/D36 -> 0 | L36: =F36+I36 -> 587.82 | M36: =G36+J36 -> 50441.431 | N36: =H36+K36 -> 1
A37: 1.8 | B37: Colchão drenante de brita 2 inclusive fornecimento, espalhamento, compactação e transporte | C37: m³ | D37: 35.272064 | E37: 129.68751 | F37: 35.272064 | G37: =F37*E37 -> 4574.346 | H37: =F37/D37 -> 1 | J37: =I37*E37 -> 0 | K37: =I37/D37 -> 0 | L37: =F37+I37 -> 35.272064 | M37: =G37+J37 -> 4574.346 | N37: =H37+K37 -> 1
A38: 1.9 | B38: Manta Geotêxtil não tecida com resistência longitudinal a tração 10kN/m, fornecimento e aplicação | C38: m² | D38: 15 | E38: 12.990223 | F38: 15 | G38: =F38*E38 -> 194.85335 | H38: =F38/D38 -> 1 | J38: =I38*E38 -> 0 | K38: =I38/D38 -> 0 | L38: =F38+I38 -> 15 | M38: =G38+J38 -> 194.85335 | N38: =H38+K38 -> 1
A39: 1.10 | B39: Dreno de PVC D = 50 mm | C39: m | D39: 170 | E39: 43.492684 | F39: 170 | G39: =F39*E39 -> 7393.7563 | H39: =F39/D39 -> 1 | J39: =I39*E39 -> 0 | K39: =I39/D39 -> 0 | L39: =F39+I39 -> 170 | M39: =G39+J39 -> 7393.7563 | N39: =H39+K39 -> 1
A40: 1.11 | B40: Formas planas de madeira sem reaproveitamento (fundações), inclusive fornecimento e transporte das madeiras e aplicação | C40: m² | D40: 646.67 | E40: 248.49065 | F40: 646.67 | G40: =F40*E40 -> 160691.45 | H40: =F40/D40 -> 1 | J40: =I40*E40 -> 0 | K40: =I40/D40 -> 0 | L40: =F40+I40 -> 646.67 | M40: =G40+J40 -> 160691.45 | N40: =H40+K40 -> 1
A41: 1.12 | B41: Concreto ciclópico com 70% concreto 15,0 MPa e 30% de pedra de mão, tudo incluído | C41: m³ | D41: 517.33 | E41: 559.06409 | F41: 517.33 | G41: =F41*E41 -> 289220.63 | H41: =F41/D41 -> 1 | J41: =I41*E41 -> 0 | K41: =I41/D41 -> 0 | L41: =F41+I41 -> 517.33 | M41: =G41+J41 -> 289220.63 | N41: =H41+K41 -> 1
... A43: 1.14 | B43: Plataforma ou passarela de pinho de 1ª ou similar, 1" x 12" | C43: m² | D43: 352.73 | E43: 5.2640171 | F43: 352.73 | G43: =F43*E43 -> 1856.7767 | H43: =F43/D43 -> 1 | J43: =I43*E43 -> 0 | K43: =I43/D43 -> 0 | L43: =F43+I43 -> 352.73 | M43: =G43+J43 -> 1856.7767 | N43: =H43+K43 -> 1
A44: 1.15 | B44: Transporte de materiais para DMT acima de 15 km (Caminhão basculante) | C44: t | D44: 7848.321 | E44: 27.002126 | F44: 7848.32 | G44: =F44*E44 -> 211921.33 | H44: =F44/D44 -> 0.99999987 | J44: =I44*E44 -> 0 | K44: =I44/D44 -> 0 | L44: =F44+I44 -> 7848.32 | M44: =G44+J44 -> 211921.33 | N44: =H44+K44 -> 0.99999987 | O44: =I44/1.6 -> 0
A45: 1.16 | B45: Mobilização e desmobilização de equipamentos com carreta prancha (máximo) | C45: h | D45: 46.8 | E45: 617.73634 | F45: 46.8 | G45: =F45*E45 -> 28910.061 | H45: =F45/D45 -> 1 | J45: =I45*E45 -> 0 | K45: =I45/D45 -> 0 | L45: =F45+I45 -> 46.8 | M45: =G45+J45 -> 28910.061 | N45: =H45+K45 -> 1
A46: 2 | B46: CORTINA ATIRANTADA | J46: =SUM(J47:J69) -> 0 | M46: =SUM(M47:M69) -> 604235.63
A47: 2.1 | B47: Capina manual, inclusive limpeza | C47: m² | D47: 126 | E47: 0.88588889 | F47: 126 | G47: =F47*E47 -> 111.622 | H47: =F47/D47 -> 1 | J47: =I47*E47 -> 0 | K47: =I47/D47 -> 0 | L47: =F47+I47 -> 126 | M47: =G47+J47 -> 111.622 | N47: =H47+K47 -> 1
A48: 2.2 | B48: Compactação de aterros 100% PN | C48: m³ | D48: 319.8 | E48: 7.3655366 | F48: 319.8 | G48: =F48*E48 -> 2355.4986 | H48: =F48/D48 -> 1 | J48: =I48*E48 -> 0 | K48: =I48/D48 -> 0 | L48: =F48+I48 -> 319.8 | M48: =G48+J48 -> 2355.4986 | N48: =H48+K48 -> 1
A49: 2.3 | B49: Reaterro com areia, tudo incluído | C49: m³ | D49: 319.8 | E49: 72.862111 | F49: 319.8 | G49: =F49*E49 -> 23301.303 | H49: =F49/D49 -> 1 | J49: =I49*E49 -> 0 | K49: =I49/D49 -> 0 | L49: =F49+I49 -> 319.8 | M49: =G49+J49 -> 23301.303 | N49: =H49+K49 -> 1
A50: 2.4 | B50: Destocamento de árvores com diâmetro de 15 a 30 cm, com trator de esteira | C50: UND | D50: 30 | E50: 20.438223 | F50: 30 | G50: =F50*E50 -> 613.1467 | H50: =F50/D50 -> 1 | J50: =I50*E50 -> 0 | K50: =I50/D50 -> 0 | L50: =F50+I50 -> 30 | M50: =G50+J50 -> 613.1467 | N50: =H50+K50 -> 1
A51: 2.5 | B51: Escavação e carga de material de 1ª categoria, com trator de esteira e pá carregadeira | C51: m³ | D51: 319.8 | E51: 12.567739 | F51: 319.8 | G51: =F51*E51 -> 4019.1628 | H51: =F51/D51 -> 1 | J51: =I51*E51 -> 0 | K51: =I51/D51 -> 0 | L51: =F51+I51 -> 319.8 | M51: =G51+J51 -> 4019.1628 | N51: =H51+K51 -> 1
A52: 2.6 | B52: Espalhamento / regularização / compactação de material em bota-fora | C52: m³ | D52: 223.86 | E52: 3.6570297 | F52: 223.86 | G52: =F52*E52 -> 818.66268 | H52: =F52/D52 -> 1 | J52: =I52*E52 -> 0 | K52: =I52/D52 -> 0 | L52: =F52+I52 -> 223.86 | M52: =G52+J52 -> 818.66268 | N52: =H52+K52 -> 1
A53: 2.7 | B53: Reaterro de cavas c/ compactação manual (apiloamento) | C53: m³ | D53: 12.96 | E53: 85.81125 | F53: 12.96 | G53: =F53*E53 -> 1112.1138 | H53: =F53/D53 -> 1 | J53: =I53*E53 -> 0 | K53: =I53/D53 -> 0 | L53: =F53+I53 -> 12.96 | M53: =G53+J53 -> 1112.1138 | N53: =H53+K53 -> 1
A54: 2.8 | B54: Colchão drenante de brita 2 inclusive fornecimento, espalhamento, compactação e transporte | C54: m³ | D54: 20.16 | E54: 129.68467 | F54: 20.16 | G54: =F54*E54 -> 2614.443 | H54: =F54/D54 -> 1 | J54: =I54*E54 -> 0 | K54: =I54/D54 -> 0 | L54: =F54+I54 -> 20.16 | M54: =G54+J54 -> 2614.443 | N54: =H54+K54 -> 1
A55: 2.9 | B55: Manta Geotêxtil não tecida com resistência longitudinal a tração 10kN/m, fornecimento e aplicação | C55: m² | D55: 3.9 | E55: 12.991282 | F55: 3.9 | G55: =F55*E55 -> 50.665999 | H55: =F55/D55 -> 1 | J55: =I55*E55 -> 0 | K55: =I55/D55 -> 0 | L55: =F55+I55 -> 3.9 | M55: =G55+J55 -> 50.665999 | N55: =H55+K55 -> 1
A56: 2.10 | B56: Dreno de PVC D = 50 mm | C56: m | D56: 6.24 | E56: 43.492214 | F56: 6.24 | G56: =F56*E56 -> 271.39141 | H56: =F56/D56 -> 1 | J56: =I56*E56 -> 0 | K56: =I56/D56 -> 0 | L56: =F56+I56 -> 6.24 | M56: =G56+J56 -> 271.39141 | N56: =H56+K56 -> 1
A57: 2.11 | B57: Andaime de madeira para altura até 7 m, compreendendo montagem e desmontagem | C57: m³ | D57: 172.8 | E57: 39.506025 | F57: 172.8 | G57: =F57*E57 -> 6826.6411 | H57: =F57/D57 -> 1 | J57: =I57*E57 -> 0 | K57: =I57/D57 -> 0 | L57: =F57+I57 -> 172.8 | M57: =G57+J57 -> 6826.6411 | N57: =H57+K57 -> 1
A58: 2.12 | B58: Plataforma ou passarela de pinho de 1ª ou similar, 1" x 12" | C58: m² | D58: 43.2 | E58: 5.2640974 | F58: 43.2 | G58: =F58*E58 -> 227.40901 | H58: =F58/D58 -> 1 | J58: =I58*E58 -> 0 | K58: =I58/D58 -> 0 | L58: =F58+I58 -> 43.2 | M58: =G58+J58 -> 227.40901 | N58: =H58+K58 -> 1
... A69: 2.23 | B69: Formas planas de madeira com 01 (um) reaproveitamento, inclusive fornecimento e transporte das madeiras, em Vias Urbanas | C69: m² | D69: 248.6 | E69: 158.81736 | F69: 248.6 | G69: =F69*E69 -> 39481.995 | H69: =F69/D69 -> 1 | J69: =I69*E69 -> 0 | K69: =I69/D69 -> 0 | L69: =F69+I69 -> 248.6 | M69: =G69+J69 -> 39481.995 | N69: =H69+K69 -> 1
A70: 3 | B70: SOLO GRAMPEADO | J70: =SUM(J71:J80) -> 0 | M70: =SUM(M71:M80) -> 872844.09
...

Sheet MEMO CALCULO 13ª MEDIÇÃO
B2: PREFEITURA MUNICIPAL DE SÃO ROQUE DO CANAÃ
B8: MEMÓRIA DE CÁLCULO 13ª MEDIÇÃO
B9: OBRA: CONSTRUÇÃO DE MURO DE CONTENÇÃO E ESTABILIZAÇÃO DE TALUDES EM ÁREA DE RISCO | D9: DATA: 03/10/2024
B10: LOCAL: RUA ANTÔNIO GIL VELOSO, CENTRO, SÃO ROQUE DO CANAÃ
B11: ITEM | C11: DESCRIÇÃO | D11: UND | E11: QUANT.
B12: 6 | C12: =VLOOKUP(B12,'MEDIÇÃO 13'!$A$29:$C$132,2,0) -> CANTEIRO DE OBRAS
B13: 6.1 | C13: =VLOOKUP(B13,'MEDIÇÃO 13'!$A$29:$C$132,2,0) -> Hidrossemeadura simples em terrenos planos | D13: =VLOOKUP(B13,'MEDIÇÃO 13'!$A$29:$C$131,3,0) -> m² | E13: =SUM(D14:D14) -> 300
B14: Talude: 100,00 m (comprimento) x 3,00 m (altura) = 300,00 m² | D14: 300
B15: 6.2 | C15: =VLOOKUP(B15,'MEDIÇÃO 13'!$A$29:$C$132,2,0) -> Aluguel de container p/ escritório c/ ar condicionado e banheiro, isolam.térmico e acústico, 2 luminárias, janela de vidro, tomada p/ comput. e telef. | D15: =VLOOKUP(B15,'MEDIÇÃO 13'!$A$29:$C$131,3,0) -> Mes | E15: =SUM(D16:D16) -> 1
B16: 1,00 mês | D16: 1
B17: 6.3 | C17: =VLOOKUP(B17,'MEDIÇÃO 13'!$A$29:$C$132,2,0) -> Aluguel de container para almoxarifado | D17: =VLOOKUP(B17,'MEDIÇÃO 13'!$A$29:$C$131,3,0) -> Mes | E17: =SUM(D18:D18) -> 1
B18: 1,00 mês | D18: 1
B19: 6.4 | C19: =VLOOKUP(B19,'MEDIÇÃO 13'!$A$29:$C$132,2,0) -> Aluguel de container tipo refeitório (2 unidades acopladas), c/ 2 aparelhos de ar condicionado, 4 lumináriase 4 janelas de vidro | D19: =VLOOKUP(B19,'MEDIÇÃO 13'!$A$29:$C$131,3,0) -> Mes | E19: =SUM(D20:D20) -> 1
B20: 1,00 mês | D20: 1
B21: 6.5 | C21: =VLOOKUP(B21,'MEDIÇÃO 13'!$A$29:$C$132,2,0) -> Aluguel de container tipo vestiário, 2 luminárias, piso especial e janela | D21: =VLOOKUP(B21,'MEDIÇÃO 13'!$A$29:$C$131,3,0) -> Mes | E21: =SUM(D22:D22) -> 1
B22: 1,00 mês | D22: 1
B23: 6.6 | C23: =VLOOKUP(B23,'MEDIÇÃO 13'!$A$29:$C$132,2,0) -> Aluguel de container tipo sanitário com 3 vasos sanitários, lavatório, mictório, 5 chuveiros, 2 venezianas e piso especial | D23: =VLOOKUP(B23,'MEDIÇÃO 13'!$A$29:$C$131,3,0) -> Mes | E23: =SUM(D24:D24) -> 1
B24: 1,00 mês | D24: 1
H25: 349502.15 | I25: 341304.98
B26: 13 | C26: =VLOOKUP(B26,'MEDIÇÃO 13'!$A$29:$C$132,2,0) -> ADMINISTRAÇÃO LOCAL | H26: 3737562.4
B27: 13.1 | C27: =VLOOKUP(B27,'MEDIÇÃO 13'!$A$29:$C$132,2,0) -> Administração local, inclusive vigilância | D27: =VLOOKUP(B27,'MEDIÇÃO 13'!$A$29:$C$131,3,0) -> UND | E27: =D28 -> 0.0022609923 | H27: =H25/H26 -> 0.093510719
B28: R$ 8.450,60 (valor da décima segunda medição sem administração local) / R$ 3.737.562,41 (valor da obra sem administração local) = 0,002260992346 | D28: 0.0022609923
C32: ______________________________________________________________________
C33: PEDRO JAYME LANI JUNIOR
C34: Assessor de Assuntos de Gestão
C35: Engenheiro Civil
C36: CREA ES 20109/D
C37: Fiscal da Obra
