Workbook

Sheet MEDIÇÃO 18
A1: PREFEITURA MUNICIPAL DE SO ROQUE DO CANA Estado do Esprito Santo SECRETARIA MUNICIPAL DE OBRAS E SERVIÇOS URBANOS – SETOR DE ENGENHARIA
A12: PREFEITURA MUNICIPAL DE SO ROQUE DO CANAÃ Estado do Esprito Santo SECRETARIA MUNICIPAL DE OBRAS E SERVIÇOS URBANOS – SETOR DE ENGENHARIA
A21: BOLETIM DE MEDIÇÃO 18 | N21: DATA: 06/03/2025
A23: OBRA: CONSTRUÇÃO DE MURO DE CONTENÇÃO E ESTABILIZAÇÃO DE TALUDES EM ÁREA DE RISCO | G23: CONTRATO Nº: | I23: 070/2023 | K23: Assinatura: 04/09/2023 | N23: INÍCIO: | P23: 45182
N24: TÉRMINO: | P24: 45752
A25: LOCAL: RUA ANTÔNIO GIL VELOSO, CENTRO | G25: PERÍODO: | I25: 45689 | K25: a | L25: 45716 | N25: PRAZO: | P25: 450 DIAS + 120 dias
A26: EMPREITEIRA: M S CONSTRUTORA LTDA | I26: =L27 -> MEDIÇÃO 18 | L26: =O137 -> 415005.69 | N26: % MÊS: | O26: =K137 -> 0.10398857 | P26: % ACUM: | Q26: =K138 -> 1
A27: ITEM | B27: ESPECIFICAÇÃO | C27: UNID. | D27: QUANT. | E27: PREÇO UNIT R$ | F27: 1º REPLANILHAMENTO | I27: ACUMULADO ANTERIOR | L27: MEDIÇÃO 18 | O27: TOTAL MEDIDO
F28: ACRÉSC. | G28: DECRÉSC. | H28: QUANT. ATUALIZADA | I28: QUANT. | J28: TOTAL | K28: % | L28: QUANT. | M28: TOTAL | N28: % | O28: QUANT. | P28: TOTAL | Q28: %
A29: 1 | B29: MURO DE CONTENÇÃO | M29: =SUM(M30:M45) -> 0.027002126 | P29: =SUM(P30:P45) -> 975893.93
A30: 1.1 | B30: Capina manual, inclusive limpeza | C30: m² | D30: 5973 | E30: 0.88592459 | H30: =D30+F30-G30 -> 5973 | I30: 5973 | J30: =I30*E30 -> 5291.6276 | K30: =I30/H30 -> 1 | M30: =L30*E30 -> 0 | N30: =L30/H30 -> 0 | O30: =I30+L30 -> 5973 | P30: =J30+M30 -> 5291.6276 | Q30: =K30+N30 -> 1
A31: 1.2 | B31: Carga de material de 1ª categoria | C31: m³ | D31: 3970.39 | E31: 4.6047503 | H31: =D31+F31-G31 -> 3970.39 | I31: 3970.39 | J31: =I31*E31 -> 18282.655 | K31: =I31/H31 -> 1 | M31: =L31*E31 -> 0 | N31: =L31/H31 -> 0 | O31: =I31+L31 -> 3970.39 | P31: =J31+M31 -> 18282.655 | Q31: =K31+N31 -> 1
A32: 1.3 | B32: Compactação de aterros 100% PN | C32: m³ | D32: 730.45 | E32: 7.3655563 | H32: =D32+F32-G32 -> 730.45 | I32: 730.45 | J32: =I32*E32 -> 5380.1706 | K32: =I32/H32 -> 1 | M32: =L32*E32 -> 0 | N32: =L32/H32 -> 0 | O32: =I32+L32 -> 730.45 | P32: =J32+M32 -> 5380.1706 | Q32: =K32+N32 -> 1
A33: 1.4 | B33: Destocamento de árvores com diâmetro de 15 a 30 cm, com trator de esteira | C33: UND | D33: 199 | E33: 20.438072 | H33: =D33+F33-G33 -> 199 | I33: 199 | J33: =I33*E33 -> 4067.1764 | K33: =I33/H33 -> 1 | M33: =L33*E33 -> 0 | N33: =L33/H33 -> 0 | O33: =I33+L33 -> 199 | P33: =J33+M33 -> 4067.1764 | Q33: =K33+N33 -> 1
A34: 1.5 | B34: Escavação e carga de material de 1ª categoria, com trator de esteira e pá carregadeira | C34: m³ | D34: 6304.61 | E34: 12.567764 | F34: 1332 | H34: =D34+F34-G34 -> 7636.61 | I34: 7636.61 | J34: =I34*E34 -> 95975.114 | K34: =I34/H34 -> 1 | M34: =L34*E34 -> 0 | N34: =L34/H34 -> 0 | O34: =I34+L34 -> 7636.61 | P34: =J34+M34 -> 95975.114 | Q34: =K34+N34 -> 1
A35: 1.6 | B35: Espalhamento / regularização / compactação de material em bota-fora | C35: m³ | D35: 4764.47 | E35: 3.657016 | H35: =D35+F35-G35 -> 4764.47 | I35: 4764.47 | J35: =I35*E35 -> 17423.743 | K35: =I35/H35 -> 1 | M35: =L35*E35 -> 0 | N35: =L35/H35 -> 0 | O35: =I35+L35 -> 4764.47 | P35: =J35+M35 -> 17423.743 | Q35: =K35+N35 -> 1
A36: 1.7 | B36: Reaterro de cavas c/ compactação manual (apiloamento) | C36: m³ | D36: 587.82 | E36: 85.811015 | H36: =D36+F36-G36 -> 587.82 | I36: 587.82 | J36: =I36*E36 -> 50441.431 | K36: =I36/H36 -> 1 | M36: =L36*E36 -> 0 | N36: =L36/H36 -> 0 | O36: =I36+L36 -> 587.82 | P36: =J36+M36 -> 50441.431 | Q36: =K36+N36 -> 1
A37: 1.8 | B37: Colchão drenante de brita 2 inclusive fornecimento, espalhamento, compactação e transporte | C37: m³ | D37: 35.272064 | E37: 129.68751 | H37: =D37+F37-G37 -> 35.272064 | I37: 35.272064 | J37: =I37*E37 -> 4574.346 | K37: =I37/H37 -> 1 | M37: =L37*E37 -> 0 | N37: =L37/H37 -> 0 | O37: =I37+L37 -> 35.272064 | P37: =J37+M37 -> 4574.346 | Q37: =K37+N37 -> 1
A38: 1.9 | B38: Manta Geotêxtil não tecida com resistência longitudinal a tração 10kN/m, fornecimento e aplicação | C38: m² | D38: 15 | E38: 12.990223 | H38: =D38+F38-G38 -> 15 | I38: 15 | J38: =I38*E38 -> 194.85335 | K38: =I38/H38 -> 1 | M38: =L38*E38 -> 0 | N38: =L38/H38 -> 0 | O38: =I38+L38 -> 15 | P38: =J38+M38 -> 194.85335 | Q38: =K38+N38 -> 1
A39: 1.10 | B39: Dreno de PVC D = 50 mm | C39: m | D39: 170 | E39: 43.492684 | H39: =D39+F39-G39 -> 170 | I39: 170 | J39: =I39*E39 -> 7393.7563 | K39: =I39/H39 -> 1 | M39: =L39*E39 -> 0 | N39: =L39/H39 -> 0 | O39: =I39+L39 -> 170 | P39: =J39+M39 -> 7393.7563 | Q39: =K39+N39 -> 1
A40: 1.11 | B40: Formas planas de madeira sem reaproveitamento (fundações), inclusive fornecimento e transporte das madeiras e aplicação | C40: m² | D40: 646.67 | E40: 248.49065 | H40: =D40+F40-G40 -> 646.67 | I40: 646.67 | J40: =I40*E40 -> 160691.45 | K40: =I40/H40 -> 1 | M40: =L40*E40 -> 0 | N40: =L40/H40 -> 0 | O40: =I40+L40 -> 646.67 | P40: =J40+M40 -> 160691.45 | Q40: =K40+N40 -> 1
A41: 1.12 | B41: Concreto ciclópico com 70% concreto 15,0 MPa e 30% de pedra de mão, tudo incluído | C41: m³ | D41: 517.33 | E41: 559.06409 | H41: =D41+F41-G41 -> 517.33 | I41: 517.33 | J41: =I41*E41 -> 289220.63 | K41: =I41/H41 -> 1 | M41: =L41*E41 -> 0 | N41: =L41/H41 -> 0 | O41: =I41+L41 -> 517.33 | P41: =J41+M41 -> 289220.63 | Q41: =K41+N41 -> 1
A42: 1.13 | B42: Andaime de madeira para altura até 7 m, compreendendo montagem e desmontagem | C42: m³ | D42: 423.27 | E42: 39.506358 | H42: =D42+F42-G42 -> 423.27 | I42: 423.27 | J42: =I42*E42 -> 16721.856 | K42: =I42/H42 -> 1 | M42: =L42*E42 -> 0 | N42: =L42/H42 -> 0 | O42: =I42+L42 -> 423.27 | P42: =J42+M42 -> 16721.856 | Q42: =K42+N42 -> 1
A43: 1.14 | B43: Plataforma ou passarela de pinho de 1ª ou similar, 1" x 12" | C43: m² | D43: 352.73 | E43: 5.2640171 | H43: =D43+F43-G43 -> 352.73 | I43: 352.73 | J43: =I43*E43 -> 1856.7767 | K43: =I43/H43 -> 1 | M43: =L43*E43 -> 0 | N43: =L43/H43 -> 0 | O43: =I43+L43 -> 352.73 | P43: =J43+M43 -> 1856.7767 | Q43: =K43+N43 -> 1
A44: 1.15 | B44: Transporte de materiais para DMT acima de 15 km (Caminhão basculante) | C44: t | D44: 7848.321 | E44: 27.002126 | F44: 2131.2 | H44: =D44+F44-G44 -> 9979.521 | I44: 9979.52 | J44: =I44*E44 -> 269468.26 | K44: =I44/H44 -> 0.9999999 | L44: 0.001 | M44: =L44*E44 -> 0.027002126 | N44: =L44/H44 -> 1.0020521e-07 | O44: =I44+L44 -> 9979.521 | P44: =J44+M44 -> 269468.29 | Q44: =K44+N44 -> 1 | R44: =L44/1.6 -> 0.000625
A45: 1.16 | B45: Mobilização e desmobilização de equipamentos com carreta prancha (máximo) | C45: h | D45: 46.8 | E45: 617.73634 | H45: =D45+F45-G45 -> 46.8 | I45: 46.8 | J45: =I45*E45 -> 28910.061 | K45: =I45/H45 -> 1 | M45: =L45*E45 -> 0 | N45: =L45/H45 -> 0 | O45: =I45+L45 -> 46.8 | P45: =J45+M45 -> 28910.061 | Q45: =K45+N45 -> 1
A46: 2 | B46: CORTINA ATIRANTADA | M46: =SUM(M47:M69) -> 0 | P46: =SUM(P47:P69) -> 622330.16
A47: 2.1 | B47: Capina manual, inclusive limpeza | C47: m² | D47: 126 | E47: 0.88588889 | H47: =D47+F47-G47 -> 126 | I47: 126 | J47: =I47*E47 -> 111.622 | K47: =I47/H47 -> 1 | M47: =L47*E47 -> 0 | N47: =L47/H47 -> 0 | O47: =I47+L47 -> 126 | P47: =J47+M47 -> 111.622 | Q47: =K47+N47 -> 1
A48: 2.2 | B48: Compactação de aterros 100% PN | C48: m³ | D48: 319.8 | E48: 7.3655366 | H48: =D48+F48-G48 -> 319.8 | I48: 319.8 | J48: =I48*E48 -> 2355.4986 | K48: =I48/H48 -> 1 | M48: =L48*E48 -> 0 | N48: =L48/H48 -> 0 | O48: =I48+L48 -> 319.8 | P48: =J48+M48 -> 2355.4986 | Q48: =K48+N48 -> 1
A49: 2.3 | B49: Reaterro com areia, tudo incluído | C49: m³ | D49: 319.8 | E49: 72.862111 | H49: =D49+F49-G49 -> 319.8 | I49: 319.8 | J49: =I49*E49 -> 23301.303 | K49: =I49/H49 -> 1 | M49: =L49*E49 -> 0 | N49: =L49/H49 -> 0 | O49: =I49+L49 -> 319.8 | P49: =J49+M49 -> 23301.303 | Q49: =K49+N49 -> 1
A50: 2.4 | B50: Destocamento de árvores com diâmetro de 15 a 30 cm, com trator de esteira | C50: UND | D50: 30 | E50: 20.438223 | H50: =D50+F50-G50 -> 30 | I50: 30 | J50: =I50*E50 -> 613.1467 | K50: =I50/H50 -> 1 | M50: =L50*E50 -> 0 | N50: =L50/H50 -> 0 | O50: =I50+L50 -> 30 | P50: =J50+M50 -> 613.1467 | Q50: =K50+N50 -> 1
A51: 2.5 | B51: Escavação e carga de material de 1ª categoria, com trator de esteira e pá carregadeira | C51: m³ | D51: 319.8 | E51: 12.567739 | H51: =D51+F51-G51 -> 319.8 | I51: 319.8 | J51: =I51*E51 -> 4019.1628 | K51: =I51/H51 -> 1 | M51: =L51*E51 -> 0 | N51: =L51/H51 -> 0 | O51: =I51+L51 -> 319.8 | P51: =J51+M51 -> 4019.1628 | Q51: =K51+N51 -> 1
A52: 2.6 | B52: Espalhamento / regularização / compactação de material em bota-fora | C52: m³ | D52: 223.86 | E52: 3.6570297 | H52: =D52+F52-G52 -> 223.86 | I52: 223.86 | J52: =I52*E52 -> 818.66268 | K52: =I52/H52 -> 1 | M52: =L52*E52 -> 0 | N52: =L52/H52 -> 0 | O52: =I52+L52 -> 223.86 | P52: =J52+M52 -> 818.66268 | Q52: =K52+N52 -> 1
A53: 2.7 | B53: Reaterro de cavas c/ compactação manual (apiloamento) | C53: m³ | D53: 12.96 | E53: 85.81125 | H53: =D53+F53-G53 -> 12.96 | I53: 12.96 | J53: =I53*E53 -> 1112.1138 | K53: =I53/H53 -> 1 | M53: =L53*E53 -> 0 | N53: =L53/H53 -> 0 | O53: =I53+L53 -> 12.96 | P53: =J53+M53 -> 1112.1138 | Q53: =K53+N53 -> 1
A54: 2.8 | B54: Colchão drenante de brita 2 inclusive fornecimento, espalhamento, compactação e transporte | C54: m³ | D54: 20.16 | E54: 129.68467 | H54: =D54+F54-G54 -> 20.16 | I54: 20.16 | J54: =I54*E54 -> 2614.443 | K54: =I54/H54 -> 1 | M54: =L54*E54 -> 0 | N54: =L54/H54 -> 0 | O54: =I54+L54 -> 20.16 | P54: =J54+M54 -> 2614.443 | Q54: =K54+N54 -> 1
A55: 2.9 | B55: Manta Geotêxtil não tecida com resistência longitudinal a tração 10kN/m, fornecimento e aplicação | C55: m² | D55: 3.9 | E55: 12.991282 | H55: =D55+F55-G55 -> 3.9 | I55: 3.9 | J55: =I55*E55 -> 50.665999 | K55: =I55/H55 -> 1 | M55: =L55*E55 -> 0 | N55: =L55/H55 -> 0 | O55: =I55+L55 -> 3.9 | P55: =J55+M55 -> 50.665999 | Q55: =K55+N55 -> 1
A56: 2.10 | B56: Dreno de PVC D = 50 mm | C56: m | D56: 6.24 | E56: 43.492214 | H56: =D56+F56-G56 -> 6.24 | I56: 6.24 | J56: =I56*E56 -> 271.39141 | K56: =I56/H56 -> 1 | M56: =L56*E56 -> 0 | N56: =L56/H56 -> 0 | O56: =I56+L56 -> 6.24 | P56: =J56+M56 -> 271.39141 | Q56: =K56+N56 -> 1
A57: 2.11 | B57: Andaime de madeira para altura até 7 m, compreendendo montagem e desmontagem | C57: m³ | D57: 172.8 | E57: 39.506025 | H57: =D57+F57-G57 -> 172.8 | I57: 172.8 | J57: =I57*E57 -> 6826.6411 | K57: =I57/H57 -> 1 | M57: =L57*E57 -> 0 | N57: =L57/H57 -> 0 | O57: =I57+L57 -> 172.8 | P57: =J57+M57 -> 6826.6411 | Q57: =K57+N57 -> 1
A58: 2.12 | B58: Plataforma ou passarela de pinho de 1ª ou similar, 1" x 12" | C58: m² | D58: 43.2 | E58: 5.2640974 | H58: =D58+F58-G58 -> 43.2 | I58: 43.2 | J58: =I58*E58 -> 227.40901 | K58: =I58/H58 -> 1 | M58: =L58*E58 -> 0 | N58: =L58/H58 -> 0 | O58: =I58+L58 -> 43.2 | P58: =J58+M58 -> 227.40901 | Q58: =K58+N58 -> 1
... A66: 2.20 | B66: Concreto estrutural fck = 30,0 MPa com plastificante em Vias Urbanas | C66: m³ | D66: 36.3 | E66: 890.66291 | H66: =D66+F66-G66 -> 36.3 | I66: 36.3 | J66: =I66*E66 -> 32331.063 | K66: =I66/H66 -> 1 | M66: =L66*E66 -> 0 | N66: =L66/H66 -> 0 | O66: =I66+L66 -> 36.3 | P66: =J66+M66 -> 32331.063 | Q66: =K66+N66 -> 1
...

Sheet MEMO CALCULO 18ª MEDIÇÃO
B2: PREFEITURA MUNICIPAL DE SÃO ROQUE DO CANAÃ
B8: MEMÓRIA DE CÁLCULO 18ª MEDIÇÃO
B9: OBRA: CONSTRUÇÃO DE MURO DE CONTENÇÃO E ESTABILIZAÇÃO DE TALUDES EM ÁREA DE RISCO | D9: DATA: 06/03/2025
B10: LOCAL: RUA ANTÔNIO GIL VELOSO, CENTRO, SÃO ROQUE DO CANAÃ
B11: ITEM | C11: DESCRIÇÃO | D11: UND | E11: QUANT.
B12: 1 | C12: =VLOOKUP(B12,'MEDIÇÃO 18'!$A$29:$C$134,2,0) -> MURO DE CONTENÇÃO
B13: 1.15 | C13: =VLOOKUP(B13,'MEDIÇÃO 18'!$A$29:$C$134,2,0) -> Transporte de materiais para DMT acima de 15 km (Caminhão basculante) | D13: =VLOOKUP(B13,'MEDIÇÃO 18'!$A$29:$C$131,3,0) -> t | E13: =SUM(D14) -> 0.001
B14: 0,001 m³ | D14: 0.001
B16: 3 | C16: =VLOOKUP(B16,'MEDIÇÃO 18'!$A$29:$C$134,2,0) -> SOLO GRAMPEADO
B17: 3.4 | C17: =VLOOKUP(B17,'MEDIÇÃO 18'!$A$29:$C$134,2,0) -> Concreto projetado com cimento especial, inclusive aditivo de pega Sigunit STM-35 AF | D17: =VLOOKUP(B17,'MEDIÇÃO 18'!$A$29:$C$131,3,0) -> m³ | E17: =SUM(D18) -> 103.08
B18: 103,08 m³ | D18: 103.08
B19: 3.5 | C19: =VLOOKUP(B19,'MEDIÇÃO 18'!$A$29:$C$134,2,0) -> Manta Geotêxtil não tecida com resistência longitudinal a tração 10kN/m, fornecimento e aplicação | D19: =VLOOKUP(B19,'MEDIÇÃO 18'!$A$29:$C$131,3,0) -> m² | E19: =SUM(D20) -> 43.25
B20: Drenos: 173,00 und x 0,50 m (comprimento) x 0,50 m (altura) = 43,25 m² | D20: 43.25
B21: 3.6 | C21: =VLOOKUP(B21,'MEDIÇÃO 18'!$A$29:$C$134,2,0) -> Dreno de PVC D = 50 mm | D21: =VLOOKUP(B21,'MEDIÇÃO 18'!$A$29:$C$131,3,0) -> m | E21: =SUM(D22) -> 173
B22: Drenagem solo grampeado: 173,00 und x 1,00 m (comprimento) = 173,00 m | D22: 173
B23: 3.7 | C23: =VLOOKUP(B23,'MEDIÇÃO 18'!$A$29:$C$134,2,0) -> Colchão drenante de brita 2 inclusive fornecimento, espalhamento, compactação e transporte | D23: =VLOOKUP(B23,'MEDIÇÃO 18'!$A$29:$C$131,3,0) -> m³ | E23: =SUM(D24) -> 21.63
B24: Bolsa de dreno do solo grampeado: 173,00 und x 0,50 m (comprimento) x 0,50 m (largura) x 0,50 m (espessura) = 21,63 m³ | D24: 21.63
B25: 3.8 | C25: =VLOOKUP(B25,'MEDIÇÃO 18'!$A$29:$C$134,2,0) -> Grampo de aço CA-50 D = 12,5 mm para solo grampeado com capacidade de 30 kN - fornecimento, perfuração e instalação | D25: =VLOOKUP(B25,'MEDIÇÃO 18'!$A$29:$C$131,3,0) -> m | E25: =SUM(D26) -> 864
B26: Solo grampeado: 108,00 und x 8,00 m (comprimento) = 864,00 m | D26: 864
B27: 3.10 | C27: =VLOOKUP(B27,'MEDIÇÃO 18'!$A$29:$C$134,2,0) -> Tela de aço soldada Telcon Q-196 ou similar, fornecimento e assentamento. | D27: =VLOOKUP(B27,'MEDIÇÃO 18'!$A$29:$C$131,3,0) -> m² | E27: =SUM(D28) -> 993.15
B28: 763,96 m x 1,30 m = 993,15 m² | D28: 993.15
H29: 349502.15 | I29: 341304.98
B30: 4 | C30: =VLOOKUP(B30,'MEDIÇÃO 18'!$A$29:$C$134,2,0) -> DRENAGEM
B31: 4.6 | C31: =VLOOKUP(B31,'MEDIÇÃO 18'!$A$29:$C$134,2,0) -> Descida d'água concreto armado DP-1 (degraus) c/ caiação | D31: =VLOOKUP(B31,'MEDIÇÃO 18'!$A$29:$C$131,3,0) -> m | E31: =SUM(D32:D32) -> 8.5
B32: Drenagem talude: 8,50 m | D32: 8.5
B34: 5 | C34: =VLOOKUP(B34,'MEDIÇÃO 18'!$A$29:$C$134,2,0) -> SINALIZAÇÃO
B35: 5.5 | C35: =VLOOKUP(B35,'MEDIÇÃO 18'!$A$29:$C$134,2,0) -> Sinalização vertical com chapa revestida em película, inclusive suporte em madeira | D35: =VLOOKUP(B35,'MEDIÇÃO 18'!$A$29:$C$131,3,0) -> m² | E35: =SUM(D36:D36) -> 5
B36: Placa: 2,50 m x 2,00 m = 5,00 m² | D36: 5
B39: 7. | C39: =VLOOKUP(B39,'MEDIÇÃO 18'!$A$29:$C$134,2,0) -> PAVIMENTAÇÃO
B40: 7.1 | C40: =VLOOKUP(B40,'MEDIÇÃO 18'!$A$29:$C$134,2,0) -> Regularização e compactação do sub-leito (100% P.I.) H = 0,20 m | D40: =VLOOKUP(B40,'MEDIÇÃO 18'!$A$29:$C$131,3,0) -> m² | E40: =SUM(D41:D41) -> 450.01
B41: Asfalto: 1.500,03 m² (área) x 0,30 (fator) = 450,01 m² | D41: 450.01
B42: 7.2 | C42: =VLOOKUP(B42,'MEDIÇÃO 18'!$A$29:$C$134,2,0) -> Imprimação exclusive fornecimento e transporte comercial do material betuminoso | D42: =VLOOKUP(B42,'MEDIÇÃO 18'!$A$29:$C$131,3,0) -> m² | E42: =SUM(D43:D43) -> 450.01
B43: Asfalto: 409,10 m² (área) x 1,10 (fator) = 450,01 m² | D43: 450.01
B44: 7.5 | C44: =VLOOKUP(B44,'MEDIÇÃO 18'!$A$29:$C$134,2,0) -> CBUQ (massa asfáltica) inclusive fornecimento e transporte comercial do CAP (Usinagem) | D44: =VLOOKUP(B44,'MEDIÇÃO 18'!$A$29:$C$131,3,0) -> t | E44: =SUM(D45:D45) -> 75.28
B45: Asfalto: 409,10 m² (área) x 0,08 m (espessura) x 2,30 (fator) = 75,28 m² | D45: 75.28
B46: 7.6 | C46: =VLOOKUP(B46,'MEDIÇÃO 18'!$A$29:$C$134,2,0) -> TR-301-00 (Massa Asfáltica) 1,082XP + 1,123XR + 8,324, XP=79,4 e XR=40,3 [CBUQ] | D46: =VLOOKUP(B46,'MEDIÇÃO 18'!$A$29:$C$131,3,0) -> t | E46: =SUM(D47:D47) -> 184.42
B47: Asfalto: 75,28 m² (área) x 2,45 (fator) = 184,42 m² | D47: 184.42
B49: 8 | C49: =VLOOKUP(B49,'MEDIÇÃO 18'!$A$29:$C$134,2,0) -> MATERIAL BETUMINOSOS
B50: 8.1 | C50: =VLOOKUP(B50,'MEDIÇÃO 18'!$A$29:$C$134,2,0) -> CM-30, fornecimento | D50: =VLOOKUP(B50,'MEDIÇÃO 18'!$A$29:$C$131,3,0) -> t | E50: =SUM(D51:D51) -> 3.85
B51: Asfalto: 409,10 m² (área) x 0,01 m (espessura) x 0,94 (fator) = 3,85 toneladas | D51: 3.85
...
