Workbook

Sheet MEDIÇÃO 5
A1: PREFEITURA MUNICIPAL DE SO ROQUE DO CANA Estado do Esprito Santo SECRETARIA MUNICIPAL DE OBRAS E SERVIÇOS URBANOS – SETOR DE ENGENHARIA
A12: BOLETIM DE MEDIÇÃO 05 | K12: DATA: 16/10/2024
A14: OBRA: REFORMA UNIDADE BÁSICA DE SAÚDE “ETHEVALDO FRANCISCO ROLDI” (UBS SEDE) | D14: CONTRATO Nº: | F14: 056/2024 | H14: Assinatura: 08/05/2024 | K14: INÍCIO: | M14: 45426
K15: TÉRMINO: | M15: 45635
A16: LOCAL: RUA OLÍVIO PERINI, Nº 107, BAIRRO CINCO CASINHAS, SÃO ROQUE DO CANAÃ/ES | D16: PERÍODO: | F16: 45545 | H16: a | I16: 45575 | K16: PRAZO: | M16: 120 dias + 90 dias
A17: EMPREITEIRA: FABIO JULIO ENGENHARIA LTDA | F17: =I18 -> MEDIÇÃO 05 | I17: =L114 -> 21765.315 | K17: % MÊS: | L17: =H114 -> 0.055943337 | M17: % ACUM: | N17: =H115 -> 0.70960629
A18: ITEM | B18: ESPECIFICAÇÃO | C18: UNID. | D18: QUANT. | E18: PREÇO UNIT R$ | F18: ACUMULADO ANTERIOR | I18: MEDIÇÃO 05 | L18: TOTAL MEDIDO
F19: QUANT. | G19: TOTAL | H19: % | I19: QUANT. | J19: TOTAL | K19: % | L19: QUANT. | M19: TOTAL | N19: %
A20: 1 | B20: INSTALAÇÃO DO CANTEIRO DE OBRAS | J20: =SUM(J21:J22) -> 0 | M20: =SUM(M21:M22) -> 11375.726
A21: 1.1 | B21: Placa de obra nas dimensões de 2.0 x 4.0 m, padrão DER | C21: m2 | D21: 8 | E21: 403.48363 | F21: 8 | G21: =F21*E21 -> 3227.869 | H21: =F21/D21 -> 1 | J21: =I21*E21 -> 0 | K21: =I21/D21 -> 0 | L21: =F21+I21 -> 8 | M21: =G21+J21 -> 3227.869 | N21: =H21+K21 -> 1
A22: 1.2 | B22: Barracão para almoxarifado área de 10.90m2, de chapa de compensado de 12mm e pontalete 8x8cm, piso cimentado e cobertura de telhas de fibrocimento de 6mm, incl. ponto de luz, conf. projeto (1 utilização) | C22: m2 | D22: 10.9 | E22: 747.50985 | F22: 10.9 | G22: =F22*E22 -> 8147.8574 | H22: =F22/D22 -> 1 | J22: =I22*E22 -> 0 | K22: =I22/D22 -> 0 | L22: =F22+I22 -> 10.9 | M22: =G22+J22 -> 8147.8574 | N22: =H22+K22 -> 1
A23: 2 | B23: SERVIÇOS PRELIMINARES | J23: =SUM(J24:J40) -> 1378.1931 | M23: =SUM(M24:M40) -> 16080.507
A24: 2.1 | B24: Demolição de alvenaria | C24: m3 | D24: 18.91 | E24: 70.267834 | F24: 18.91 | G24: =F24*E24 -> 1328.7647 | H24: =F24/D24 -> 1 | J24: =I24*E24 -> 0 | K24: =I24/D24 -> 0 | L24: =F24+I24 -> 18.91 | M24: =G24+J24 -> 1328.7647 | N24: =H24+K24 -> 1
A25: 2.2 | B25: Lixamento de parede com pintura antiga PVA para recebimento de nova camada de tinta | C25: m2 | D25: 463.58 | E25: 4.414669 | F25: 463.58 | G25: =F25*E25 -> 2046.5523 | H25: =F25/D25 -> 1 | J25: =I25*E25 -> 0 | K25: =I25/D25 -> 0 | L25: =F25+I25 -> 463.58 | M25: =G25+J25 -> 2046.5523 | N25: =H25+K25 -> 1
A26: 2.3 | B26: Retirada de bancada de pia | C26: m2 | D26: 8.88 | E26: 29.068333 | F26: 8.88 | G26: =F26*E26 -> 258.1268 | H26: =F26/D26 -> 1 | J26: =I26*E26 -> 0 | K26: =I26/D26 -> 0 | L26: =F26+I26 -> 8.88 | M26: =G26+J26 -> 258.1268 | N26: =H26+K26 -> 1
A27: 2.4 | B27: Retirada de portas e janelas de madeira, inclusive batentes | C27: m2 | D27: 15.96 | E27: 18.734828 | F27: 15.96 | G27: =F27*E27 -> 299.00785 | H27: =F27/D27 -> 1 | J27: =I27*E27 -> 0 | K27: =I27/D27 -> 0 | L27: =F27+I27 -> 15.96 | M27: =G27+J27 -> 299.00785 | N27: =H27+K27 -> 1
A28: 2.5 | B28: Retirada de revestimento antigo em reboco | C28: m2 | D28: 63.43 | E28: 11.715382 | F28: 63.43 | G28: =F28*E28 -> 743.10668 | H28: =F28/D28 -> 1 | J28: =I28*E28 -> 0 | K28: =I28/D28 -> 0 | L28: =F28+I28 -> 63.43 | M28: =G28+J28 -> 743.10668 | N28: =H28+K28 -> 1
B29: Retirada de rodapé de madeira ou cerâmica | C29: m | D29: 252.38 | E29: 2.727067 | F29: 171 | G29: =F29*E29 -> 466.32846 | H29: =F29/D29 -> 0.67754973 | I29: 49.53 | J29: =I29*E29 -> 135.07163 | K29: =I29/D29 -> 0.19625168 | L29: =F29+I29 -> 220.53 | M29: =G29+J29 -> 601.40009 | N29: =H29+K29 -> 0.87380141
A30: 2.6 | B30: Retirada de esquadrias metálicas | C30: m2 | D30: 7.8 | E30: 11.715382 | F30: 7.8 | G30: =F30*E30 -> 91.37998 | H30: =F30/D30 -> 1 | J30: =I30*E30 -> 0 | K30: =I30/D30 -> 0 | L30: =F30+I30 -> 7.8 | M30: =G30+J30 -> 91.37998 | N30: =H30+K30 -> 1
A31: 2.7 | B31: Retirada de torneiras e registros | C31: und | D31: 1 | E31: 12.815992 | F31: 1 | G31: =F31*E31 -> 12.815992 | H31: =F31/D31 -> 1 | J31: =I31*E31 -> 0 | K31: =I31/D31 -> 0 | L31: =F31+I31 -> 1 | M31: =G31+J31 -> 12.815992 | N31: =H31+K31 -> 1
A32: 2.8 | B32: Retirada de caixas/quadros elétricos | C32: und | D32: 2 | E32: 17.401867 | F32: 2 | G32: =F32*E32 -> 34.803734 | H32: =F32/D32 -> 1 | J32: =I32*E32 -> 0 | K32: =I32/D32 -> 0 | L32: =F32+I32 -> 2 | M32: =G32+J32 -> 34.803734 | N32: =H32+K32 -> 1
A33: 2.9 | B33: Retirada de pontos elétricos (luminárias, interruptores e tomadas) | C33: und | D33: 1 | E33: 12.815992 | F33: 1 | G33: =F33*E33 -> 12.815992 | H33: =F33/D33 -> 1 | J33: =I33*E33 -> 0 | K33: =I33/D33 -> 0 | L33: =F33+I33 -> 1 | M33: =G33+J33 -> 12.815992 | N33: =H33+K33 -> 1
A34: 2.10 | B34: Demolição de piso granilite | C34: m2 | D34: 319.3 | E34: 32.516911 | F34: 210 | G34: =F34*E34 -> 6828.5513 | H34: =F34/D34 -> 0.65768869 | I34: 38.23 | J34: =I34*E34 -> 1243.1215 | K34: =I34/D34 -> 0.11973066 | L34: =F34+I34 -> 248.23 | M34: =G34+J34 -> 8071.6728 | N34: =H34+K34 -> 0.77741935
A35: 2.11 | B35: Abertura e fechamento de rasgos em alvenaria, para passagem de tubulações, diâm. 11/4" a 2" | C35: m | D35: 7.6 | E35: 22.427986 | F35: 7.6 | G35: =F35*E35 -> 170.45269 | H35: =F35/D35 -> 1 | J35: =I35*E35 -> 0 | K35: =I35/D35 -> 0 | L35: =F35+I35 -> 7.6 | M35: =G35+J35 -> 170.45269 | N35: =H35+K35 -> 1
A36: 2.12 | B36: Apicoamento de superfície com revestimento em argamassa | C36: m2 | D36: 36.85 | E36: 11.715382 | F36: 36.85 | G36: =F36*E36 -> 431.71183 | H36: =F36/D36 -> 1 | J36: =I36*E36 -> 0 | K36: =I36/D36 -> 0 | L36: =F36+I36 -> 36.85 | M36: =G36+J36 -> 431.71183 | N36: =H36+K36 -> 1
A37: 2.13 | B37: Remoção de vidro temperado fixado em perfil u. | C37: m2 | D37: 5.52 | E37: 15.462348 | F37: 5.52 | G37: =F37*E37 -> 85.352159 | H37: =F37/D37 -> 1 | J37: =I37*E37 -> 0 | K37: =I37/D37 -> 0 | L37: =F37+I37 -> 5.52 | M37: =G37+J37 -> 85.352159 | N37: =H37+K37 -> 1
A38: 2.14 | B38: Remoção de telhas, de fibrocimento, metálica e cerâmica, de forma manual, sem reaproveitamento | C38: m2 | D38: 182.62 | E38: 3.3727582 | F38: 182.62 | G38: =F38*E38 -> 615.9331 | H38: =F38/D38 -> 1 | J38: =I38*E38 -> 0 | K38: =I38/D38 -> 0 | L38: =F38+I38 -> 182.62 | M38: =G38+J38 -> 615.9331 | N38: =H38+K38 -> 1
A39: 2.15 | B39: Lixamento de madeira para aplicação de fundo ou pintura | C39: m2 | D39: 73.07 | E39: 2.274594 | F39: 73.07 | G39: =F39*E39 -> 166.20458 | H39: =F39/D39 -> 1 | J39: =I39*E39 -> 0 | K39: =I39/D39 -> 0 | L39: =F39+I39 -> 73.07 | M39: =G39+J39 -> 166.20458 | N39: =H39+K39 -> 1
A40: 2.16 | B40: Remoção de forro de gesso, de forma manual, sem reaproveitamento | C40: m2 | D40: 369.11 | E40: 3.008334 | F40: 369.11 | G40: =F40*E40 -> 1110.4062 | H40: =F40/D40 -> 1 | J40: =I40*E40 -> 0 | K40: =I40/D40 -> 0 | L40: =F40+I40 -> 369.11 | M40: =G40+J40 -> 1110.4062 | N40: =H40+K40 -> 1
A41: 3 | B41: PAREDES E PAINÉIS | J41: =SUM(J42:J44) -> 1362.6854 | M41: =SUM(M42:M44) -> 8690.2647
A42: 3.1 | B42: Alvenaria de blocos cerâmicos 10 furos 10x20x20cm, assentados c/argamassa de cimento, cal hidratada CH1 e areia traço 1:0,5:8, esp. das juntas 12mm e esp. das paredes s/revestimento, 10cm (bloco comprado na fábrica, posto obra) | C42: m2 | D42: 46.94 | E42: 80.258927 | F42: 46.94 | G42: =F42*E42 -> 3767.354 | H42: =F42/D42 -> 1 | J42: =I42*E42 -> 0 | K42: =I42/D42 -> 0 | L42: =F42+I42 -> 46.94 | M42: =G42+J42 -> 3767.354 | N42: =H42+K42 -> 1
A43: 3.2 | B43: Verga/contraverga reta de concreto armado 10 x 5 cm, Fck = 15 MPa, inclusive forma, armação e desforma | C43: m | D43: 7.6 | E43: 11.409657 | F43: 7.6 | G43: =F43*E43 -> 86.713393 | H43: =F43/D43 -> 1 | J43: =I43*E43 -> 0 | K43: =I43/D43 -> 0 | L43: =F43+I43 -> 7.6 | M43: =G43+J43 -> 86.713393 | N43: =H43+K43 -> 1
A44: 3.3 | B44: Parede com placas de gesso acartonado (DRYWALL), para uso interno, com duas faces simples e estrutura metálica com guias duplas, com vãos. | C44: m2 | D44: 28.05 | E44: 190.8523 | F44: 18.2 | G44: =F44*E44 -> 3473.5118 | H44: =F44/D44 -> 0.64884135 | I44: 7.14 | J44: =I44*E44 -> 1362.6854 | K44: =I44/D44 -> 0.25454545 | L44: =F44+I44 -> 25.34 | M44: =G44+J44 -> 4836.1972 | N44: =H44+K44 -> 0.90338681
A45: 4 | B45: ESQUADRIAS DE MADEIRA | J45: =SUM(J46:J49) -> 489.58801 | M45: =SUM(M46:M49) -> 16013.593
A46: 4.1 | B46: Marco de madeira de lei de 1ª (Peroba, Ipê, Angelim Pedra ou equivalente) com 15x3 cm de batente, nas dimensões de 0.80 x 2.10 m | C46: und | D46: 5 | E46: 489.58801 | F46: 4 | G46: =F46*E46 -> 1958.3521 | H46: =F46/D46 -> 0.8 | I46: 1 | J46: =I46*E46 -> 489.58801 | K46: =I46/D46 -> 0.2 | L46: =F46+I46 -> 5 | M46: =G46+J46 -> 2447.9401 | N46: =H46+K46 -> 1
A47: 4.2 | B47: Recolocação de porta em madeira de lei tipo angelim pedra ou equiv.c/enchimento em madeira 1a.qualidade esp. 30mm p/ pintura, inclusive alizares, dobradiças e fechadura externa em latão cromado LaFonte ou equiv., exclusive marco e porta, nas dim.: 0.80 x 2.10 m | C47: und. | D47: 5 | E47: 1108.7313 | F47: 5 | G47: =F47*E47 -> 5543.6564 | H47: =F47/D47 -> 1 | J47: =I47*E47 -> 0 | K47: =I47/D47 -> 0 | L47: =F47+I47 -> 5 | M47: =G47+J47 -> 5543.6564 | N47: =H47+K47 -> 1
A48: 4.3 | B48: Porta radiológica em mad/mad de lei, p/pintura, dim: 0,92x2,12m, laminado de chumbo embutido, e=2mm, dobradiças reforçadas, fechadura autoblocante, marca Arouca, ref.: 108449/40-Z-ZCE ou similar, maçaneta tipo alavanca, inclusive batentes de madeira. | C48: und. | D48: 1 | E48: 7560.2542 | F48: 1 | G48: =F48*E48 -> 7560.2542 | H48: =F48/D48 -> 1 | J48: =I48*E48 -> 0 | K48: =I48/D48 -> 0 | L48: =F48+I48 -> 1 | M48: =G48+J48 -> 7560.2542 | N48: =H48+K48 -> 1
A49: 4.4 | B49: Recolocação de Porta de madeira compensada lisa para pintura, 120x210x3,5cm, 2 folhas , incluso aduela 2a, alizar 2a e dobradiças, exclusive porta. | C49: und. | D49: 1 | E49: 461.74258 | F49: 1 | G49: =F49*E49 -> 461.74258 | H49: =F49/D49 -> 1 | J49: =I49*E49 -> 0 | K49: =I49/D49 -> 0 | L49: =F49+I49 -> 1 | M49: =G49+J49 -> 461.74258 | N49: =H49+K49 -> 1
A50: 5 | B50: VIDROS | J50: =SUM(J51:J51) -> 0 | M50: =SUM(M51:M51) -> 708.11184
A51: 5.1 | B51: Instalação de vidro temperado, e = 10 mm, encaixado em perfil u | C51: m2 | D51: 5.52 | E51: 566.48947 | F51: 1.25 | G51: =F51*E51 -> 708.11184 | H51: =F51/D51 -> 0.22644928 | J51: =I51*E51 -> 0 | K51: =I51/D51 -> 0 | L51: =F51+I51 -> 1.25 | M51: =G51+J51 -> 708.11184 | N51: =H51+K51 -> 0.22644928
...

Sheet MEMO CALCULO 05
B2: PREFEITURA MUNICIPAL DE SÃO ROQUE DO CANAÃ
B8: MEMÓRIA DE CÁLCULO 5ª MEDIÇÃO
B9: OBRA: REFORMA UNIDADE BÁSICA DE SAÚDE “ETHEVALDO FRANCISCO ROLDI” (UBS SEDE) | D9: DATA: 16/10/2024
B10: LOCAL:RUA OLÍVIO PERINI, Nº 107, BAIRRO CINCO CASINHAS, SÃO ROQUE DO CANAÃ/ES
B11: ITEM | C11: DESCRIÇÃO | D11: UND | E11: QUANT.
B12: 2 | C12: =VLOOKUP(B12,'MEDIÇÃO 5'!$A$20:$C$111,2,0) -> SERVIÇOS PRELIMINARES
C13: Retirada de rodapé de madeira ou cerâmica | D13: m | E13: =SUM(D14:D14) -> 49.53
B14: quantidade de rodapé removido: 49,53 m | D14: 49.53
B15: 2.10 | C15: =VLOOKUP(B15,'MEDIÇÃO 5'!$A$20:$C$111,2,0) -> Demolição de piso granilite | D15: =VLOOKUP(B15,'MEDIÇÃO 5'!$A$20:$C$98,3,0) -> m2 | E15: =SUM(D16:D16) -> 38.23
B16: área de piso demolido: 38,23 m² | D16: 38.23
B18: 3 | C18: =VLOOKUP(B18,'MEDIÇÃO 5'!$A$20:$C$111,2,0) -> PAREDES E PAINÉIS
B19: 3.3 | C19: =VLOOKUP(B19,'MEDIÇÃO 5'!$A$20:$C$111,2,0) -> Parede com placas de gesso acartonado (DRYWALL), para uso interno, com duas faces simples e estrutura metálica com guias duplas, com vãos. | D19: =VLOOKUP(B19,'MEDIÇÃO 5'!$A$20:$C$98,3,0) -> m2 | E19: =SUM(D20:D20) -> 7.14
B20: Área de parede Drywall instalada: 7,14 m² | D20: 7.14
B22: 4 | C22: =VLOOKUP(B22,'MEDIÇÃO 5'!$A$20:$C$111,2,0) -> ESQUADRIAS DE MADEIRA
B23: 4.1 | C23: =VLOOKUP(B23,'MEDIÇÃO 5'!$A$20:$C$111,2,0) -> Marco de madeira de lei de 1ª (Peroba, Ipê, Angelim Pedra ou equivalente) com 15x3 cm de batente, nas dimensões de 0.80 x 2.10 m | D23: =VLOOKUP(B23,'MEDIÇÃO 5'!$A$20:$C$98,3,0) -> und | E23: =SUM(D24:D24) -> 1
B24: Marcos instalados: 1,00 und | D24: 1
B26: 8 | C26: =VLOOKUP(B26,'MEDIÇÃO 5'!$A$20:$C$111,2,0) -> INSTALAÇÕES HIDRO SANITÁRIAS
B27: 8.2 | C27: =VLOOKUP(B27,'MEDIÇÃO 5'!$A$20:$C$111,2,0) -> TORNEIRAS, REGISTRO, VÁLVULAS E METAIS
B28: 8.2.1 | C28: =VLOOKUP(B28,'MEDIÇÃO 5'!$A$20:$C$111,2,0) -> Ponto de água fria (lavatório, tanque, pia de cozinha, etc...) | D28: =VLOOKUP(B28,'MEDIÇÃO 5'!$A$20:$C$98,3,0) -> pt | E28: =D29 -> 1
B29: Pontos: 1,00 | D29: 1
B30: 8.2.2 | C30: =VLOOKUP(B30,'MEDIÇÃO 5'!$A$20:$C$111,2,0) -> Ponto para esgoto secundário (pia, lavatório, mictório, tanque, bidê, etc...) | D30: =VLOOKUP(B30,'MEDIÇÃO 5'!$A$20:$C$98,3,0) -> pt | E30: =D31 -> 1
B31: Pontos: 1,00 | D31: 1
B32: 8.2.5 | C32: =VLOOKUP(B32,'MEDIÇÃO 5'!$A$20:$C$111,2,0) -> Torneira pressão cromada diam. 1/2" para pia, marcas de referência Fabrimar, Deca ou Docol | D32: =VLOOKUP(B32,'MEDIÇÃO 5'!$A$20:$C$98,3,0) -> und | E32: =D33 -> 1
B33: Unidade: 1,00 | D33: 1
B35: 9 | C35: =VLOOKUP(B35,'MEDIÇÃO 5'!$A$20:$C$111,2,0) -> INSTALAÇÕES ELÉTRICAS
B36: 9.1 | C36: =VLOOKUP(B36,'MEDIÇÃO 5'!$A$20:$C$111,2,0) -> Ponto padrão de tomada 2 pólos mais terra - considerando eletroduto PVC rígido de 3/4" inclusive conexões (5.0m), fio isolado PVC de 2.5mm2 (16.5m) e caixa pvc 4x2" (1 und) | D36: =VLOOKUP(B36,'MEDIÇÃO 5'!$A$20:$C$98,3,0) -> und | E36: =D37 -> 7
B37: Pontos: 7,00 und | D37: 7
B38: 9.2 | C38: =VLOOKUP(B38,'MEDIÇÃO 5'!$A$20:$C$111,2,0) -> Tomada padrão brasileiro linha branca, NBR 14136 2 polos + terra 10A/250V, com placa 4x2" | D38: =VLOOKUP(B38,'MEDIÇÃO 5'!$A$20:$C$98,3,0) -> und | E38: =D39 -> 7
B39: Pontos: 7,00 und | D39: 7
B40: 9.3 | C40: =VLOOKUP(B40,'MEDIÇÃO 5'!$A$20:$C$111,2,0) -> Ponto padrão de luz no teto - considerando eletroduto PVC rígido de 3/4" inclusive conexões (4.5m), fio isolado PVC de 2.5mm2 (16.2m) e caixa PVC 4x4" (1 und) | D40: =VLOOKUP(B40,'MEDIÇÃO 5'!$A$20:$C$98,3,0) -> und | E40: =D41 -> 3
B41: Pontos: 3,00 und | D41: 3
B42: 9.4 | C42: =VLOOKUP(B42,'MEDIÇÃO 5'!$A$20:$C$111,2,0) -> Ponto padrão de interruptor de 1 tecla simples e 1 tomada dois pólos mais terra 10A/250V - considerando eletroduto PVC rígido de 3/4" inclusive conexões (4.5m), fio isolado PVC de 2.5mm2 (19.4m) e caixa PVC 4x2" (1 und) | D42: =VLOOKUP(B42,'MEDIÇÃO 5'!$A$20:$C$98,3,0) -> und | E42: =D43 -> 1
B43: Pontos: 1,00 und | D43: 1
B44: 9.5 | C44: =VLOOKUP(B44,'MEDIÇÃO 5'!$A$20:$C$111,2,0) -> Interruptor de uma tecla simples 10A/250V e uma tomada 3 polos 10A/250V, padrão brasileiro, NBR 14136, linha branca, com placa 4x2" | D44: =VLOOKUP(B44,'MEDIÇÃO 5'!$A$20:$C$98,3,0) -> und | E44: =D45 -> 2
B45: Interruptores: 2,00 und | D45: 2
B46: 9.6 | C46: =VLOOKUP(B46,'MEDIÇÃO 5'!$A$20:$C$111,2,0) -> Luminaria sobrepor compl., corpo ch. aço pintada branca, refletor, aletas parabólicas alum.alta pureza e refletância inclusive 2 lâmpadas LED T8 9/10W temp. de cor 5000k c/ 60cm - Ref. CS216AL-N - AMES, 1261 - LUMAVI OU EQUIVALENTE | D46: =VLOOKUP(B46,'MEDIÇÃO 5'!$A$20:$C$98,3,0) -> und | E46: =D47 -> 2
B47: Luminárias: 2,00 und | D47: 2
B49: 10 | C49: =VLOOKUP(B49,'MEDIÇÃO 5'!$A$20:$C$111,2,0) -> PINTURA
B50: 10.1 | C50: =VLOOKUP(B50,'MEDIÇÃO 5'!$A$20:$C$111,2,0) -> SOBRE PAREDES E FORROS
B51: 10.1.1 | C51: =VLOOKUP(B51,'MEDIÇÃO 5'!$A$20:$C$111,2,0) -> Emassamento de paredes e forros, com duas demãos de massa acrílica, marcas de referência Suvinil, Coral ou Metalatex | D51: =VLOOKUP(B51,'MEDIÇÃO 5'!$A$20:$C$98,3,0) -> m2 | E51: =D52 -> 87
...
