Workbook

Sheet MEDIÇÃO 9
A1: PREFEITURA MUNICIPAL DE SO ROQUE DO CANA Estado do Esprito Santo SECRETARIA MUNICIPAL DE OBRAS E SERVIÇOS URBANOS – SETOR DE ENGENHARIA
A12: BOLETIM DE MEDIÇÃO 09 | N12: DATA: 06/03/2025
A14: OBRA: REFORMA UNIDADE BÁSICA DE SAÚDE “ETHEVALDO FRANCISCO ROLDI” (UBS SEDE) | G14: CONTRATO Nº: | I14: 056/2024 | K14: Assinatura: 08/05/2024 | N14: INÍCIO: | P14: 45426
N15: TÉRMINO: | P15: 45726
A16: LOCAL: RUA OLÍVIO PERINI, Nº 107, BAIRRO CINCO CASINHAS, SÃO ROQUE DO CANAÃ/ES | G16: PERÍODO: | I16: 45658 | K16: a | L16: 45688 | N16: PRAZO: | P16: 120 dias + 90 dias + 90 dias
A17: EMPREITEIRA: FABIO JULIO ENGENHARIA LTDA | I17: =L18 -> MEDIÇÃO 09 | L17: =O129 -> 82489.347 | N17: % MÊS: | O17: =K129 -> 0.21202217 | P17: % ACUM: | Q17: =K130 -> 0.99999999
A18: ITEM | B18: ESPECIFICAÇÃO | C18: UNID. | D18: QUANT. | E18: PREÇO UNIT R$ | F18: 1º REPLANILHAMENTO | I18: ACUMULADO ANTERIOR | L18: MEDIÇÃO 09 | O18: TOTAL MEDIDO
F19: ACRÉSC. | G19: DECRÉSC | H19: QUANT. ATUALIZADA | I19: QUANT. | J19: TOTAL | K19: % | L19: QUANT. | M19: TOTAL | N19: % | O19: QUANT. | P19: TOTAL | Q19: %
A20: 1 | B20: INSTALAÇÃO DO CANTEIRO DE OBRAS | M20: =SUM(M21:M22) -> 0 | P20: =SUM(P21:P22) -> 11375.726
A21: 1.1 | B21: Placa de obra nas dimensões de 2.0 x 4.0 m, padrão DER | C21: m2 | D21: 8 | E21: 403.48363 | H21: =D21+F21-G21 -> 8 | I21: 8 | J21: =I21*E21 -> 3227.869 | K21: =I21/H21 -> 1 | M21: =L21*E21 -> 0 | N21: =L21/H21 -> 0 | O21: =I21+L21 -> 8 | P21: =J21+M21 -> 3227.869 | Q21: =K21+N21 -> 1
A22: 1.2 | B22: Barracão para almoxarifado área de 10.90m2, de chapa de compensado de 12mm e pontalete 8x8cm, piso cimentado e cobertura de telhas de fibrocimento de 6mm, incl. ponto de luz, conf. projeto (1 utilização) | C22: m2 | D22: 10.9 | E22: 747.50985 | H22: =D22+F22-G22 -> 10.9 | I22: 10.9 | J22: =I22*E22 -> 8147.8574 | K22: =I22/H22 -> 1 | M22: =L22*E22 -> 0 | N22: =L22/H22 -> 0 | O22: =I22+L22 -> 10.9 | P22: =J22+M22 -> 8147.8574 | Q22: =K22+N22 -> 1
A23: 2 | B23: SERVIÇOS PRELIMINARES | M23: =SUM(M24:M40) -> 0 | P23: =SUM(P24:P40) -> 18478.341
A24: 2.1 | B24: Demolição de alvenaria | C24: m3 | D24: 18.91 | E24: 70.267834 | H24: =D24+F24-G24 -> 18.91 | I24: 18.91 | J24: =I24*E24 -> 1328.7647 | K24: =I24/H24 -> 1 | M24: =L24*E24 -> 0 | N24: =L24/H24 -> 0 | O24: =I24+L24 -> 18.91 | P24: =J24+M24 -> 1328.7647 | Q24: =K24+N24 -> 1
A25: 2.2 | B25: Lixamento de parede com pintura antiga PVA para recebimento de nova camada de tinta | C25: m2 | D25: 463.58 | E25: 4.414669 | H25: =D25+F25-G25 -> 463.58 | I25: 463.58 | J25: =I25*E25 -> 2046.5523 | K25: =I25/H25 -> 1 | M25: =L25*E25 -> 0 | N25: =L25/H25 -> 0 | O25: =I25+L25 -> 463.58 | P25: =J25+M25 -> 2046.5523 | Q25: =K25+N25 -> 1
A26: 2.3 | B26: Retirada de bancada de pia | C26: m2 | D26: 8.88 | E26: 29.068333 | H26: =D26+F26-G26 -> 8.88 | I26: 8.88 | J26: =I26*E26 -> 258.1268 | K26: =I26/H26 -> 1 | M26: =L26*E26 -> 0 | N26: =L26/H26 -> 0 | O26: =I26+L26 -> 8.88 | P26: =J26+M26 -> 258.1268 | Q26: =K26+N26 -> 1
A27: 2.4 | B27: Retirada de portas e janelas de madeira, inclusive batentes | C27: m2 | D27: 15.96 | E27: 18.734828 | H27: =D27+F27-G27 -> 15.96 | I27: 15.96 | J27: =I27*E27 -> 299.00785 | K27: =I27/H27 -> 1 | M27: =L27*E27 -> 0 | N27: =L27/H27 -> 0 | O27: =I27+L27 -> 15.96 | P27: =J27+M27 -> 299.00785 | Q27: =K27+N27 -> 1
A28: 2.5 | B28: Retirada de revestimento antigo em reboco | C28: m2 | D28: 63.43 | E28: 11.715382 | H28: =D28+F28-G28 -> 63.43 | I28: 63.43 | J28: =I28*E28 -> 743.10668 | K28: =I28/H28 -> 1 | M28: =L28*E28 -> 0 | N28: =L28/H28 -> 0 | O28: =I28+L28 -> 63.43 | P28: =J28+M28 -> 743.10668 | Q28: =K28+N28 -> 1
B29: Retirada de rodapé de madeira ou cerâmica | C29: m | D29: 252.38 | E29: 2.727067 | H29: =D29+F29-G29 -> 252.38 | I29: 252.38 | J29: =I29*E29 -> 688.25717 | K29: =I29/H29 -> 1 | M29: =L29*E29 -> 0 | N29: =L29/H29 -> 0 | O29: =I29+L29 -> 252.38 | P29: =J29+M29 -> 688.25717 | Q29: =K29+N29 -> 1
A30: 2.6 | B30: Retirada de esquadrias metálicas | C30: m2 | D30: 7.8 | E30: 11.715382 | H30: =D30+F30-G30 -> 7.8 | I30: 7.8 | J30: =I30*E30 -> 91.37998 | K30: =I30/H30 -> 1 | M30: =L30*E30 -> 0 | N30: =L30/H30 -> 0 | O30: =I30+L30 -> 7.8 | P30: =J30+M30 -> 91.37998 | Q30: =K30+N30 -> 1
A31: 2.7 | B31: Retirada de torneiras e registros | C31: und | D31: 1 | E31: 12.815992 | H31: =D31+F31-G31 -> 1 | I31: 1 | J31: =I31*E31 -> 12.815992 | K31: =I31/H31 -> 1 | M31: =L31*E31 -> 0 | N31: =L31/H31 -> 0 | O31: =I31+L31 -> 1 | P31: =J31+M31 -> 12.815992 | Q31: =K31+N31 -> 1
A32: 2.8 | B32: Retirada de caixas/quadros elétricos | C32: und | D32: 2 | E32: 17.401867 | H32: =D32+F32-G32 -> 2 | I32: 2 | J32: =I32*E32 -> 34.803734 | K32: =I32/H32 -> 1 | M32: =L32*E32 -> 0 | N32: =L32/H32 -> 0 | O32: =I32+L32 -> 2 | P32: =J32+M32 -> 34.803734 | Q32: =K32+N32 -> 1
A33: 2.9 | B33: Retirada de pontos elétricos (luminárias, interruptores e tomadas) | C33: und | D33: 1 | E33: 12.815992 | H33: =D33+F33-G33 -> 1 | I33: 1 | J33: =I33*E33 -> 12.815992 | K33: =I33/H33 -> 1 | M33: =L33*E33 -> 0 | N33: =L33/H33 -> 0 | O33: =I33+L33 -> 1 | P33: =J33+M33 -> 12.815992 | Q33: =K33+N33 -> 1
A34: 2.10 | B34: Demolição de piso granilite | C34: m2 | D34: 319.3 | E34: 32.516911 | H34: =D34+F34-G34 -> 319.3 | I34: 319.3 | J34: =I34*E34 -> 10382.65 | K34: =I34/H34 -> 1 | M34: =L34*E34 -> 0 | N34: =L34/H34 -> 0 | O34: =I34+L34 -> 319.3 | P34: =J34+M34 -> 10382.65 | Q34: =K34+N34 -> 1
A35: 2.11 | B35: Abertura e fechamento de rasgos em alvenaria, para passagem de tubulações, diâm. 11/4" a 2" | C35: m | D35: 7.6 | E35: 22.427986 | H35: =D35+F35-G35 -> 7.6 | I35: 7.6 | J35: =I35*E35 -> 170.45269 | K35: =I35/H35 -> 1 | M35: =L35*E35 -> 0 | N35: =L35/H35 -> 0 | O35: =I35+L35 -> 7.6 | P35: =J35+M35 -> 170.45269 | Q35: =K35+N35 -> 1
A36: 2.12 | B36: Apicoamento de superfície com revestimento em argamassa | C36: m2 | D36: 36.85 | E36: 11.715382 | H36: =D36+F36-G36 -> 36.85 | I36: 36.85 | J36: =I36*E36 -> 431.71183 | K36: =I36/H36 -> 1 | M36: =L36*E36 -> 0 | N36: =L36/H36 -> 0 | O36: =I36+L36 -> 36.85 | P36: =J36+M36 -> 431.71183 | Q36: =K36+N36 -> 1
A37: 2.13 | B37: Remoção de vidro temperado fixado em perfil u. | C37: m2 | D37: 5.52 | E37: 15.462348 | H37: =D37+F37-G37 -> 5.52 | I37: 5.52 | J37: =I37*E37 -> 85.352159 | K37: =I37/H37 -> 1 | M37: =L37*E37 -> 0 | N37: =L37/H37 -> 0 | O37: =I37+L37 -> 5.52 | P37: =J37+M37 -> 85.352159 | Q37: =K37+N37 -> 1
A38: 2.14 | B38: Remoção de telhas, de fibrocimento, metálica e cerâmica, de forma manual, sem reaproveitamento | C38: m2 | D38: 182.62 | E38: 3.3727582 | H38: =D38+F38-G38 -> 182.62 | I38: 182.62 | J38: =I38*E38 -> 615.9331 | K38: =I38/H38 -> 1 | M38: =L38*E38 -> 0 | N38: =L38/H38 -> 0 | O38: =I38+L38 -> 182.62 | P38: =J38+M38 -> 615.9331 | Q38: =K38+N38 -> 1
A39: 2.15 | B39: Lixamento de madeira para aplicação de fundo ou pintura | C39: m2 | D39: 73.07 | E39: 2.274594 | H39: =D39+F39-G39 -> 73.07 | I39: 73.07 | J39: =I39*E39 -> 166.20458 | K39: =I39/H39 -> 1 | M39: =L39*E39 -> 0 | N39: =L39/H39 -> 0 | O39: =I39+L39 -> 73.07 | P39: =J39+M39 -> 166.20458 | Q39: =K39+N39 -> 1
A40: 2.16 | B40: Remoção de forro de gesso, de forma manual, sem reaproveitamento | C40: m2 | D40: 369.11 | E40: 3.008334 | H40: =D40+F40-G40 -> 369.11 | I40: 369.11 | J40: =I40*E40 -> 1110.4062 | K40: =I40/H40 -> 1 | M40: =L40*E40 -> 0 | N40: =L40/H40 -> 0 | O40: =I40+L40 -> 369.11 | P40: =J40+M40 -> 1110.4062 | Q40: =K40+N40 -> 1
A41: 3 | B41: PAREDES E PAINÉIS | M41: =SUM(M42:M44) -> 0 | P41: =SUM(P42:P44) -> 9207.4744
A42: 3.1 | B42: Alvenaria de blocos cerâmicos 10 furos 10x20x20cm, assentados c/argamassa de cimento, cal hidratada CH1 e areia traço 1:0,5:8, esp. das juntas 12mm e esp. das paredes s/revestimento, 10cm (bloco comprado na fábrica, posto obra) | C42: m2 | D42: 46.94 | E42: 80.258927 | H42: =D42+F42-G42 -> 46.94 | I42: 46.94 | J42: =I42*E42 -> 3767.354 | K42: =I42/H42 -> 1 | M42: =L42*E42 -> 0 | N42: =L42/H42 -> 0 | O42: =I42+L42 -> 46.94 | P42: =J42+M42 -> 3767.354 | Q42: =K42+N42 -> 1
A43: 3.2 | B43: Verga/contraverga reta de concreto armado 10 x 5 cm, Fck = 15 MPa, inclusive forma, armação e desforma | C43: m | D43: 7.6 | E43: 11.409657 | H43: =D43+F43-G43 -> 7.6 | I43: 7.6 | J43: =I43*E43 -> 86.713393 | K43: =I43/H43 -> 1 | M43: =L43*E43 -> 0 | N43: =L43/H43 -> 0 | O43: =I43+L43 -> 7.6 | P43: =J43+M43 -> 86.713393 | Q43: =K43+N43 -> 1
A44: 3.3 | B44: Parede com placas de gesso acartonado (DRYWALL), para uso interno, com duas faces simples e estrutura metálica com guias duplas, com vãos. | C44: m2 | D44: 28.05 | E44: 190.8523 | H44: =D44+F44-G44 -> 28.05 | I44: 28.05 | J44: =I44*E44 -> 5353.407 | K44: =I44/H44 -> 1 | M44: =L44*E44 -> 0 | N44: =L44/H44 -> 0 | O44: =I44+L44 -> 28.05 | P44: =J44+M44 -> 5353.407 | Q44: =K44+N44 -> 1
A45: 4 | B45: ESQUADRIAS DE MADEIRA | M45: =SUM(M46:M49) -> 8869.8502 | P45: =SUM(P46:P49) -> 24883.444
A46: 4.1 | B46: Marco de madeira de lei de 1ª (Peroba, Ipê, Angelim Pedra ou equivalente) com 15x3 cm de batente, nas dimensões de 0.80 x 2.10 m | C46: und | D46: 5 | E46: 489.58801 | H46: =D46+F46-G46 -> 5 | I46: 5 | J46: =I46*E46 -> 2447.9401 | K46: =I46/H46 -> 1 | M46: =L46*E46 -> 0 | N46: =L46/H46 -> 0 | O46: =I46+L46 -> 5 | P46: =J46+M46 -> 2447.9401 | Q46: =K46+N46 -> 1
A47: 4.2 | B47: Recolocação de porta em madeira de lei tipo angelim pedra ou equiv.c/enchimento em madeira 1a.qualidade esp. 30mm p/ pintura, inclusive alizares, dobradiças e fechadura externa em latão cromado LaFonte ou equiv., exclusive marco e porta, nas dim.: 0.80 x 2.10 m | C47: und. | D47: 5 | E47: 1108.7313 | F47: 8 | H47: =D47+F47-G47 -> 13 | I47: 5 | J47: =I47*E47 -> 5543.6564 | K47: =I47/H47 -> 0.38461538 | L47: 8 | M47: =L47*E47 -> 8869.8502 | N47: =L47/H47 -> 0.61538462 | O47: =I47+L47 -> 13 | P47: =J47+M47 -> 14413.507 | Q47: =K47+N47 -> 1
A48: 4.3 | B48: Porta radiológica em mad/mad de lei, p/pintura, dim: 0,92x2,12m, laminado de chumbo embutido, e=2mm, dobradiças reforçadas, fechadura autoblocante, marca Arouca, ref.: 108449/40-Z-ZCE ou similar, maçaneta tipo alavanca, inclusive batentes de madeira. | C48: und. | D48: 1 | E48: 7560.2542 | H48: =D48+F48-G48 -> 1 | I48: 1 | J48: =I48*E48 -> 7560.2542 | K48: =I48/H48 -> 1 | M48: =L48*E48 -> 0 | N48: =L48/H48 -> 0 | O48: =I48+L48 -> 1 | P48: =J48+M48 -> 7560.2542 | Q48: =K48+N48 -> 1
A49: 4.4 | B49: Recolocação de Porta de madeira compensada lisa para pintura, 120x210x3,5cm, 2 folhas , incluso aduela 2a, alizar 2a e dobradiças, exclusive porta. | C49: und. | D49: 1 | E49: 461.74258 | H49: =D49+F49-G49 -> 1 | I49: 1 | J49: =I49*E49 -> 461.74258 | K49: =I49/H49 -> 1 | M49: =L49*E49 -> 0 | N49: =L49/H49 -> 0 | O49: =I49+L49 -> 1 | P49: =J49+M49 -> 461.74258 | Q49: =K49+N49 -> 1
A50: 5 | B50: VIDROS | M50: =SUM(M51:M52) -> 98.392208 | P50: =SUM(P51:P52) -> 3225.4141
A51: 5.1 | B51: Instalação de vidro temperado, e = 10 mm, encaixado em perfil u | C51: m2 | D51: 5.52 | E51: 566.48947 | H51: =D51+F51-G51 -> 5.52 | I51: 5.52 | J51: =I51*E51 -> 3127.0219 | K51: =I51/H51 -> 1 | M51: =L51*E51 -> 0 | N51: =L51/H51 -> 0 | O51: =I51+L51 -> 5.52 | P51: =J51+M51 -> 3127.0219 | Q51: =K51+N51 -> 1
...

Sheet MEMO CALCULO 09
B2: PREFEITURA MUNICIPAL DE SÃO ROQUE DO CANAÃ
B8: MEMÓRIA DE CÁLCULO 9ª MEDIÇÃO
B9: OBRA: REFORMA UNIDADE BÁSICA DE SAÚDE “ETHEVALDO FRANCISCO ROLDI” (UBS SEDE) | D9: DATA: 06/03/2025
B10: LOCAL:RUA OLÍVIO PERINI, Nº 107, BAIRRO CINCO CASINHAS, SÃO ROQUE DO CANAÃ/ES
B11: ITEM | C11: DESCRIÇÃO | D11: UND | E11: QUANT.
B12: 4 | C12: =VLOOKUP(B12,'MEDIÇÃO 9'!$A$20:$C$126,2,0) -> ESQUADRIAS DE MADEIRA
B13: 4.2 | C13: =VLOOKUP(B13,'MEDIÇÃO 9'!$A$20:$C$126,2,0) -> Recolocação de porta em madeira de lei tipo angelim pedra ou equiv.c/enchimento em madeira 1a.qualidade esp. 30mm p/ pintura, inclusive alizares, dobradiças e fechadura externa em latão cromado LaFonte ou equiv., exclusive marco e porta, nas dim.: 0.80 x 2.10 m | D13: =VLOOKUP(B13,'MEDIÇÃO 9'!$A$20:$C$112,3,0) -> und. | E13: =SUM(D14:D14) -> 8
B14: 8,00 unidades | D14: 8
B16: 5 | C16: =VLOOKUP(B16,'MEDIÇÃO 9'!$A$20:$C$126,2,0) -> VIDROS
B17: 5.2 | C17: =VLOOKUP(B17,'MEDIÇÃO 9'!$A$20:$C$126,2,0) -> Silicone acetico uso geral incolor 280 g | D17: =VLOOKUP(B17,'MEDIÇÃO 9'!$A$20:$C$112,3,0) -> und | E17: =D18 -> 4
B18: 4,00 unidades | D18: 4
B20: 6 | C20: =VLOOKUP(B20,'MEDIÇÃO 9'!$A$20:$C$126,2,0) -> REVESTIMENTOS
B21: 6.6 | C21: =VLOOKUP(B21,'MEDIÇÃO 9'!$A$20:$C$126,2,0) -> Pastilha cerâmica branca 5 x 5 cm, assentada com argamassa de cimento colante e rejunte pré-fabricado, marcas de referência Atlas, Jatobá, NGK ou equivalentwe | D21: =VLOOKUP(B21,'MEDIÇÃO 9'!$A$20:$C$112,3,0) -> m2 | E21: =D22 -> 12
B22: 12,00 m² | D22: 12
B24: 7. | C24: =VLOOKUP(B24,'MEDIÇÃO 9'!$A$20:$C$126,2,0) -> PISO
B25: 7.2 | C25: =VLOOKUP(B25,'MEDIÇÃO 9'!$A$20:$C$126,2,0) -> Piso vinílico - flexível em manta, padrão liso, espessura 2mm, fixado com cola. | D25: =VLOOKUP(B25,'MEDIÇÃO 9'!$A$20:$C$125,3,0) -> m2 | E25: =D26 -> 33.62
B26: 33,62 m² | D26: 33.62
B27: 7.3 | C27: =VLOOKUP(B27,'MEDIÇÃO 9'!$A$20:$C$126,2,0) -> Rodapé vinílico flexível em manta, altura 10 cm. | D27: =VLOOKUP(B27,'MEDIÇÃO 9'!$A$20:$C$125,3,0) -> m | E27: =D28 -> 20.5
B28: 20,50 m | D28: 20.5
B30: 8 | C30: =VLOOKUP(B30,'MEDIÇÃO 9'!$A$20:$C$126,2,0) -> INSTALAÇÕES HIDRO SANITÁRIAS
B31: 8.1 | C31: =VLOOKUP(B31,'MEDIÇÃO 9'!$A$20:$C$126,2,0) -> APARELHOS HIDROSSANITÁRIOS
B32: 8.2.3 | C32: =VLOOKUP(B32,'MEDIÇÃO 9'!$A$20:$C$126,2,0) -> Tubo de PVC rígido soldável marrom, DN 25mm (3/4"), inclusive conexões | D32: =VLOOKUP(B32,'MEDIÇÃO 9'!$A$20:$C$125,3,0) -> m | E32: =D33 -> 33.62
B33: 33,62 m² | D33: 33.62
B34: 8.2 | C34: =VLOOKUP(B34,'MEDIÇÃO 9'!$A$20:$C$126,2,0) -> TORNEIRAS, REGISTRO, VÁLVULAS E METAIS
B35: 8.2.6 | C35: =VLOOKUP(B35,'MEDIÇÃO 9'!$A$20:$C$126,2,0) -> Torneira para tanque, marcas de referência Fabrimar, Deca ou Docol. | D35: =VLOOKUP(B35,'MEDIÇÃO 9'!$A$20:$C$125,3,0) -> und | E35: =D36 -> 1
B36: 1,00 unidade | D36: 1
B37: 8.2.7 | C37: =VLOOKUP(B37,'MEDIÇÃO 9'!$A$20:$C$126,2,0) -> Tanque simples de aço inox Fischer, mod. TQ1-S AISI 304, ou equivalente nas marcas Metalpress ou Mekal, inclusive válvula de metal 1 1/4" e sifão cromado 2", excl. torneira | D37: =VLOOKUP(B37,'MEDIÇÃO 9'!$A$20:$C$125,3,0) -> und | E37: =D38 -> 1
B38: 1,00 unidade | D38: 1
B40: 9 | C40: =VLOOKUP(B40,'MEDIÇÃO 9'!$A$20:$C$126,2,0) -> INSTALAÇÕES ELÉTRICAS
B41: 9.2 | C41: =VLOOKUP(B41,'MEDIÇÃO 9'!$A$20:$C$126,2,0) -> Tomada padrão brasileiro linha branca, NBR 14136 2 polos + terra 10A/250V, com placa 4x2" | D41: =VLOOKUP(B41,'MEDIÇÃO 9'!$A$20:$C$125,3,0) -> und | E41: =D42 -> 37
B42: 37,00 unidades | D42: 37
B43: 9.6 | C43: =VLOOKUP(B43,'MEDIÇÃO 9'!$A$20:$C$126,2,0) -> Luminaria sobrepor compl., corpo ch. aço pintada branca, refletor, aletas parabólicas alum.alta pureza e refletância inclusive 2 lâmpadas LED T8 9/10W temp. de cor 5000k c/ 60cm - Ref. CS216AL-N - AMES, 1261 - LUMAVI OU EQUIVALENTE | D43: =VLOOKUP(B43,'MEDIÇÃO 9'!$A$20:$C$125,3,0) -> und | E43: =D44 -> 41
B44: 41,00 unidades | D44: 41
B45: 9.12 | C45: =VLOOKUP(B45,'MEDIÇÃO 9'!$A$20:$C$126,2,0) -> Ponto padrão de tomada para ar refrigerado - considerando eletroduto PVC rígido de 3/4" inclusive conexões (6.0m), fio isolado PVC de 4.0mm2 (21.6m) e caixa PVC 4x2" (1 und) | D45: =VLOOKUP(B45,'MEDIÇÃO 9'!$A$20:$C$125,3,0) -> und | E45: =D46 -> 8
B46: 8,00 unidades | D46: 8
B47: 9.15 | C47: =VLOOKUP(B47,'MEDIÇÃO 9'!$A$20:$C$126,2,0) -> Eletroduto flexível corrugado 3/4" , marca de referência TIGRE | D47: =VLOOKUP(B47,'MEDIÇÃO 9'!$A$20:$C$125,3,0) -> m | E47: =D48 -> 118.2
B48: 118,20 m | D48: 118.2
B49: 9.16 | C49: =VLOOKUP(B49,'MEDIÇÃO 9'!$A$20:$C$126,2,0) -> Cabo de cobre termoplástico (PVC) flexível isolado 450/750V, antichama BWF livre de chumbo, 70ºC – 4,0mm2 | D49: =VLOOKUP(B49,'MEDIÇÃO 9'!$A$20:$C$125,3,0) -> m | E49: =D50 -> 295.8
B50: 295,80 m | D50: 295.8
B51: 9.17 | C51: =VLOOKUP(B51,'MEDIÇÃO 9'!$A$20:$C$126,2,0) -> Cabo de cobre termoplástico (PVC) flexível isolado 450/750V, antichama BWF livre de chumbo, 70ºC – 6,0mm2 | D51: =VLOOKUP(B51,'MEDIÇÃO 9'!$A$20:$C$125,3,0) -> m | E51: =D52 -> 69.6
...
